BEGIN:VCALENDAR
VERSION:2.0
PRODID:-//Westbeth - ECPv6.15.20//NONSGML v1.0//EN
CALSCALE:GREGORIAN
METHOD:PUBLISH
X-ORIGINAL-URL:https://westbeth.org
X-WR-CALDESC:Events for Westbeth
REFRESH-INTERVAL;VALUE=DURATION:PT1H
X-Robots-Tag:noindex
X-PUBLISHED-TTL:PT1H
BEGIN:VTIMEZONE
TZID:America/New_York
BEGIN:DAYLIGHT
TZOFFSETFROM:-0500
TZOFFSETTO:-0400
TZNAME:EDT
DTSTART:20240310T070000
END:DAYLIGHT
BEGIN:STANDARD
TZOFFSETFROM:-0400
TZOFFSETTO:-0500
TZNAME:EST
DTSTART:20241103T060000
END:STANDARD
BEGIN:DAYLIGHT
TZOFFSETFROM:-0500
TZOFFSETTO:-0400
TZNAME:EDT
DTSTART:20250309T070000
END:DAYLIGHT
BEGIN:STANDARD
TZOFFSETFROM:-0400
TZOFFSETTO:-0500
TZNAME:EST
DTSTART:20251102T060000
END:STANDARD
BEGIN:DAYLIGHT
TZOFFSETFROM:-0500
TZOFFSETTO:-0400
TZNAME:EDT
DTSTART:20260308T070000
END:DAYLIGHT
BEGIN:STANDARD
TZOFFSETFROM:-0400
TZOFFSETTO:-0500
TZNAME:EST
DTSTART:20261101T060000
END:STANDARD
END:VTIMEZONE
BEGIN:VEVENT
DTSTART;TZID=America/New_York:20251001T080000
DTEND;TZID=America/New_York:20251015T170000
DTSTAMP:20260423T094458
CREATED:20250912T163821Z
LAST-MODIFIED:20251018T012255Z
UID:10000833-1759305600-1760547600@westbeth.org
SUMMARY:Learn to Tango!  with Leonardo Sardella
DESCRIPTION:Click image to enlarge\n\nWednesdays\nOctober 1\, 8\, 15\, 2025\n6pm – 7pm\nFREE \nWestbeth Community Room\n155 Bank Street\n(enter through courtyard)\nNew York\, NY 10014 \nThis October\, come experience the passion and singular improvisational magic of Tango. In this three class series\, Leonardo Sardella\, an experienced and compassionate teacher\, will guide participants to the nuances of tango’s distinct embrace\, moving partners through walking\, pivoting\, shifting\, turning\, and more with a sensitive connection to music and rhythm. In celebration of Hispanic Heritage Month\, WARC presents this unique opportunity to TANGO!  \nThe New York Times described Sardella’s dancing as\, “Elegance\, musicality\, romance\, wit and serious glamor.”  \nFor more info\, ontact Ellie Kusner Westbeth Performance chair: westbethperformance@gmail.com \nLeonardo Sardella started dancing tango professionally in his hometown of Buenos Aires. He has trained with renowned tango instructors and  has performed on the best stages in Argentina with several dance companies: Colon theater and Cervantes theater among others.  \nHe moved to New York City in 2011 when he co-founded with Walter Perez Malevaje dance company; and later Friends of Argentine Tango – a non profit organization that brings shows and classes to seniors and schools kids\, working with City Center and performing for the schools at the City Center stage.  \nLeonardo has participated in the International Tango festivals worldwide and has performed and DJ in major cities in the United States and in England\, France\, Germany\, Italy\, Switzerland\, Sweden\, Denmark\, Iceland\, Dominican Republic \, Mexico\, Bolivia and Argentina.\nHe ranks very high on the list of the most important Argentine tango dancers and DJ. in the world that are capable of exchanging smoothly and creatively roles of leader and follower. \nHe worked as a jury for the Argentine Tango World Cup and other dance competitions.   \nLeonardo was the choreographer of Male Tango\, (IATI theatre) which was recognized with two HOLA (Hispanic Organization of Latin Actors) awards (Outstanding performance in musical theater: Leonardo Sardella – and Outstanding Musical production\, and Two Latin ACE Awards (Asociación de Cronistas de Espectáculos de NY) nominations (Best Director – best choreographer)\nFor the last two years he was also part of Lincoln Center’s Midsummer Night Swing – teaching and performing with renowned Argentine electronic tango band Tanghetto and the típica Messies.  \nRecently je opened and directs the NYCity tango school\, in the heart of NYC.
URL:https://westbeth.org/event/learn-to-tango-with-leonardo-sardella/
LOCATION:Westbeth Community Room
CATEGORIES:past-events
ATTACH;FMTTYPE=image/png:https://westbeth.org/wp-content/uploads/2025/09/Tango-blue-IG.png
END:VEVENT
END:VCALENDAR