BEGIN:VCALENDAR
VERSION:2.0
PRODID:-//Westbeth - ECPv6.15.20//NONSGML v1.0//EN
CALSCALE:GREGORIAN
METHOD:PUBLISH
X-ORIGINAL-URL:https://westbeth.org
X-WR-CALDESC:Events for Westbeth
REFRESH-INTERVAL;VALUE=DURATION:PT1H
X-Robots-Tag:noindex
X-PUBLISHED-TTL:PT1H
BEGIN:VTIMEZONE
TZID:America/New_York
BEGIN:DAYLIGHT
TZOFFSETFROM:-0500
TZOFFSETTO:-0400
TZNAME:EDT
DTSTART:20240310T070000
END:DAYLIGHT
BEGIN:STANDARD
TZOFFSETFROM:-0400
TZOFFSETTO:-0500
TZNAME:EST
DTSTART:20241103T060000
END:STANDARD
BEGIN:DAYLIGHT
TZOFFSETFROM:-0500
TZOFFSETTO:-0400
TZNAME:EDT
DTSTART:20250309T070000
END:DAYLIGHT
BEGIN:STANDARD
TZOFFSETFROM:-0400
TZOFFSETTO:-0500
TZNAME:EST
DTSTART:20251102T060000
END:STANDARD
BEGIN:DAYLIGHT
TZOFFSETFROM:-0500
TZOFFSETTO:-0400
TZNAME:EDT
DTSTART:20260308T070000
END:DAYLIGHT
BEGIN:STANDARD
TZOFFSETFROM:-0400
TZOFFSETTO:-0500
TZNAME:EST
DTSTART:20261101T060000
END:STANDARD
END:VTIMEZONE
BEGIN:VEVENT
DTSTART;TZID=America/New_York:20250318T190000
DTEND;TZID=America/New_York:20250318T200000
DTSTAMP:20260423T142810
CREATED:20250215T024907Z
LAST-MODIFIED:20250320T151933Z
UID:10000726-1742324400-1742328000@westbeth.org
SUMMARY:The Twilight of Bohemia: Westbeth and the Last Artists in New York  Peter Trachtenberg  Book Launch
DESCRIPTION:Click to enlarge \nTuesday March 18\, 2025 at 7pm\nWestbeth Comunity Room\n155 Bank St\nNew York\, NY 10014 \nBOOK DESCRIPTION\nAn intimate history of Westbeth\, told through the stories of nine of its artist residents. The Twilight of Bohemia also explores the changing notions of what it means to be a successful artist and the heartbreaking difficulty of surviving as one at our present cultural moment. \nREVIEW EXCERPTS\n“Who would have thought that a book about artist housing in Lower Manhattan would be impossible to put down? The force and beauty and clarity of Peter Trachtenberg’s writing is what makes The Twilight of Bohemia a page-turner about so much more than the characters we meet and the lost world of New York City that it so vividly evokes.”\n— Francine Prose\, Vixen \n“Reading The Twilight of Bohemia\, I had the feeling that its subject—a complex of buildings—had been condensed into book form through some Borgesian literary-alchemical process. This work is elegiac\, intimate\, and wry. Trachtenberg tells interlacing tales of an architectural entity\, artists who have lived as neighbors for fifty years\, an art world that now only exists in New York City’s rear-view mirror\, and a friendship that began in youth and ended with suicide in Westbeth. But the book is also a true historical document\, detailed and precise. And completely crucial.” – Nelly Reifler\, Elect H. Mouse State Judge \n“Beautiful! How often have you read a great book and thought\, ‘Why can’t I live there? Why can’t I live that story?’ . . . Trachtenberg has artfully\, tenderly\, and wisely recreated New York City’s legendary Westbeth artists’ community through the stories of dozens of artists who lived there\, himself included. The result is a messy tale of love and loss anchored in the equally messy act of creation. . . . It is a story that left this reader hungering for more.”\n— Mary Gabriel\, Ninth Street Women: Lee Krasner\, Elaine de Kooning\, Grace Hartigan\, Joan Mitchell\, and Helen Frankenthaler: Five Painters and the Movement That Changed Modern Art \nBIO\nPeter Trachtenberg is the author of the memoir 7 Tattoos\, The Book of Calamities: Five Questions About Suffering and Its Meaning\, and Another Insane Devotion\, a 2012 New York Times Editors’ Choice. His honors include Whit­ing and Guggenheim Fellowships and the Nelson Algren Award for Short Fiction. He is a professor emeritus in the Writing Program of the University of Pittsburgh. He has been connected to Westbeth since the 1970s and lived in the building from 1995 to 2006.
URL:https://westbeth.org/event/peter-trachtenberg-book-launch-the-twilight-of-bohemia-westbeth-and-the-last-artsts-in-new-york/
LOCATION:Westbeth Community Room
CATEGORIES:past-events
ATTACH;FMTTYPE=image/jpeg:https://westbeth.org/wp-content/uploads/2025/02/Peter-Trachtenberg-Westbeth-book-SQ.jpg
END:VEVENT
END:VCALENDAR