BEGIN:VCALENDAR
VERSION:2.0
PRODID:-//Westbeth - ECPv6.15.20//NONSGML v1.0//EN
CALSCALE:GREGORIAN
METHOD:PUBLISH
X-ORIGINAL-URL:https://westbeth.org
X-WR-CALDESC:Events for Westbeth
REFRESH-INTERVAL;VALUE=DURATION:PT1H
X-Robots-Tag:noindex
X-PUBLISHED-TTL:PT1H
BEGIN:VTIMEZONE
TZID:America/New_York
BEGIN:DAYLIGHT
TZOFFSETFROM:-0500
TZOFFSETTO:-0400
TZNAME:EDT
DTSTART:20230312T070000
END:DAYLIGHT
BEGIN:STANDARD
TZOFFSETFROM:-0400
TZOFFSETTO:-0500
TZNAME:EST
DTSTART:20231105T060000
END:STANDARD
BEGIN:DAYLIGHT
TZOFFSETFROM:-0500
TZOFFSETTO:-0400
TZNAME:EDT
DTSTART:20240310T070000
END:DAYLIGHT
BEGIN:STANDARD
TZOFFSETFROM:-0400
TZOFFSETTO:-0500
TZNAME:EST
DTSTART:20241103T060000
END:STANDARD
BEGIN:DAYLIGHT
TZOFFSETFROM:-0500
TZOFFSETTO:-0400
TZNAME:EDT
DTSTART:20250309T070000
END:DAYLIGHT
BEGIN:STANDARD
TZOFFSETFROM:-0400
TZOFFSETTO:-0500
TZNAME:EST
DTSTART:20251102T060000
END:STANDARD
BEGIN:DAYLIGHT
TZOFFSETFROM:-0500
TZOFFSETTO:-0400
TZNAME:EDT
DTSTART:20260308T070000
END:DAYLIGHT
BEGIN:STANDARD
TZOFFSETFROM:-0400
TZOFFSETTO:-0500
TZNAME:EST
DTSTART:20261101T060000
END:STANDARD
BEGIN:DAYLIGHT
TZOFFSETFROM:-0500
TZOFFSETTO:-0400
TZNAME:EDT
DTSTART:20270314T070000
END:DAYLIGHT
BEGIN:STANDARD
TZOFFSETFROM:-0400
TZOFFSETTO:-0500
TZNAME:EST
DTSTART:20271107T060000
END:STANDARD
END:VTIMEZONE
BEGIN:VEVENT
DTSTART;TZID=America/New_York:20260307T140000
DTEND;TZID=America/New_York:20260322T150000
DTSTAMP:20260423T094703
CREATED:20260201T215728Z
LAST-MODIFIED:20260331T223600Z
UID:10000979-1772892000-1774191600@westbeth.org
SUMMARY:Penny Jones & Puppets Co presents Toby's Circus
DESCRIPTION:SAT AND SUN March 7\,8\, 2026 at 2pm\nSUN March 22\, 2026 at 2pm \nWestbeth Community Room\n155 Bank Street\n (enter through courtyard)\nNew York\, NY 10015 \nTickets at EVENTRBRITE \nClick Images to enlarge
URL:https://westbeth.org/event/penny-jones-puppets-co-presents-tobys-circus/
LOCATION:Westbeth Community Room
CATEGORIES:past-events
ATTACH;FMTTYPE=image/png:https://westbeth.org/wp-content/uploads/2026/03/TOBY-PENNY-JONES-SQ-MARCH.png
END:VEVENT
BEGIN:VEVENT
DTSTART;TZID=America/New_York:20250316T130000
DTEND;TZID=America/New_York:20250420T150000
DTSTAMP:20260423T094703
CREATED:20250106T220523Z
LAST-MODIFIED:20250417T195032Z
UID:10000737-1742130000-1745161200@westbeth.org
SUMMARY:Penny Jones & Co PuppetsToby's Magic Forest
DESCRIPTION:Sundays\nMarch 16 & 23\nApril 6 & 13\n2025\nat 1pm \nCome help make Spring bloom! \nWestbeth Community Rm\n155 Bank St\nNew York\, NY\n(enter through courtyard\nbetween West and Washington Sts. ) \nFun and funny things happen in the magic forest. The children raise flowers and even help to make Spring. A fan favorite because the children get to do so much. This is interactive puppet theater in an intimate space for young children. With lots of participation\, fun and games\, and magic. The Early Childhood Puppet Theatre’s first show- now even better. A hit for generations. With Jack\, the Pied Piper and Mother Goose’s silly little dog Toby. – And make a puppet to take home after the show! \n“The puppets are charming\, the program never overexcites the audience\, although there’s lots of room for participation” – The New York Times\n“Real warmth and gentleness.” -New York Magazine \nPENNY JONES & Co. PUPPETS\nEarly Childhood Puppet Theatre www.pennypuppets.org \nA VILLAGE GEM FOR 50 YEARS \n“Very simple\, and perfect as an introduction to theatre.” -New York Magazine\n“Charming.” -The New York Times\n2024-25 REPERTORY SEASON \nTickets on sale at pennypuppets.org and Eventbrite\nTickets are $15 for all ages\nShow Times: 1 PM\nAll Ages – Great for 2 to 8\nStroller Parking\nShows Run about 45 Minutes\nworkshop follows\nInformation: (212) 924-0525 \nhttp://www.pennypuppets.org \nBUS AND SUBWAY: M14A\, M11\, M20\, (2 blocks)\nA\, C\, E\, L\, 1\, 2\, 3 (5 or 6 blocks) \n“A Child’s first experience with theater is important and forming. Quality counts.” – Penny Jones \nPENNY JONES & CO. PUPPETS has been a mainstay of children’s theater in New York since the 1970’s. The company specializes in informal puppet shows for children aged three to eight\, and puppet ballets with live music for audiences of adults\, children or both. The company performs in collaboration with chamber ensembles and orchestras. The repertory includes adaptations of classical works as well as original stories and scores. Penny is the winner of the Puppeteers of America Education Award. In schools\, the company has performed hundreds of times\, and Penny has a wide variety of programs from puppet pageants with a cast and crew of 30 to 90 school children\, to workshops for small classes\, and Penny’s “One on One” – interweaving puppetry\, storytelling\, movement and arts. \nThe company has appeared on television\, in the Henson International Puppet Festival at the Public Theatre\, The Metropolitan Museum of Art\, at BAM with the Brooklyn Philharmonic\, at City Center\, Avery Fisher Hall\, and in museums including The Museum of the City of New York\, The Children’s Museum of New York\, the American Museum of Natural History\, at Emelin\, Wave Hill\, the Washington Square Music Festival\, at venues from Macy’s to Barnes & Noble\, and with orchestras at Bargemusic\, Casa de España\, Greenwich House Music School\, with the New Jersey Symphony\, up on the Highline\, out on the piers -and many\, many\, more…
URL:https://westbeth.org/event/penny-jones-co-puppets-presents-tobys-magic-forest/
LOCATION:Westbeth Community Room
CATEGORIES:past-events
ATTACH;FMTTYPE=image/png:https://westbeth.org/wp-content/uploads/2025/03/Screenshot-2025-03-06-at-5.07.14-PM.png
END:VEVENT
BEGIN:VEVENT
DTSTART;TZID=America/New_York:20241222T130000
DTEND;TZID=America/New_York:20241229T143000
DTSTAMP:20260423T094703
CREATED:20241208T233455Z
LAST-MODIFIED:20241230T163420Z
UID:10000690-1734872400-1735482600@westbeth.org
SUMMARY:Toby's Holiday Spectacular  Penny Jones @ Co Puppets
DESCRIPTION:
URL:https://westbeth.org/event/tobys-holiday-spectacular/
LOCATION:Westbeth Community Room
CATEGORIES:past-events
ATTACH;FMTTYPE=image/png:https://westbeth.org/wp-content/uploads/2024/12/Screenshot-2024-12-08-at-6.08.19-PM.png
END:VEVENT
END:VCALENDAR