BEGIN:VCALENDAR
VERSION:2.0
PRODID:-//Westbeth - ECPv6.15.20//NONSGML v1.0//EN
CALSCALE:GREGORIAN
METHOD:PUBLISH
X-ORIGINAL-URL:https://westbeth.org
X-WR-CALDESC:Events for Westbeth
REFRESH-INTERVAL;VALUE=DURATION:PT1H
X-Robots-Tag:noindex
X-PUBLISHED-TTL:PT1H
BEGIN:VTIMEZONE
TZID:America/New_York
BEGIN:DAYLIGHT
TZOFFSETFROM:-0500
TZOFFSETTO:-0400
TZNAME:EDT
DTSTART:20220313T070000
END:DAYLIGHT
BEGIN:STANDARD
TZOFFSETFROM:-0400
TZOFFSETTO:-0500
TZNAME:EST
DTSTART:20221106T060000
END:STANDARD
BEGIN:DAYLIGHT
TZOFFSETFROM:-0500
TZOFFSETTO:-0400
TZNAME:EDT
DTSTART:20230312T070000
END:DAYLIGHT
BEGIN:STANDARD
TZOFFSETFROM:-0400
TZOFFSETTO:-0500
TZNAME:EST
DTSTART:20231105T060000
END:STANDARD
BEGIN:DAYLIGHT
TZOFFSETFROM:-0500
TZOFFSETTO:-0400
TZNAME:EDT
DTSTART:20240310T070000
END:DAYLIGHT
BEGIN:STANDARD
TZOFFSETFROM:-0400
TZOFFSETTO:-0500
TZNAME:EST
DTSTART:20241103T060000
END:STANDARD
BEGIN:DAYLIGHT
TZOFFSETFROM:-0500
TZOFFSETTO:-0400
TZNAME:EDT
DTSTART:20250309T070000
END:DAYLIGHT
BEGIN:STANDARD
TZOFFSETFROM:-0400
TZOFFSETTO:-0500
TZNAME:EST
DTSTART:20251102T060000
END:STANDARD
END:VTIMEZONE
BEGIN:VEVENT
DTSTART;TZID=America/New_York:20231130T080000
DTEND;TZID=America/New_York:20240204T170000
DTSTAMP:20260423T112700
CREATED:20231205T032457Z
LAST-MODIFIED:20240122T010543Z
UID:10000436-1701331200-1707066000@westbeth.org
SUMMARY:Olive Ayhens Reconnections - In Kinship with Nature\, and Secrets in Place
DESCRIPTION:Lettuce Lake (detail) SECRETS IN PLACE at Tayloe Piggott Gallery Dec 14 – Feb 4\, 2024 \nWaves (detail) RECONNECTIONS – IN KINSHIP WITH NATURE United Nations Headquarters Nov 30 – Jan 15\, 2024 \n\nRECONNETIONS – IN KINSHIP WITH NATURE\nNov 30 – Jan 15\, 2024\nUnited Nations Headquarters\nUnited Nations Exhibition Space\n405 East 45th Street\nNew York\, NY \nVisitors have to check in at the Visitors Center at 1st Avenue and East 45th Street and  pass through a security check before entering building. \nRe-Connections: In Kinship With Nature blends artistic expression with environmental activism. The artists address the urgent need to live more responsibly within the Earth’s finite resources. Witness to floods\, rising waters and other man-made threats\, they imagine a future where we live in harmony with nature and feel an obligation to work together to take action and reverse this trend. \nSECRETS IN PLACE\nDec 14 – Feb 4\, 2024\nTayloe Pigott Gallery\nJackson Hole\, Wyoming \nSecrets in Place\, Ayhens’s first exhibition at Tayloe Piggott Gallery\, presents a selection of oil paintings and ink and watercolor works from the mid-1990s to the present. For the past forty years\, Ayhens has focused much of her practice on the creation of environmental allegories\, each as whimsical as they are catastrophic\, which fuse antithetical and imaginary worlds into “jumbled panoramas\,” according to Hyperallergic’s Stephen Maine. Her inventive contemporary landscapes amalgamate nature and man-made environments\, creating implausible realms of juxtaposed skyscrapers perched on cliffsides… \nMore about Olive Ayhens HERE
URL:https://westbeth.org/event/olive-ayhens-re-connections-in-kinship-with-nature-and-secrets-in-place/
LOCATION:UN Headquarters NYC and Tayloe Piggott Gallery Jackson Hole\, WY
CATEGORIES:past-events
ATTACH;FMTTYPE=image/png:https://westbeth.org/wp-content/uploads/2023/12/Screen-Shot-2023-12-14-at-8.31.16-PM.png
END:VEVENT
END:VCALENDAR