BEGIN:VCALENDAR
VERSION:2.0
PRODID:-//Westbeth - ECPv6.15.20//NONSGML v1.0//EN
CALSCALE:GREGORIAN
METHOD:PUBLISH
X-ORIGINAL-URL:https://westbeth.org
X-WR-CALDESC:Events for Westbeth
REFRESH-INTERVAL;VALUE=DURATION:PT1H
X-Robots-Tag:noindex
X-PUBLISHED-TTL:PT1H
BEGIN:VTIMEZONE
TZID:America/New_York
BEGIN:DAYLIGHT
TZOFFSETFROM:-0500
TZOFFSETTO:-0400
TZNAME:EDT
DTSTART:20230312T070000
END:DAYLIGHT
BEGIN:STANDARD
TZOFFSETFROM:-0400
TZOFFSETTO:-0500
TZNAME:EST
DTSTART:20231105T060000
END:STANDARD
BEGIN:DAYLIGHT
TZOFFSETFROM:-0500
TZOFFSETTO:-0400
TZNAME:EDT
DTSTART:20240310T070000
END:DAYLIGHT
BEGIN:STANDARD
TZOFFSETFROM:-0400
TZOFFSETTO:-0500
TZNAME:EST
DTSTART:20241103T060000
END:STANDARD
BEGIN:DAYLIGHT
TZOFFSETFROM:-0500
TZOFFSETTO:-0400
TZNAME:EDT
DTSTART:20250309T070000
END:DAYLIGHT
BEGIN:STANDARD
TZOFFSETFROM:-0400
TZOFFSETTO:-0500
TZNAME:EST
DTSTART:20251102T060000
END:STANDARD
END:VTIMEZONE
BEGIN:VEVENT
DTSTART;TZID=America/New_York:20240306T130000
DTEND;TZID=America/New_York:20240323T180000
DTSTAMP:20260423T060604
CREATED:20240304T170627Z
LAST-MODIFIED:20240324T200030Z
UID:10000459-1709730000-1711216800@westbeth.org
SUMMARY:Women on the Verge Exhibition of Artists  Affiliated with the29.art
DESCRIPTION:Click to enlarge \nMarch 6 – March 23\, 2024 \nOpening Reception: Wednesday\, March 6\, 2024 6pm – 8pm\nNote: The Westbeth Gallery will open at 6pm on that day. \nWestbeth Gallery\n55 Bethune Street\, NY\, NY\nGallery hours: Wednesday-Sunday\, 1-6 pm and by appointment \nWestbeth Gallery is pleased to present Women on the Verge\, a group exhibition of artists\naffiliated with the29.art\, a digital platform seeking to create opportunities for self-identified\nwomen working in the arts. It is a group of more than twenty-nine well-established\, mid-career\, and emerging artists\, diverse in practice\,\nmedium\, age\, ethnicity\, and background. \nThe exhibition is curated by Kathy Brew and features films\, art\, poetry\, and performance. \nParticipating Artists \nKathy Brew\nYoshiko Chuma\nMartha Edelheit\nMichelle Handelman\nJulia Heyward\njennifer jazz\nPamela Lawton\nStefani Mar\nAline Mare\nLucia Maria Minervini\nHelen Oji\n \nJanet Panetta\nJeanne Quinn\nMelinda Ring\nFelice Rosser\nLynne Sachs\nSusan Salinger\nMM Serra\nShelly Silver\nPamela Sneed\nLila Zemborain \nFor press inquiries and appointments\nSusan Salinger (917) 327-6201 or Kathy Brew (917) 592-4134 \nMore info: the29.art
URL:https://westbeth.org/event/women-on-the-verge-exhibition-of-artists-affiliated-with-the29-art/
LOCATION:Westbeth Gallery
CATEGORIES:past-events
ATTACH;FMTTYPE=image/jpeg:https://westbeth.org/wp-content/uploads/2024/02/WOMEN-ON-VERGE-WITH-NAMES.jpg
GEO:40.737051566887;-74.009218415339
END:VEVENT
BEGIN:VEVENT
DTSTART;TZID=America/New_York:20240203T130000
DTEND;TZID=America/New_York:20240224T180000
DTSTAMP:20260423T060604
CREATED:20231128T023130Z
LAST-MODIFIED:20240226T175741Z
UID:10000445-1706965200-1708797600@westbeth.org
SUMMARY:Dana Gordon Signs of LIfe Paintings from 2023
DESCRIPTION:Click to enlarge \nFeb 3- Feb 24\, 2024\nOpening Reception\nSunday Feb 3\, 2024 5pm – 7pm \nThe Westbeth Gallery is pleased to present an exhibition of 25 paintings from 2023 by Dana Gordon. \nDana Gordon is an American abstract painter who began his art career working\nas assistant to Tony Smith and George Sugarman in the late 1960s in New York. He studied painting at Brown University and Hunter College\, and photography with Aaron Siskind in Chicago. He was a professor of art\, mainly in the 1970s\, and his avant-garde films have been featured at MoMA and internationally. \nGordon’s painting has been seen in fifteen solo shows and many group shows in New York\,\nChicago\, Paris\, and Boca Raton\, including at such galleries as Andre Zarre\, Charles Cowles\,\n55 Mercer\, and The Painting Center in Manhattan\, and Sideshow in Brooklyn. \nIn 1974\, after making three-dimensional and shaped canvases and other avant-garde\nexperiments for about nine years\, Gordon decided to “start over”\, to find his own language\nof art. He put a simple white chalk mark on a piece of black paper\, and let things develop\nfreely from there. The marks went not only toward strokes and their arrangements\, lines\,\noutlines\, and abstract or figurish shapes\, but inevitably toward proto-languages\, too. He\nretained the use of pure color so essential to abstraction. \nGordon’s recent paintings (and writings) energize a revitalized appreciation of abstraction\nand its connection with the old and the new. \nDana Gordon was one of the principal founders of The Painting Center in New York in\n1993. In the same year one of his paintings was reproduced as the front cover of the Paris\nReview (issue no. 129). \nGordon’s work is in many collections\, including the Brooklyn Museum of Art\, M.I.T.\,\nAdelphi University\, and the Royal Belgian Film Archive\, and of Edward Albee\, Virgil\nThomson\, Hilton Kramer\, and James Panero. \nHis art received awards from the Pollock-Krasner Fdn.\, Rauschenberg’s Change Fdn.\,\nand university research grants\, and residencies at the Edward Albee Fdn.\, the Triangle Workshop\,\nand the Millay Colony. In 1978 he was the “runner-up” for the NEA’s US/UK Bicentennial Exchange Fellowship. \nCritical acclaim for Gordon’s work has included the L.A.Times\, 1978: “… for purists and\npioneers in pursuit of new perceptions.” John Russell in the NY Times in 1987 “…well\nworth seeking out…a painter of whom it would be good to see more.” Helen Harrison\, NY\nTimes\, 1994: “…beautiful paintings\, filled with the controlled exuberance of a carefully\norchestrated spectacle.”\nGrace Glueck\, NY Times\, 1997: “… a very lively eyefest.” James\nPanero\, in the New Criterion\, 2014: “While many artists paint widely\, Gordon paints\ndeeply…. Gordon knows ‘what only painting can do.’ ” David Cohen\, of Art Critical\, on\nGordon’s 2018 Paris show “Lucky Paris.” \nGordon has written about art for The Wall Street Journal\, The New Criterion\, The New\nYork Sun\, Commentary\, Delicious Line\, The Jerusalem Post\, and Painters’ Table.\nGordon says: “To paint I get into a frame of mind where I can bring everything to bear\,\nfocused on the moment of painting. A given subject is too limiting; painting’s potency is\ncomprehensive and open-ended and develops its own subject\, if allowed to. Abstract\nform underlies all visual art; form’s content expresses intellect and feeling. Painting is as\nalive as ever: after millenia why would our little era not have it\, it’s a sign of life. All art\nis now; in art there are no “other” cultures. My painting does not subvert\, it upholds art\nand reaches for beauty.” \nNext to the Hudson River\, in Manhattan’s West Village\, The Westbeth Gallery is an\nindependently curated gallery run by artists living in Westbeth\, a historic artist residence\nin a building converted in 1970 from the Bell Telephone Laboratories and on the National\nRegister of Historic Places.Westbeth also houses The New School for Drama\, and The Kitchen. \nHome Page image: Sea of Possibility (detail) oil on canvas 64 x 72 inches 2023 \nMore info: danagordon.art\n1danagordon@gmail.com\nInfo: westbethgallery@gmail.com
URL:https://westbeth.org/event/dana-gordon/
LOCATION:Westbeth Gallery
CATEGORIES:past-events
ATTACH;FMTTYPE=image/png:https://westbeth.org/wp-content/uploads/2023/11/DanaGordon_-SQ-11x8.5_RGB.png
GEO:40.737051566887;-74.009218415339
END:VEVENT
BEGIN:VEVENT
DTSTART;TZID=America/New_York:20240105T170000
DTEND;TZID=America/New_York:20240125T190000
DTSTAMP:20260423T060604
CREATED:20240111T133345Z
LAST-MODIFIED:20240130T193309Z
UID:10000438-1704474000-1706209200@westbeth.org
SUMMARY:Beyond the Surface:  Constructing DestructionGroup Show
DESCRIPTION:Click to enlarge \nShow Dates: January 5 – January 25\, 2024 \nWestbeth Gallery is pleased to launch its 2024 season with “Beyond the Surface: Constructing Destruction.” Curated by Vida Geranmayeh and Daniel G. Hill\, this exhibition brings together a diverse group of artists who challenge and expand the boundaries of painting\, drawing\, and sculpture. \nFeaturing Artists:\nGail Biederman\, Lily de Bont\, Daniel G. Hill\, Kathleen Kucka\, Steven Millar\, Gelah Penn\, David Rhodes\, Mary Schiliro\, Howard Schwartzberg\, Jan Maarten Voskuil \n“Beyond the Surface: Constructing Destruction” navigates the nuanced space between creation and disruption\, with a focus on transformative techniques and the integral role of materials in the creative process. The exhibition re-contextualizes the traditional mediums of painting and sculpture\, as each artist explores the dynamic interplay of contrasting transformations. In an era marked by global challenges\, the exhibition positions art as a platform for dialogue and positive change. It confronts self-censorship\, extends the reach of artistic expression\, and encourages viewers to investigate uncharted territories. By reexamining the familiar\, these artists discover new paths within established genres\, inspiring viewers to question and reconsider prevailing artistic notions. The exhibition underscores the importance of mastery of craft in achieving innovation\, often leading to an expansion of artistic boundaries. \nGail Biederman utilizes felt and yarn\, creating psychogeographic maps in her large-scale installations and intimate works on paper\, drawing upon experience and memory. \nLily de Bont radically reimagines the painter’s linen\, deconstructing the canvas into loose threads\, leading to complex compositions where gravity plays a pivotal role. \nDaniel G. Hill explores the physical and metaphorical roles of gravity in art\, creating self-reflexive pieces that provoke wonder and contemplation. \nKathleen Kucka uses burning as a transformative technique\, exploring rebirth and destruction through a personal language of forms and patterns. \nSteven Millar draws inspiration from diverse allusions\, from atmospheric phenomena like rainbows to symbolic objects such as memorial stones. Merging the handmade\, fabricated\, and found\, his pieces cultivate unique forms of expression. \nGelah Penn’s site-responsive installations and wall constructions blur the lines between drawing and sculpture\, orchestrating events of perceptual incident and psychological unease. \nDavid Rhodes’s paintings feature material brevity\, elemental facture and compelling visuality. He uses only black paint on canvas. The complex figure ground configurations and rhythmic pattern are typical.  \nMary Schiliro experiments with acrylic paint and Mylar\, exploring the tangible versus the ephemeral as metaphors for the human condition. Her work expands the boundaries of painting and presents new possibilities for presentation. \nHoward Schwartzberg uniquely employs paint and canvas to craft shapes\, pushing beyond traditional painting boundaries and exploring the canvas’s multidimensional roles in artistic expression. \nJan Maarten Voskuil stretches painting into the third dimension\, cutting and reconstructing canvases into modular forms that blur the lines between painting\, sculpture\, design\, and architecture. \nContact: Vida Geranmayeh (917) 838-1774 vida@gallerygeranmayeh.com \nGallery hours: Wednesday through Sunday\, 12pm–6pm and by appointment \nClosing Event/Artist Reception: Thursday\, January 25\, 2024\, 5-7pm \nWestbeth Gallery\, 55 Bethune Street\, New York\, NY 10014 www.westbeth.org
URL:https://westbeth.org/event/beyond-the-surface-constructing-destructiongroup-show-2/
LOCATION:Westbeth Gallery
CATEGORIES:past-events
ATTACH;FMTTYPE=image/jpeg:https://westbeth.org/wp-content/uploads/2023/12/Construction-DestrucT-SQ-REV-_1080x1080_Constructing-Destruction_white.jpg
GEO:40.737051566887;-74.009218415339
END:VEVENT
END:VCALENDAR