BEGIN:VCALENDAR
VERSION:2.0
PRODID:-//Westbeth - ECPv6.15.20//NONSGML v1.0//EN
CALSCALE:GREGORIAN
METHOD:PUBLISH
X-ORIGINAL-URL:https://westbeth.org
X-WR-CALDESC:Events for Westbeth
REFRESH-INTERVAL;VALUE=DURATION:PT1H
X-Robots-Tag:noindex
X-PUBLISHED-TTL:PT1H
BEGIN:VTIMEZONE
TZID:America/New_York
BEGIN:DAYLIGHT
TZOFFSETFROM:-0500
TZOFFSETTO:-0400
TZNAME:EDT
DTSTART:20230312T070000
END:DAYLIGHT
BEGIN:STANDARD
TZOFFSETFROM:-0400
TZOFFSETTO:-0500
TZNAME:EST
DTSTART:20231105T060000
END:STANDARD
BEGIN:DAYLIGHT
TZOFFSETFROM:-0500
TZOFFSETTO:-0400
TZNAME:EDT
DTSTART:20240310T070000
END:DAYLIGHT
BEGIN:STANDARD
TZOFFSETFROM:-0400
TZOFFSETTO:-0500
TZNAME:EST
DTSTART:20241103T060000
END:STANDARD
BEGIN:DAYLIGHT
TZOFFSETFROM:-0500
TZOFFSETTO:-0400
TZNAME:EDT
DTSTART:20250309T070000
END:DAYLIGHT
BEGIN:STANDARD
TZOFFSETFROM:-0400
TZOFFSETTO:-0500
TZNAME:EST
DTSTART:20251102T060000
END:STANDARD
BEGIN:DAYLIGHT
TZOFFSETFROM:-0500
TZOFFSETTO:-0400
TZNAME:EDT
DTSTART:20260308T070000
END:DAYLIGHT
BEGIN:STANDARD
TZOFFSETFROM:-0400
TZOFFSETTO:-0500
TZNAME:EST
DTSTART:20261101T060000
END:STANDARD
END:VTIMEZONE
BEGIN:VEVENT
DTSTART;VALUE=DATE:20241206
DTEND;VALUE=DATE:20250201
DTSTAMP:20260423T150513
CREATED:20241207T030004Z
LAST-MODIFIED:20250108T223048Z
UID:10000689-1733443200-1738367999@westbeth.org
SUMMARY:Within These Walls: Jazz at Westbeth An exhibit that celebrates Westbeth jazz musicians\, past and present
DESCRIPTION:
URL:https://westbeth.org/event/within-these-walls-jazz-at-westbeth/
LOCATION:Westbeth Lobby
CATEGORIES:past-events
ATTACH;FMTTYPE=image/png:https://westbeth.org/wp-content/uploads/2024/12/WITHIN-THESE-WALLS-e1736371350941.png
END:VEVENT
BEGIN:VEVENT
DTSTART;TZID=America/New_York:20241112T190000
DTEND;TZID=America/New_York:20241112T190000
DTSTAMP:20260423T150513
CREATED:20241106T021335Z
LAST-MODIFIED:20241116T014956Z
UID:10000674-1731438000-1731438000@westbeth.org
SUMMARY:Noel Haidu Trio: Live at Westbeth House Concert II with Gervis Myles and Tony Leone
DESCRIPTION:Tues Nov 12\, 2024 at 7pm\nWestbeth \nFor info email: noahhaidu@gmail.com . Include  “11/12” and  the number of reservations in the subject line.  \nFree \nJazz pianist and composer Noah Haidu combines modernism\, soul\, and swing to create what the Wall Street Journal has described as “his own compelling brand of pianism.”\nNoah started classical piano at age 6\, spurred on initially by fear of his vindictive piano teacher. Falling in love with Jazz at age 20\, the young pianist moved to NYC\, supporting himself as a waiter until he was fired for breaking one too many dishes.\nAfter paying his dues as a freelancer for many years\, Noah has lately toured and recorded with icons such as Billy Hart\, Buster Williams\, Lenny White and Steve Wilson. His Sunnyside Records albums garnered millions of streams and reached the top 5 in the JazzWeek radio charts. \nTony Leone: drummer of Little Feat\, George Coleman\, Slide Hampton.
URL:https://westbeth.org/event/noel-haidu-trio-live-at-westbeth-house-concert-ii-with-gervis-myles-and-tony-leone/
LOCATION:Westbeth Artists Housing
CATEGORIES:past-events
ATTACH;FMTTYPE=image/png:https://westbeth.org/wp-content/uploads/2024/11/noah-haidu-720593.png
END:VEVENT
BEGIN:VEVENT
DTSTART;TZID=America/New_York:20241024T193000
DTEND;TZID=America/New_York:20241024T203000
DTSTAMP:20260423T150513
CREATED:20241014T193823Z
LAST-MODIFIED:20241025T012158Z
UID:10000664-1729798200-1729801800@westbeth.org
SUMMARY:Noah Haidu Trio : NYC House Concert Featuring Nasheet Waits and Gervis Myles
DESCRIPTION:Click to enlarge \nJoin Noah’s trio for a free Westbeth house concert 10/24 at 7:30PM.\n Additional house party shows: 11/12\, 12/3\, 1/7\, 2/4\, 3/4   \nSend RSVP/details requests with ’10/24′ in the subject line:
URL:https://westbeth.org/event/noah-haidu-trio-featuring-nasheet-waits-and-gervis-myles/
LOCATION:Westbeth
CATEGORIES:past-events
ATTACH;FMTTYPE=image/jpeg:https://westbeth.org/wp-content/uploads/2024/10/Noah-Haidu-Gervais-and-Nasheet.jpg
END:VEVENT
END:VCALENDAR