BEGIN:VCALENDAR
VERSION:2.0
PRODID:-//Westbeth - ECPv6.15.20//NONSGML v1.0//EN
CALSCALE:GREGORIAN
METHOD:PUBLISH
X-ORIGINAL-URL:https://westbeth.org
X-WR-CALDESC:Events for Westbeth
REFRESH-INTERVAL;VALUE=DURATION:PT1H
X-Robots-Tag:noindex
X-PUBLISHED-TTL:PT1H
BEGIN:VTIMEZONE
TZID:America/New_York
BEGIN:DAYLIGHT
TZOFFSETFROM:-0500
TZOFFSETTO:-0400
TZNAME:EDT
DTSTART:20230312T070000
END:DAYLIGHT
BEGIN:STANDARD
TZOFFSETFROM:-0400
TZOFFSETTO:-0500
TZNAME:EST
DTSTART:20231105T060000
END:STANDARD
BEGIN:DAYLIGHT
TZOFFSETFROM:-0500
TZOFFSETTO:-0400
TZNAME:EDT
DTSTART:20240310T070000
END:DAYLIGHT
BEGIN:STANDARD
TZOFFSETFROM:-0400
TZOFFSETTO:-0500
TZNAME:EST
DTSTART:20241103T060000
END:STANDARD
BEGIN:DAYLIGHT
TZOFFSETFROM:-0500
TZOFFSETTO:-0400
TZNAME:EDT
DTSTART:20250309T070000
END:DAYLIGHT
BEGIN:STANDARD
TZOFFSETFROM:-0400
TZOFFSETTO:-0500
TZNAME:EST
DTSTART:20251102T060000
END:STANDARD
END:VTIMEZONE
BEGIN:VEVENT
DTSTART;TZID=America/New_York:20241024T193000
DTEND;TZID=America/New_York:20241024T203000
DTSTAMP:20260423T132753
CREATED:20241014T193823Z
LAST-MODIFIED:20241025T012158Z
UID:10000664-1729798200-1729801800@westbeth.org
SUMMARY:Noah Haidu Trio : NYC House Concert Featuring Nasheet Waits and Gervis Myles
DESCRIPTION:Click to enlarge \nJoin Noah’s trio for a free Westbeth house concert 10/24 at 7:30PM.\n Additional house party shows: 11/12\, 12/3\, 1/7\, 2/4\, 3/4   \nSend RSVP/details requests with ’10/24′ in the subject line:
URL:https://westbeth.org/event/noah-haidu-trio-featuring-nasheet-waits-and-gervis-myles/
LOCATION:Westbeth
CATEGORIES:past-events
ATTACH;FMTTYPE=image/jpeg:https://westbeth.org/wp-content/uploads/2024/10/Noah-Haidu-Gervais-and-Nasheet.jpg
END:VEVENT
END:VCALENDAR