BEGIN:VCALENDAR
VERSION:2.0
PRODID:-//Westbeth - ECPv6.15.20//NONSGML v1.0//EN
CALSCALE:GREGORIAN
METHOD:PUBLISH
X-ORIGINAL-URL:https://westbeth.org
X-WR-CALDESC:Events for Westbeth
REFRESH-INTERVAL;VALUE=DURATION:PT1H
X-Robots-Tag:noindex
X-PUBLISHED-TTL:PT1H
BEGIN:VTIMEZONE
TZID:America/New_York
BEGIN:DAYLIGHT
TZOFFSETFROM:-0500
TZOFFSETTO:-0400
TZNAME:EDT
DTSTART:20240310T070000
END:DAYLIGHT
BEGIN:STANDARD
TZOFFSETFROM:-0400
TZOFFSETTO:-0500
TZNAME:EST
DTSTART:20241103T060000
END:STANDARD
BEGIN:DAYLIGHT
TZOFFSETFROM:-0500
TZOFFSETTO:-0400
TZNAME:EDT
DTSTART:20250309T070000
END:DAYLIGHT
BEGIN:STANDARD
TZOFFSETFROM:-0400
TZOFFSETTO:-0500
TZNAME:EST
DTSTART:20251102T060000
END:STANDARD
BEGIN:DAYLIGHT
TZOFFSETFROM:-0500
TZOFFSETTO:-0400
TZNAME:EDT
DTSTART:20260308T070000
END:DAYLIGHT
BEGIN:STANDARD
TZOFFSETFROM:-0400
TZOFFSETTO:-0500
TZNAME:EST
DTSTART:20261101T060000
END:STANDARD
END:VTIMEZONE
BEGIN:VEVENT
DTSTART;TZID=America/New_York:20251017T190000
DTEND;TZID=America/New_York:20251017T200000
DTSTAMP:20260423T132916
CREATED:20250921T230348Z
LAST-MODIFIED:20251026T145633Z
UID:10000837-1760727600-1760731200@westbeth.org
SUMMARY:Creative Ozone: The Artists of Westbeth  Book Launch with author Miriam Chaiken
DESCRIPTION:Friday Oct 17\, 2025 at 7pm\nWesteth Community\n155 Bank St\n(enter through courtyard)\nNew York\, NY 10014 \nand a second launch\nWednesday Oct 22\, 2025 at 6pm\nsponsored by Village Preservation\nat Westbeth Community Room\nThis talk will concentrate on the architecture of Westbeth.\nFor more info about this free event Village Preservation \n” From legendary photographer Diane Arbus and conceptual artist Hans Haacke to avant-garde theater pioneers like Joe Chaikin and Gloria Miguel\, Westbeth has nurtured some of the most influential voices in contemporary art. Beyond its creative legacy\, the residence has been a hub for social change. Its artists played leading roles in the anti-Vietnam protests\, LGBTQ+ rights movements\, feminist art collectives\, and urban preservation efforts. \nIn Creative Ozone\, Miriam Chaiken offers a rare insider’s look at this extraordinary community. Drawing on intimate interviews with multiple generations of Westbeth residents\, including those who grew up in the building as “feral children” immersed in art from birth\, Chaiken captures the spirit of a place where creativity and activism are inseparable. She explores how Westbeth artists have weathered gentrification\, economic upheavals\, and major historical events\, from 9/11 and Hurricane Sandy to the ongoing pandemic\, revealing the resilience of this one-square-block artistic village. Blending vivid storytelling with cultural history\, Creative Ozone is a tribute to the artists who shaped\, and were shaped by\, New York City. \nRich with character-driven narratives\, this book will captivate art lovers\, history buffs\, and anyone fascinated by the creative life. Whether you’re drawn to the bohemian legends of Greenwich Vil­lage\, the evolution of urban spaces\, or the intersection of art and activism\, Creative Ozone offers an unforgettable portrait of a community like no other.”\n– Fordham University Press \nMiriam Chaiken\nMiriam’s earlier writing derives from her years of anthropological field research in Africa and Asia\, focusing on poverty and hunger alleviation\, gender equity\, and the welfare of children. She has published many articles and co-edited two books on international development and community resilience.  \nAfter extensive research on three continents\, she pivoted to her most eo ic site yet – Greenwich Village in New York. Three members of Miriam’s family were long-time residents of the Westbeth Artists’ Residence\, which opened doors when she turned her anthropological gaze to this community. After three decades of research in villages in sub-Saharan Africa\, she realized that Westbeth is a vertical village\, with all the drama and intrigue of any village. Her book Creative Ozone: The Artists of Westbeth (Empire State Books from Fordham University Press) recounts the history of the Westbeth community\, and focuses on the intriguing characters that called Westbeth home.  \nMiriam was formerly Dean of the Conroy Honors College and Distinguished Professor of Anthropology at New Mexico State University. She lives with her husband and fellow anthropologist Tom Conelly in southern New Mexico.
URL:https://westbeth.org/event/creative-ozone-the-artists-of-westbeth-book-launch-with-author-miriam-chaiken/
LOCATION:Westbeth Community Room
CATEGORIES:past-events
ATTACH;FMTTYPE=image/png:https://westbeth.org/wp-content/uploads/2025/09/Creative-Ozone-Chaikin-SQ-.png
END:VEVENT
END:VCALENDAR