BEGIN:VCALENDAR
VERSION:2.0
PRODID:-//Westbeth - ECPv6.15.20//NONSGML v1.0//EN
CALSCALE:GREGORIAN
METHOD:PUBLISH
X-ORIGINAL-URL:https://westbeth.org
X-WR-CALDESC:Events for Westbeth
REFRESH-INTERVAL;VALUE=DURATION:PT1H
X-Robots-Tag:noindex
X-PUBLISHED-TTL:PT1H
BEGIN:VTIMEZONE
TZID:America/New_York
BEGIN:DAYLIGHT
TZOFFSETFROM:-0500
TZOFFSETTO:-0400
TZNAME:EDT
DTSTART:20230312T070000
END:DAYLIGHT
BEGIN:STANDARD
TZOFFSETFROM:-0400
TZOFFSETTO:-0500
TZNAME:EST
DTSTART:20231105T060000
END:STANDARD
BEGIN:DAYLIGHT
TZOFFSETFROM:-0500
TZOFFSETTO:-0400
TZNAME:EDT
DTSTART:20240310T070000
END:DAYLIGHT
BEGIN:STANDARD
TZOFFSETFROM:-0400
TZOFFSETTO:-0500
TZNAME:EST
DTSTART:20241103T060000
END:STANDARD
BEGIN:DAYLIGHT
TZOFFSETFROM:-0500
TZOFFSETTO:-0400
TZNAME:EDT
DTSTART:20250309T070000
END:DAYLIGHT
BEGIN:STANDARD
TZOFFSETFROM:-0400
TZOFFSETTO:-0500
TZNAME:EST
DTSTART:20251102T060000
END:STANDARD
BEGIN:DAYLIGHT
TZOFFSETFROM:-0500
TZOFFSETTO:-0400
TZNAME:EDT
DTSTART:20260308T070000
END:DAYLIGHT
BEGIN:STANDARD
TZOFFSETFROM:-0400
TZOFFSETTO:-0500
TZNAME:EST
DTSTART:20261101T060000
END:STANDARD
END:VTIMEZONE
BEGIN:VEVENT
DTSTART;TZID=America/New_York:20241203T171500
DTEND;TZID=America/New_York:20250128T181500
DTSTAMP:20260424T151507
CREATED:20241127T023447Z
LAST-MODIFIED:20250129T223121Z
UID:10000687-1733246100-1738088100@westbeth.org
SUMMARY:Meditation Practice with Steve Clorfeine
DESCRIPTION:Click to enlarge  An introduction to sitting and walking meditation as a simple contemplative practice of mindfulness and awareness in daily life. \nFree\n7 week session  Tuesdays 5:15 – 6:15pm \nMeet in Community Room on\nTuesdays  Dec 3\, Dec 10\, Jan 7\, Jan 21\, and Jan 28 \nWestbeth Community Room\n155 Bank Street\nenter through courtyard\nNew York \, NY \nMeet in Westbeth Flea Market\nTuesdays Dec 17 and Jan 14 \nWestbeth Flea Market\nBasement\n55 Bethune St\nNew York\, NY  \nSteve Clorfeine\nProfiles in Art Interview
URL:https://westbeth.org/event/steve-clorfeine-meditation/
LOCATION:Westbeth Community Room
CATEGORIES:past-events
ATTACH;FMTTYPE=image/jpeg:https://westbeth.org/wp-content/uploads/2024/12/MEDITATION-SSQ-TEVE-CLORFEINE24-copy.jpg
ORGANIZER;CN="Westbeth Beautification Committee":MAILTO:westbethfleamarket@gmail.com
END:VEVENT
END:VCALENDAR