BEGIN:VCALENDAR
VERSION:2.0
PRODID:-//Westbeth - ECPv6.15.20//NONSGML v1.0//EN
CALSCALE:GREGORIAN
METHOD:PUBLISH
X-ORIGINAL-URL:https://westbeth.org
X-WR-CALDESC:Events for Westbeth
REFRESH-INTERVAL;VALUE=DURATION:PT1H
X-Robots-Tag:noindex
X-PUBLISHED-TTL:PT1H
BEGIN:VTIMEZONE
TZID:America/New_York
BEGIN:DAYLIGHT
TZOFFSETFROM:-0500
TZOFFSETTO:-0400
TZNAME:EDT
DTSTART:20240310T070000
END:DAYLIGHT
BEGIN:STANDARD
TZOFFSETFROM:-0400
TZOFFSETTO:-0500
TZNAME:EST
DTSTART:20241103T060000
END:STANDARD
BEGIN:DAYLIGHT
TZOFFSETFROM:-0500
TZOFFSETTO:-0400
TZNAME:EDT
DTSTART:20250309T070000
END:DAYLIGHT
BEGIN:STANDARD
TZOFFSETFROM:-0400
TZOFFSETTO:-0500
TZNAME:EST
DTSTART:20251102T060000
END:STANDARD
BEGIN:DAYLIGHT
TZOFFSETFROM:-0500
TZOFFSETTO:-0400
TZNAME:EDT
DTSTART:20260308T070000
END:DAYLIGHT
BEGIN:STANDARD
TZOFFSETFROM:-0400
TZOFFSETTO:-0500
TZNAME:EST
DTSTART:20261101T060000
END:STANDARD
END:VTIMEZONE
BEGIN:VEVENT
DTSTART;TZID=America/New_York:20251004T190000
DTEND;TZID=America/New_York:20251011T203000
DTSTAMP:20260423T113813
CREATED:20250922T002759Z
LAST-MODIFIED:20251012T183014Z
UID:10000839-1759604400-1760214600@westbeth.org
SUMMARY:Westbeth Immortals: Film Portraits Presented by Lucille Rhodes
DESCRIPTION:Saturday Oct 4\, 2025 at 7pm\nfeatures film portraits of Benny Andrews\, Barton Benes\, and Muriel Rukeyser \nand  \nSaturday Oct 11\, 2025 at 7pm\nfeatures Tobias Schneebaum \nWestbeth Community Room\n155 Bank St\n(enter through courtyard)\nNew York\, NY 10014 \nPresenter\, Lucille Rhodes\, Westbeth Photographer and Filmmaker\nLucille’s film on Muriel Rukeyser premiered at the New York Film Festival at Lincoln Center. Her filmed portrait of painter\, Alice Neel\, archived by the Metropolitan Museum of Art\, is currently being screened alongside her recent retropspective (2022) by major museums internationally. \nI would like to invite friends and neighbors to attend the screenings and after share any memories you may have. I knew and loved Barton\, was awed and grateful to Muriel\, met Tobias only briefly through Barton and Benny only in exchanging  smiles and weather reports at 9th floor elevator.  \nBenny Andrews (1930-2006) artist\nThe Visible Man  28 minutes\nDirected by David Irving; produced by Linda Freeman\nhttps://en.wikipedia.org/wiki/Benny_Andrews \nBarton Benes (1942-2012 artist\nNo Secrets  (25 minutes)\nDirected by Joe Lovett\nhttps://en.wikipedia.org/wiki/Barton_Lidice_Beneš \nMuriel Rukeyser (1930-1980) Poet\nThey Are Their Own Gifts (19 minutes)\nProduced and directed by Lucille Rhodes and\nMargaret Murphy\nhttps://en.wikipedia.org/wiki/Muriel_Rukeyser \nTobias Schneebaum (1922-2005 Artist and Anthropologist.\n Keep The River on Your Right  93min\nProduced and Directed by David Shapiro and Laurie Gwen Shapiro.[2]\nhttps://en.wikipedia.org/wiki/Tobias_Schneebaum \nSponsored by WARC and The Beautification Committee
URL:https://westbeth.org/event/westbeth-immortals-film-portraits-presented-by-lucille-rhodes/
LOCATION:Westbeth Community Room
CATEGORIES:past-events
ATTACH;FMTTYPE=image/jpeg:https://westbeth.org/wp-content/uploads/2025/09/Captured-Memories-Poster_SQ-for-Print-copy-3.jpg
END:VEVENT
END:VCALENDAR