BEGIN:VCALENDAR
VERSION:2.0
PRODID:-//Westbeth - ECPv6.15.20//NONSGML v1.0//EN
CALSCALE:GREGORIAN
METHOD:PUBLISH
X-ORIGINAL-URL:https://westbeth.org
X-WR-CALDESC:Events for Westbeth
REFRESH-INTERVAL;VALUE=DURATION:PT1H
X-Robots-Tag:noindex
X-PUBLISHED-TTL:PT1H
BEGIN:VTIMEZONE
TZID:America/New_York
BEGIN:DAYLIGHT
TZOFFSETFROM:-0500
TZOFFSETTO:-0400
TZNAME:EDT
DTSTART:20230312T070000
END:DAYLIGHT
BEGIN:STANDARD
TZOFFSETFROM:-0400
TZOFFSETTO:-0500
TZNAME:EST
DTSTART:20231105T060000
END:STANDARD
BEGIN:DAYLIGHT
TZOFFSETFROM:-0500
TZOFFSETTO:-0400
TZNAME:EDT
DTSTART:20240310T070000
END:DAYLIGHT
BEGIN:STANDARD
TZOFFSETFROM:-0400
TZOFFSETTO:-0500
TZNAME:EST
DTSTART:20241103T060000
END:STANDARD
BEGIN:DAYLIGHT
TZOFFSETFROM:-0500
TZOFFSETTO:-0400
TZNAME:EDT
DTSTART:20250309T070000
END:DAYLIGHT
BEGIN:STANDARD
TZOFFSETFROM:-0400
TZOFFSETTO:-0500
TZNAME:EST
DTSTART:20251102T060000
END:STANDARD
END:VTIMEZONE
BEGIN:VEVENT
DTSTART;TZID=America/New_York:20240220T190000
DTEND;TZID=America/New_York:20240220T210000
DTSTAMP:20260423T164808
CREATED:20231109T044258Z
LAST-MODIFIED:20240222T190413Z
UID:10000467-1708455600-1708462800@westbeth.org
SUMMARY:Transformation: An Evening of Poetry\, Prose and Music
DESCRIPTION:Tuesday Feb 20\, 2024 at 7pm\nWestbeth Community Room\n55 Bethune St\nNY NY\, 100134 \nAn evening of original prose and poetry about change with a musical interlude presented by Westbeth Literary Arts Committee \nProgram \n1. Barbara Rosenthal…….The Peacock Who Declared Himself King\n2. Terence Burk……………..Grandma\, I Love You\n3. Leigh Stuart……………….The Oyster\n4. Anna Shapiro……………..Inconsequence\n5. Griselda Steiner………….White Wolf\, I Await \nInterlude: Cello solo by Leigh Stuart \n6. Joya Staack………………..The Rose\n7. Kate Walter……………….My Visit to the Cloisters Transformed Me\n8. Linda Marks……………….Matriarch\, This Is My Life Now\n9. Jan Leslie Harding………The Wall\n10. Eve Zanni…………………Without a Song
URL:https://westbeth.org/event/transformation-poetry-prose-and-music/
LOCATION:Westbeth Community Room
CATEGORIES:past-events
ATTACH;FMTTYPE=image/png:https://westbeth.org/wp-content/uploads/2024/02/Transformation-literrary-arts-presents.png
END:VEVENT
END:VCALENDAR