BEGIN:VCALENDAR
VERSION:2.0
PRODID:-//Westbeth - ECPv6.15.20//NONSGML v1.0//EN
CALSCALE:GREGORIAN
METHOD:PUBLISH
X-ORIGINAL-URL:https://westbeth.org
X-WR-CALDESC:Events for Westbeth
REFRESH-INTERVAL;VALUE=DURATION:PT1H
X-Robots-Tag:noindex
X-PUBLISHED-TTL:PT1H
BEGIN:VTIMEZONE
TZID:America/New_York
BEGIN:DAYLIGHT
TZOFFSETFROM:-0500
TZOFFSETTO:-0400
TZNAME:EDT
DTSTART:20250309T070000
END:DAYLIGHT
BEGIN:STANDARD
TZOFFSETFROM:-0400
TZOFFSETTO:-0500
TZNAME:EST
DTSTART:20251102T060000
END:STANDARD
BEGIN:DAYLIGHT
TZOFFSETFROM:-0500
TZOFFSETTO:-0400
TZNAME:EDT
DTSTART:20260308T070000
END:DAYLIGHT
BEGIN:STANDARD
TZOFFSETFROM:-0400
TZOFFSETTO:-0500
TZNAME:EST
DTSTART:20261101T060000
END:STANDARD
BEGIN:DAYLIGHT
TZOFFSETFROM:-0500
TZOFFSETTO:-0400
TZNAME:EDT
DTSTART:20270314T070000
END:DAYLIGHT
BEGIN:STANDARD
TZOFFSETFROM:-0400
TZOFFSETTO:-0500
TZNAME:EST
DTSTART:20271107T060000
END:STANDARD
END:VTIMEZONE
BEGIN:VEVENT
DTSTART;TZID=America/New_York:20260217T190000
DTEND;TZID=America/New_York:20260217T190000
DTSTAMP:20260425T140018
CREATED:20260121T214717Z
LAST-MODIFIED:20260422T221512Z
UID:10000952-1771354800-1771354800@westbeth.org
SUMMARY:Home Part 2  Readings by Westbeth authors
DESCRIPTION:Tuesday Feb 17\, 2026 at 7pm \nWestbeth Community Room\n155 Bank Street\nNew York\, NY 10014 \nWestbeth writers will be reading original prose and poetry exploring what home means to them.\nAnna Shapiro\, Kate Walter\, Terry Purinton\, Steve Clorfeine\, Griselda Steiner\, Joya Staack\, Huguette Martel\, Dennis Fitzpatrick\, Linda Marks\, Barbara Rosenthal\, Carole Braden\, Halina Warren. \nPROGRAM\nSteve Clorfeine “Country Detective”\nHuguette Martel “A Walk in my Neighborhood”\nAnna Shapiro “Home: \nMusical Interlude: Charlotte Leist:  Eccles – ” Sonata in G major for Cello” \nCarole Burden “The House on Eastland Road”\nKate Walter “Empty Spot on the Wall of our Beach House”\nTerry Puritan “Thank You for Your Service ” (excerpts) \nMusical Interlude: Susan Hyman: Marin Marais – “Les Folies D’espagne for Solo Flute” (excerpts) \nHalina Fitzpatrick “Home”\nJoya Staack “Alex”\nLinda Marks “Summerhouse” poems \nMusical Interlude: Maria McAuliffe: Burt Bacharach – “A House Is Not a Home” piano \nDennis Fitzpatric  “Turned Around”\nBarbara Rosenthal “Caroline’s Sktech Pad I”\nGriselda Steiner “Fasten Your Seatbelts” (lyrics) Performed by Eve Zanni
URL:https://westbeth.org/event/home-part-2-readings-by-westbeth-authors/
LOCATION:Westbeth Community Room
CATEGORIES:past-events
ATTACH;FMTTYPE=image/jpeg:https://westbeth.org/wp-content/uploads/2026/01/HOME-PART-2-SQ-Literary-WARC-event-copy.jpg
END:VEVENT
END:VCALENDAR