BEGIN:VCALENDAR
VERSION:2.0
PRODID:-//Westbeth - ECPv6.15.20//NONSGML v1.0//EN
CALSCALE:GREGORIAN
METHOD:PUBLISH
X-ORIGINAL-URL:https://westbeth.org
X-WR-CALDESC:Events for Westbeth
REFRESH-INTERVAL;VALUE=DURATION:PT1H
X-Robots-Tag:noindex
X-PUBLISHED-TTL:PT1H
BEGIN:VTIMEZONE
TZID:America/New_York
BEGIN:DAYLIGHT
TZOFFSETFROM:-0500
TZOFFSETTO:-0400
TZNAME:EDT
DTSTART:20240310T070000
END:DAYLIGHT
BEGIN:STANDARD
TZOFFSETFROM:-0400
TZOFFSETTO:-0500
TZNAME:EST
DTSTART:20241103T060000
END:STANDARD
BEGIN:DAYLIGHT
TZOFFSETFROM:-0500
TZOFFSETTO:-0400
TZNAME:EDT
DTSTART:20250309T070000
END:DAYLIGHT
BEGIN:STANDARD
TZOFFSETFROM:-0400
TZOFFSETTO:-0500
TZNAME:EST
DTSTART:20251102T060000
END:STANDARD
BEGIN:DAYLIGHT
TZOFFSETFROM:-0500
TZOFFSETTO:-0400
TZNAME:EDT
DTSTART:20260308T070000
END:DAYLIGHT
BEGIN:STANDARD
TZOFFSETFROM:-0400
TZOFFSETTO:-0500
TZNAME:EST
DTSTART:20261101T060000
END:STANDARD
END:VTIMEZONE
BEGIN:VEVENT
DTSTART;TZID=America/New_York:20250530T190000
DTEND;TZID=America/New_York:20250530T200000
DTSTAMP:20260423T145523
CREATED:20250507T002128Z
LAST-MODIFIED:20250531T195410Z
UID:10000768-1748631600-1748635200@westbeth.org
SUMMARY:Get to Know Your Neighbors: Jonathan Bauch and Pele Bach
DESCRIPTION:Click to enlarge  Friday May 30\, 2025 at 7pm \nAbout Jonathan Bauch\nSculptor\nEvolving from an abstract painter to sculpture\, Bauch adroitly manipulates welding technology\, transforming hard steel into delicate organic forms reminiscent of the natural world. In taming the steel\, the industrial quality of the medium is tempered by the indelible mark of the human hand\, resulting in sculptures that seem to defy their material with their lacy and ethereal qualities.\nIn addition to exhibiting in both solo and group exhibitions in New York City and New England\, he has been the recipient of grants from the Joan Mitchell\, and Adolph and Esther Gottlieb foundations\, and has taught welding steel sculpture at the Educational Alliance.  \nHe is the father of Pele who arew up at Westbeth. \nAbout Pele Bauch\nChoreographer / Dancer\nAn interdisciplinary choreographer who weaves dance\, theater\, and installation design into unique performances. As a Hapa Haole Kanaka Maoli (multi-racial Native Hawaiian) contemporary artist\, Bauch’s work also draws from oli and hula (Hawaiian chant and dance). She was selected for the 2025 Wehiwehi cohort of Kanaka Maoli artists working at the intersection of indigeneity and contemporary performance and the 2023 WAA Native Launchpad\, Bauch’s work has been presented at numerous New York venues. She has received residencies from The Joyce Theater Foundation; Dance Theater Workshop; Chocolate Factory; and 92Y Harkness Dance Center. Funders include the Lower Manhattan Cultural Council; Brooklyn Arts Council; and Harkness Foundation for Dance.  \nWestbeth Community Room\n155 Bank Street\n(enter through courtyard)\nNew York\, NY
URL:https://westbeth.org/event/get-to-know-your-neighbors-jonathan-bauch-and-pele-bach/
LOCATION:Westbeth Community Room
CATEGORIES:past-events
ATTACH;FMTTYPE=image/jpeg:https://westbeth.org/wp-content/uploads/2025/05/Get-to-Know-your-Neigh-Bauches_-MAY-2.jpg
END:VEVENT
END:VCALENDAR