BEGIN:VCALENDAR
VERSION:2.0
PRODID:-//Westbeth - ECPv6.15.20//NONSGML v1.0//EN
CALSCALE:GREGORIAN
METHOD:PUBLISH
X-ORIGINAL-URL:https://westbeth.org
X-WR-CALDESC:Events for Westbeth
REFRESH-INTERVAL;VALUE=DURATION:PT1H
X-Robots-Tag:noindex
X-PUBLISHED-TTL:PT1H
BEGIN:VTIMEZONE
TZID:America/New_York
BEGIN:DAYLIGHT
TZOFFSETFROM:-0500
TZOFFSETTO:-0400
TZNAME:EDT
DTSTART:20240310T070000
END:DAYLIGHT
BEGIN:STANDARD
TZOFFSETFROM:-0400
TZOFFSETTO:-0500
TZNAME:EST
DTSTART:20241103T060000
END:STANDARD
BEGIN:DAYLIGHT
TZOFFSETFROM:-0500
TZOFFSETTO:-0400
TZNAME:EDT
DTSTART:20250309T070000
END:DAYLIGHT
BEGIN:STANDARD
TZOFFSETFROM:-0400
TZOFFSETTO:-0500
TZNAME:EST
DTSTART:20251102T060000
END:STANDARD
BEGIN:DAYLIGHT
TZOFFSETFROM:-0500
TZOFFSETTO:-0400
TZNAME:EDT
DTSTART:20260308T070000
END:DAYLIGHT
BEGIN:STANDARD
TZOFFSETFROM:-0400
TZOFFSETTO:-0500
TZNAME:EST
DTSTART:20261101T060000
END:STANDARD
END:VTIMEZONE
BEGIN:VEVENT
DTSTART;TZID=America/New_York:20250103T190000
DTEND;TZID=America/New_York:20250103T200000
DTSTAMP:20260423T094553
CREATED:20241217T193508Z
LAST-MODIFIED:20250106T194355Z
UID:10000696-1735930800-1735934400@westbeth.org
SUMMARY:FIRST FRIDAYS MUSIC  JOHN MENEGON QUARTET 'SOUND EMBRACE'
DESCRIPTION:Click to enlarge[/caption]Friday\, January 3\, 2025 at 7pm \nWestbeth Community Room\n155 Bank St\n(enter through courtyard_\nNew York NY 10014 \nThe music presented by Bassist/Composer/Educator John Menegon\, in collaboration with these exceptional musicians\, pushes the boundaries of today’s music on the world stage. The intuitive\, spontaneous nature of the music between the musicians in the Quartet is deeply rooted in the traditions that come out of the Free Bop era created in the “Moment Of Now!” \n\n\nJOHN MENEGON (bass & compositions)\nSTEVE EINERSON (piano)\nPETE SMITH (guitar)\nMATT GARRITY (drums)\nspecial guest ANGUS MENEGON (voice\, synthesizers & compositions) \nJOHN MENEGON (bass & compositions)\n“New York bassist JOHN MENEGON is in the line of George Mraz and Michael Moore; a harmonically sophisticated bassist with technical facility who swings hard when it’s called for.” Kirk Silsbee\, DOWNBEAT!\nMenegon is a jazz bassist\, but is also a guitarist\, arranger\, singer\, and composer. He began his career as a musician in Montreal before moving to New York City\, where he spent ten years as bassist for two legendary tenor saxophonists\, Dewey Redman and David “Fathead” Newman. This experience provided a solid foundation for Menegon to continue his explorations as a bandleader\, composer and arranger\, and he has been composing and arranging music throughout his career. Menegon has released 6 recordings as a bandleader\, and his latest recording\, SOUND EMBRACE\, was released in 2024 on Valley Jazz Records. It features Jean-Michel Pilc on piano\, Chet Doxas on sax\, and Jim Doxas on drums. Here is what Abe Goldstein had to say about John’s latest recording on his blog PAPATAMUS REDUX (NOV 2024): “Although he is known primarily for his bass playing with folks such as David Fathead Newman\, Dewey Redman\, Joe Lovano\, and other notable musicians (not to mention his own recordings)\, Sound Embrace showcases Menegon’s exceptional writing skills. Let’s not forget the strong\, lyrical and harmonically- advanced bass playing of Menegon as a soloist or intuitively interacting with the ensemble.”\n@johnmenegonjazz \nSTEVE EINERSON (piano)\nPianist Steve Einerson originally hails from Milwaukee (WI) where he spent three formative years studying with David Hazeltine. After freelancing in the Milwaukee/Chicago circuit for several years\, he relocated to New York City in 2004\, fresh off the heels of being selected as a finalist to compete in the national jazz piano competition sponsored by the American Pianists Association. Whether it’s solo piano\, small groups or big bands\, Steve now finds his services in NYC in high demand and has performed at venues and jazz festivals across the country and around the world. A sampling of some of the musicians he’s had the privilege of working with include Marlena Shaw\, Joe Farnsworth\, Philip Harper\, Killer Ray Appleton\, Slide Hampton\, Ian Hendrickson-Smith\, John Dokes\, Hilary Gardner\, Teri Roiger\, the George Gee Orchestra\, and the Cab Calloway Orchestra.\n@seinerson \nPETE SMITH (guitar)\n“Mr. Smith is something rare\, fair and fine…a consummate musician who makes an unsuspecting audience aware that his guitar is not his instrument – it is his partner and musical mate for life – Mr. Smith exhibited skills that would make a symphony conductor salivate.” Stephen Mosher\nPete Smith is a New York City-based guitarist who performs in a wide range of musical settings. As a founding member of Grupo los Santos\, a vanguard Afro-Cuban and Brazilian-style quartet\, he has played New York’s Town Hall and concerts throughout the U.S.\, Cuba & Austria. Pete has performed at the Berlin Jazz Festival and Montreal Jazz Festival\, as well as concerts in thirty countries throughout Europe\, Eastern Europe\, Africa and Asia. He has worked with Norah Jones\, trumpeter Donald Byrd\, Cuban trombone master Juan Pablo Torres\, Andrew Hill\, Kat Edmonson\, Vince Giordano & the Nighthawks\, the Moonlighters\, Madeline Peyroux\, Natalie Merchant and Huun-Huur-Tu\, and is a member of Michael Feinstein’s Jazz at Lincoln Center Orchestra. In 2023 he traveled to Congo-Kinshasa as a member of the band Opius Bliss—as  cultural ambassadors for the US Embassy—to perform for and teach\, play and dialogue with local musicians in Kinshasa and Kisangani.\n@peteguitarsmith \nMATT GARRITY (drums)\n“Matt is a swinging drummer and true keeper of the flame.” Vincent Herring\, saxophonist\nDrummer Matt Garrity has been on the New York City music scene since 1994. He has performed with some of the best in the business\, including Grammy winner Vincent Herring\, David Williams\, Teri Thornton\, Peter Bernstein\, Gary Versace\, Ed Cherry\, Ben Monder\, Jeremy Pelt\, among others. Garrity has been living in the Hudson Valley since 2017 and produces a concert series out of his home/studio in Woodstock called BARNSTOCK.\n@garritydrums \nANGUS MENEGON (vocals\, synthesizers\, compositions)\nMonolounge is the synth-punched\, reverb-soaked vision of Australian songwriter-producer Angus Menegon. Crafting dream-pop from his bedroom\, Monolounge melts 70s drums\, 80s synthesisers\, and 90s guitars into a melancholic journey through time. Angus did all the composing and playing on all 9 tracks of his debut recording KILLING TIME. It was released on Bandcamp in September 2024.\nhttps://ihatemonolounge.bandcamp.com/album/killing-time\nWebSite: www.ihatemonolounge.com\n@ihatemonolounge
URL:https://westbeth.org/event/john-menegon-quartet-presents-sound-embrace-for-westbeth-first-fridays/
LOCATION:Westbeth Community Room
CATEGORIES:past-events
ATTACH;FMTTYPE=image/png:https://westbeth.org/wp-content/uploads/2024/12/John-Megeon-Rev-Corrected-Instagram.png
END:VEVENT
END:VCALENDAR