BEGIN:VCALENDAR
VERSION:2.0
PRODID:-//Westbeth - ECPv6.15.20//NONSGML v1.0//EN
CALSCALE:GREGORIAN
METHOD:PUBLISH
X-ORIGINAL-URL:https://westbeth.org
X-WR-CALDESC:Events for Westbeth
REFRESH-INTERVAL;VALUE=DURATION:PT1H
X-Robots-Tag:noindex
X-PUBLISHED-TTL:PT1H
BEGIN:VTIMEZONE
TZID:America/New_York
BEGIN:DAYLIGHT
TZOFFSETFROM:-0500
TZOFFSETTO:-0400
TZNAME:EDT
DTSTART:20220313T070000
END:DAYLIGHT
BEGIN:STANDARD
TZOFFSETFROM:-0400
TZOFFSETTO:-0500
TZNAME:EST
DTSTART:20221106T060000
END:STANDARD
BEGIN:DAYLIGHT
TZOFFSETFROM:-0500
TZOFFSETTO:-0400
TZNAME:EDT
DTSTART:20230312T070000
END:DAYLIGHT
BEGIN:STANDARD
TZOFFSETFROM:-0400
TZOFFSETTO:-0500
TZNAME:EST
DTSTART:20231105T060000
END:STANDARD
BEGIN:DAYLIGHT
TZOFFSETFROM:-0500
TZOFFSETTO:-0400
TZNAME:EDT
DTSTART:20240310T070000
END:DAYLIGHT
BEGIN:STANDARD
TZOFFSETFROM:-0400
TZOFFSETTO:-0500
TZNAME:EST
DTSTART:20241103T060000
END:STANDARD
BEGIN:DAYLIGHT
TZOFFSETFROM:-0500
TZOFFSETTO:-0400
TZNAME:EDT
DTSTART:20250309T070000
END:DAYLIGHT
BEGIN:STANDARD
TZOFFSETFROM:-0400
TZOFFSETTO:-0500
TZNAME:EST
DTSTART:20251102T060000
END:STANDARD
BEGIN:DAYLIGHT
TZOFFSETFROM:-0500
TZOFFSETTO:-0400
TZNAME:EDT
DTSTART:20260308T070000
END:DAYLIGHT
BEGIN:STANDARD
TZOFFSETFROM:-0400
TZOFFSETTO:-0500
TZNAME:EST
DTSTART:20261101T060000
END:STANDARD
BEGIN:DAYLIGHT
TZOFFSETFROM:-0500
TZOFFSETTO:-0400
TZNAME:EDT
DTSTART:20270314T070000
END:DAYLIGHT
BEGIN:STANDARD
TZOFFSETFROM:-0400
TZOFFSETTO:-0500
TZNAME:EST
DTSTART:20271107T060000
END:STANDARD
END:VTIMEZONE
BEGIN:VEVENT
DTSTART;TZID=America/New_York:20251212T080000
DTEND;TZID=America/New_York:20260131T170000
DTSTAMP:20260423T074144
CREATED:20251212T231206Z
LAST-MODIFIED:20260202T162522Z
UID:10000929-1765526400-1769878800@westbeth.org
SUMMARY:Video of "Stories Around the Table" Filmed Oct 28\, 2025
DESCRIPTION:(For close captioning\, click  the rectangle with the double CC’s  at the  Vimeo menu line) \n\n \n“I started this group many years ago when we were worried about getting old. I said ‘let’s write about it.’ We were 40.\nWe used to meet at Shami Chaikin’s apartment\, sitting around her table. Now 40 years later\, we meet on zoom.”\n– Karen Ludwig  \nCurrent Members \nKaren Ludwig’s numerous Broadway credits include Neil Simon’s BROADWAY BOUND\, and THE DEVILS with Anne Bancroft. She appeared in many Off-Broadway performances at The Public Theater and was a member of Andre Gregory’s Manhattan Project. She was in the world premiere of MOONCHILDREN at The Royal Court in London as well as playing Lady McDuff in MACBETH at the Stratford Shakespeare Festival.Karen Ludwig produced and directed UTA HAGEN’S ACTING CLASS; a compelling DVD of her incomparable teacher conducting Master Acting Classes UTAHAGENVIDEO.com. Ms. Ludwig has directed plays for the Theater for the New City\, NYU School of the Arts\, Ensemble Studio Theater\, Circle Rep\, and The HB Playwrights. On TV she is a LAW and ORDER veteran and many other shows. She conducted an acclaimed interview series ABOUT THE WORK with prominent theater people at the New School for Drama where she also taught for many years.\nhttp://karenludwig.com/#actor \nJoan Hall Known for her artwork\, Joan Hall’s collages and assemblages havebeen exhibited in galleries and museums worldwide\, including theCentre Georges Pompidou in Paris\, and the Museo Rufino Tamayo inMexico. She is a winner of the Miriam Chaikin Foundation 2018 awardfor her poetry. Joan’s poetry and collage books\, Journey to Somewhere\,Behind My Mind\, and Rhyme Time are available on Amazon. Joan hasbeen a resident of Westbeth since 1971.\nhttps://www.joanhallcollage.com \nDawn D/Arcy is a writer\, actor and musician notably\, as well as relevantly\, having played bass in fellow writer Diane Spodarek’s Detroit punk band The Dangerous Diane Band. She worked at The Actors Studio with director John Stix as well as with actor/director Estelle Parsons on Yeats translation of Oedipus starring Al Pacino and Dianne Wiest. She is the very proud grandma of Etta Rose and is never\, ever unaware of how lucky and grateful she is to write\, co-create and perform with Karen Ludwig and this brilliant group of artists for the past 20+ years. \nDiane Spodarek is a Canadian American writer and a recipient of artist fellowships from the National Endowment for the Arts and the New York Foundation for the Arts. \nJoyce Aaron Oboe winner for Acting in a play Acrobatics co written by Luna Tarlo. Original member of The Open Theater\, directed by Joseph Chaikin. Premiered America Hurrah by Jean Claude Van Itallie in New York and at The Royal Court Theater in London. Lived and worked with Sam Shepard on many of his early plays. \nDale Soules is an American actress known for starring in The Messenger\, Sesame Street\, and for portraying Frieda Berlin in Orange Is the New Black from 2014 to 2019. She appeared in the original production of Hair in the role of Jeannie. \n\nPast Members \nShami Chaikin Obie-award winning actress\, Shami Chaikin was a member of the legendary Open Theater under the direction of Joe Chaikin. She appeared in their seminal productions of The Serpent\, Terminal\, Mutation Show\, and more. Her theatrical appearances also include working with with Andre Serban\, and Elizabeth Swados and Meredith Monk at the New York Shakespeare Festival\, among other venues. In film\, she has acted under the direction of Michaelangelo Antonioni\, James Ivory and Alan Parker\, and has appeared in numerous TV shows\, including Law and Order. \nNancy Gabor is a director and acting teacher.She directed Joseph Chaikin in ‘The War In Heaven\,’and ‘Struck Dumb\,’ staged readings\, as he was recovering from Aphasia at the American Place Theater. She was an actor in The Open Theater and participated in the creation of ‘The Serpent.’\nAmong her many credits:‘The Three Sisters\,’ at Princeton where she was an associate acting professor. Nancy taught and directed at the Amsterdam Theater School in the Netherlands for twenty years.\nAlong with Paul Binnerts\, she conducts an acting workshop at Westbeth\, ‘You’re Never Too Old To Play.’ \nChristina Maile\nHer work reflecting her West Indian and Dayak heritage\, she has received grants from Pollock-Krasner and Joan Mitchell Foundation\, as well as two Miriam Chaikin Foundation Writing Awards. Her landscape architectural work was featured in Garden Design Magazine. She was the co-founder playwright of the Westbeth Playwrights Feminist Collective. christinamaile.com
URL:https://westbeth.org/event/video-of-stories-around-the-table-filmed-oct-28-2025/
LOCATION:Online
CATEGORIES:past-events
ATTACH;FMTTYPE=image/jpeg:https://westbeth.org/wp-content/uploads/2025/12/Karen-Ludwig-wesite-Home-stories-around-ta.jpg
END:VEVENT
BEGIN:VEVENT
DTSTART;TZID=America/New_York:20251028T190000
DTEND;TZID=America/New_York:20251028T200000
DTSTAMP:20260423T074144
CREATED:20251002T135519Z
LAST-MODIFIED:20251106T132347Z
UID:10000852-1761678000-1761681600@westbeth.org
SUMMARY:Stories Around the Table Losing It
DESCRIPTION:Tuesday October 28\, 2025 at 7pm \nWestbeth Community Room\n155 Bank St\nenter through courtyard\nNew York\, NY 10014 \nSTORIES AROUND THE TABLE began many years ago as a Word of Mouth project by Karen Ludwig for actors and writers. Over the years and under her guidance it has evolved into a literary group of women whose stories originate in personal experience and the challenges of that experience. Recently the group began giving annual presentations of their work\, of which this is the 5th or 6th. \nKaren Ludwig’s numerous Broadway credits include Neil Simon’s BROADWAY BOUND\, and THE DEVILS with Anne Bancroft. She appeared in many Off-Broadway performances at The Public Theater and was a member of Andre Gregory’s Manhattan Project. She was in the world premiere of MOONCHILDREN at The Royal Court in London as well as playing Lady McDuff in MACBETH at the Stratford Shakespeare Festival.Karen Ludwig produced and directed UTA HAGEN’S ACTING CLASS; a compelling DVD of her incomparable teacher conducting Master Acting Classes UTAHAGENVIDEO.com. Ms. Ludwig has directed plays for the Theater for the New City\, NYU School of the Arts\, Ensemble Studio Theater\, Circle Rep\, and The HB Playwrights. On TV she is a LAW and ORDER veteran and many other shows. She conducted an acclaimed interview series ABOUT THE WORK with prominent theater people at the New School for Drama where she also taught for many years.\nhttp://karenludwig.com/#actor \nJoyce Aaron\nOboe winner for Acting in a play Acrobatics co written by Luna Tarlo. Original member of The Open Theater\, directed by Joseph Chaikin. Premiered America Hurrah by Jean Claude Van Itallie in New York and at The Royal Court Theater in London. Lived and worked with Sam Shepard on many of his early plays.\nJoan Hall Known for her artwork\, Joan Hall’s collages and assemblages havebeen exhibited in galleries and museums worldwide\, including theCentre Georges Pompidou in Paris\, and the Museo Rufino Tamayo inMexico. She is a winner of the Miriam Chaikin Foundation 2018 awardfor her poetry. Joan’s poetry and collage books\, Journey to Somewhere\,Behind My Mind\, and Rhyme Time are available on Amazon. Joan hasbeen a resident of Westbeth since 1971.\nhttps://www.joanhallcollage.com \nDawn D/Arcy is a writer\, actor and musician notably\, as well as relevantly\, having played bass in fellow writer Diane Spodarek’s Detroit punk band The Dangerous Diane Band. She worked at The Actors Studio with director John Stix as well as with actor/director Estelle Parsons on Yeats translation of Oedipus starring Al Pacino and Dianne Wiest. She is the very proud grandma of Etta Rose and is never\, ever unaware of how lucky and grateful she is to write\, co-create and perform with Karen Ludwig and this brilliant group of artists for the past 20+ years. \nDiane Spodarek is a Canadian American writer and a recipient of artist fellowships from the National Endowment for the Arts and the New York Foundation for the Arts. \nDale Soules\nis an American actress known for starring in The Messenger\, Sesame Street\, and for portraying Frieda Berlin in Orange Is the New Black from 2014 to 2019. She appeared in the original production of Hair in the role of Jeannie. \nArtwork: “NonFiction” by Christina Maile
URL:https://westbeth.org/event/stories-around-the-table-losing-it/
LOCATION:Westbeth Community Room
CATEGORIES:past-events
ATTACH;FMTTYPE=image/jpeg:https://westbeth.org/wp-content/uploads/2025/10/Storeis-aroundSQ-the-Table-Autumn-2025-updated-copy.jpg
END:VEVENT
BEGIN:VEVENT
DTSTART;TZID=America/New_York:20250131T190000
DTEND;TZID=America/New_York:20250131T210000
DTSTAMP:20260423T074144
CREATED:20250108T215340Z
LAST-MODIFIED:20250204T025619Z
UID:10000706-1738350000-1738357200@westbeth.org
SUMMARY:GET TO KNOW YOUR NEIGHBORS: Joan Hall\, Ethan Mass\, Karen Santry
DESCRIPTION:Click to enlarge Friday January 31\, 2025\nat 7PM \nWestbeth Community Room\n155 Bank St\n(enter through courtyard)\nNew York\, NY\nFree \nJoan Hall Westbeth Artist Page\nKaren Santry Westbeth artist page\nEthan Mass Website
URL:https://westbeth.org/event/get-to-know-your-neighbors-2/
LOCATION:Westbeth Community Room
CATEGORIES:past-events
ATTACH;FMTTYPE=image/png:https://westbeth.org/wp-content/uploads/2025/01/GET-TO-SQ-KNOW-YOUR-NEGIHBORS-copy.png
END:VEVENT
BEGIN:VEVENT
DTSTART;TZID=America/New_York:20250112T100000
DTEND;TZID=America/New_York:20250112T150000
DTSTAMP:20260423T074144
CREATED:20241202T014636Z
LAST-MODIFIED:20250114T013905Z
UID:10000686-1736676000-1736694000@westbeth.org
SUMMARY:Joan Hall  Collage Workshop
DESCRIPTION:Click to enlarge Sunday January 12\, 2025 10am – 3pm\nFree \nMaterials provided\, bring scissors \nLimited to 20 people\nReserve early at\nJHCollage@gmail.com \nJoan Hall is a pioneer in the field of collage and assemblage illustration. Her work has appeared on covers of Time magazine and in The New York Times and numerous other publications.\nHall’s collages and assemblages have been exhibited in galleries and museums worldwide\, including the Centre Georges Pompidou in Paris and the Museo Tamayo in Mexico City. She was commissioned by the American Cultural Center to lecture\, exhibit\, and conduct workshops in France\, India\, Brazil\, and most recently lectured at The National Arts Club in New York City. \nJoan Hall :\n Profiles in Art Interview\n  Westbeth Artist Page
URL:https://westbeth.org/event/joan-hall-collage-workshop-3/
LOCATION:Westbeth Community Room
CATEGORIES:past-events
ATTACH;FMTTYPE=image/jpeg:https://westbeth.org/wp-content/uploads/2024/12/JOAN-HALL-COLLAGE-WEB.jpg
END:VEVENT
BEGIN:VEVENT
DTSTART;TZID=America/New_York:20241102T100000
DTEND;TZID=America/New_York:20241102T150000
DTSTAMP:20260423T074144
CREATED:20241002T194335Z
LAST-MODIFIED:20241103T000102Z
UID:10000658-1730541600-1730559600@westbeth.org
SUMMARY:Joan Hall Collage Workshop Free
DESCRIPTION:Click to enlarge Saturday Nov 2\, 2024 10 am – 3pm \nWestbeth Community Room\n155 Bank St\nenter through courtyard\nNew York\, NY \nSpace is limited: Contact Joan Hall at JHCollage@gmail.com  \nNative New Yorker Joan Hall is a pioneer in the field of collage and assemblage illustration. Her work has appeared on covers of Time magazine and in The New York Times and numerous other publications.Hall’s collages and assemblages have been exhibited in galleries and museums worldwide\, including the Centre Georges Pompidou in Paris and the Museo Tamayo in Mexico City. She was commissioned by the American Cultural Center to lecture\, exhibit\, and conduct workshops in France\, India\, Brazil\, and most recently lectured at The National Arts Club in New York City. \nJoan Hall  Westbeth Artist Page
URL:https://westbeth.org/event/joan-hall-collage-workshop-2/
LOCATION:Westbeth Community Room
CATEGORIES:past-events
ATTACH;FMTTYPE=image/png:https://westbeth.org/wp-content/uploads/2024/09/Joan-Hall-Collage-Nov-2024.png
END:VEVENT
BEGIN:VEVENT
DTSTART;VALUE=DATE:20241006
DTEND;VALUE=DATE:20241107
DTSTAMP:20260423T074144
CREATED:20241006T224308Z
LAST-MODIFIED:20241102T235944Z
UID:10000661-1728172800-1730937599@westbeth.org
SUMMARY:Joan Hall  Rhyme Time Poetry and Collage
DESCRIPTION:In her third book of poetry\, Rhyme Time\, Joan Hall pairs an anthology of her poems with original collages. Ranging from lighthearted and funny to heartfelt and introspective\, her words are relatable yet deeply personal. Hall digs deep\, dealing with topics including complicated relationships with family\, the loss of loved ones\, and a changing world. Inspired by the mundane and the extraordinary\, readers are also sure to enjoy her tales of eating bugs and brake failure on the Long Island Expressway alongside her own artwork. \nHaving developed a passion for art and poetry at a young age\, Hall won the Miriam Chaikin Writing Award in 2018 for her poetry. She has previously published two other poetry books\, Behind My Mind and Journey to Somewhere\, and her collages and assemblages have been enjoyed in galleries across the world. \nClick here to buy on Amazon
URL:https://westbeth.org/event/joan-hall-3/
LOCATION:Amazon
CATEGORIES:past-events
ATTACH;FMTTYPE=image/jpeg:https://westbeth.org/wp-content/uploads/2024/10/Joan-Hall-SQ-Rhyme-Cover-New-copy-2-1.jpg
END:VEVENT
BEGIN:VEVENT
DTSTART;TZID=America/New_York:20230819T100000
DTEND;TZID=America/New_York:20230819T150000
DTSTAMP:20260423T074144
CREATED:20230724T232808Z
LAST-MODIFIED:20230812T014650Z
UID:10000354-1692439200-1692457200@westbeth.org
SUMMARY:Joan Hall: Collage Workshop
DESCRIPTION:Native New Yorker Joan Hall is a pioneer in the field of collage and\nassemblage illustration. Her work has appeared on covers of Time magazine\,\nand in The New York Times and numerous other publications.\nIn 1978\, Milton Glaser invited Joan to design a Collage for Illustration class\nfor The School of Visual Arts\, NYC\, which she taught until 2011.\nHall’s collages and assemblages have been exhibited in galleries and\nmuseums worldwide\, including the Centre Georges Pompidou in Paris and\nthe Museo Tamayo in Mexico City. She was commissioned by the American\nCultural Center to lecture\, exhibit\, and conduct workshops in France\, India\,\nBrazil\, and most recently lectured at The National Arts Club in New York\nCity.\nShe has been a resident of Westbeth since 1971. \nJoan Hall Westbeth Artist page
URL:https://westbeth.org/event/joan-hall-collage-workshop/
LOCATION:Westbeth Community Room
CATEGORIES:past-events
ATTACH;FMTTYPE=image/png:https://westbeth.org/wp-content/uploads/2023/07/Joan-Hall-Collage-SQ-workshop-CWhigh-copy-2.png
END:VEVENT
END:VCALENDAR