BEGIN:VCALENDAR
VERSION:2.0
PRODID:-//Westbeth - ECPv6.15.20//NONSGML v1.0//EN
CALSCALE:GREGORIAN
METHOD:PUBLISH
X-ORIGINAL-URL:https://westbeth.org
X-WR-CALDESC:Events for Westbeth
REFRESH-INTERVAL;VALUE=DURATION:PT1H
X-Robots-Tag:noindex
X-PUBLISHED-TTL:PT1H
BEGIN:VTIMEZONE
TZID:America/New_York
BEGIN:DAYLIGHT
TZOFFSETFROM:-0500
TZOFFSETTO:-0400
TZNAME:EDT
DTSTART:20250309T070000
END:DAYLIGHT
BEGIN:STANDARD
TZOFFSETFROM:-0400
TZOFFSETTO:-0500
TZNAME:EST
DTSTART:20251102T060000
END:STANDARD
BEGIN:DAYLIGHT
TZOFFSETFROM:-0500
TZOFFSETTO:-0400
TZNAME:EDT
DTSTART:20260308T070000
END:DAYLIGHT
BEGIN:STANDARD
TZOFFSETFROM:-0400
TZOFFSETTO:-0500
TZNAME:EST
DTSTART:20261101T060000
END:STANDARD
BEGIN:DAYLIGHT
TZOFFSETFROM:-0500
TZOFFSETTO:-0400
TZNAME:EDT
DTSTART:20270314T070000
END:DAYLIGHT
BEGIN:STANDARD
TZOFFSETFROM:-0400
TZOFFSETTO:-0500
TZNAME:EST
DTSTART:20271107T060000
END:STANDARD
END:VTIMEZONE
BEGIN:VEVENT
DTSTART;TZID=America/New_York:20260402T080000
DTEND;TZID=America/New_York:20260507T170000
DTSTAMP:20260423T091625
CREATED:20260402T211718Z
LAST-MODIFIED:20260402T212628Z
UID:10000991-1775116800-1778173200@westbeth.org
SUMMARY:Hugh Seidman's Papers  Acquired by U of California  San Diego Library
DESCRIPTION:Click to enlarge image The papers of the late Hugh Seidman have been acquired by the The University of California\, San Diego Library.  \nIntended as a research collection\, Archive for New Poetry focuses on alternative approaches to writing in the English language since 1945\, including the Objectivists\, the New York School\, and Black Mountain College.  \nHugh’s complete archives at UCSD contain correspondence\, poetry manuscripts\, physics papers\, memorabilia\, and photographs. The Archive is available to scholars\, writers\, and students.  \n\nRead Hugh’s Westbeth Profile by Terry Stoller at https://westbeth.org/profiles-in-art/hugh-seidman-poet/ \nHugh Seidman website: https://www.hughseidman.com/index.htm
URL:https://westbeth.org/event/hugh-seidmans-papers-acquired-by-u-of-california-san-diego-library/
LOCATION:Online
CATEGORIES:Artists
ATTACH;FMTTYPE=image/png:https://westbeth.org/wp-content/uploads/2026/04/Screenshot-2026-04-02-at-4.56.43-PM.png
END:VEVENT
END:VCALENDAR