BEGIN:VCALENDAR
VERSION:2.0
PRODID:-//Westbeth - ECPv6.15.20//NONSGML v1.0//EN
CALSCALE:GREGORIAN
METHOD:PUBLISH
X-ORIGINAL-URL:https://westbeth.org
X-WR-CALDESC:Events for Westbeth
REFRESH-INTERVAL;VALUE=DURATION:PT1H
X-Robots-Tag:noindex
X-PUBLISHED-TTL:PT1H
BEGIN:VTIMEZONE
TZID:America/New_York
BEGIN:DAYLIGHT
TZOFFSETFROM:-0500
TZOFFSETTO:-0400
TZNAME:EDT
DTSTART:20240310T070000
END:DAYLIGHT
BEGIN:STANDARD
TZOFFSETFROM:-0400
TZOFFSETTO:-0500
TZNAME:EST
DTSTART:20241103T060000
END:STANDARD
BEGIN:DAYLIGHT
TZOFFSETFROM:-0500
TZOFFSETTO:-0400
TZNAME:EDT
DTSTART:20250309T070000
END:DAYLIGHT
BEGIN:STANDARD
TZOFFSETFROM:-0400
TZOFFSETTO:-0500
TZNAME:EST
DTSTART:20251102T060000
END:STANDARD
BEGIN:DAYLIGHT
TZOFFSETFROM:-0500
TZOFFSETTO:-0400
TZNAME:EDT
DTSTART:20260308T070000
END:DAYLIGHT
BEGIN:STANDARD
TZOFFSETFROM:-0400
TZOFFSETTO:-0500
TZNAME:EST
DTSTART:20261101T060000
END:STANDARD
END:VTIMEZONE
BEGIN:VEVENT
DTSTART;TZID=America/New_York:20251002T080000
DTEND;TZID=America/New_York:20251002T170000
DTSTAMP:20260423T133042
CREATED:20251002T111540Z
LAST-MODIFIED:20251018T012232Z
UID:10000851-1759392000-1759424400@westbeth.org
SUMMARY:Giraudo Sinfonietta  Pedro Giraudo Chamber Orchestra
DESCRIPTION:Sunday Oct 12\, 2025 at 7pm \nWestbeth Community Room\n155 Bank Street\n(enter through courtyard)\nNew York\, NY 10014 \nFREE FOR WESSTBETH RESIDENTS\nGENERAL PUBLIC TICKETS : Eventbrite Giraduo Sinfonietta \nThis event marks the performance  of the Giraudo Sinfonietta — a brand-new chamber orchestra dedicated to performing the music of Pedro Girado. This ensemble of 10 extraordinary musicians will bring his compositions to life for the very first time in this format.\n \nPedro Giraudo\nLatin Grammy Award winner bassist and composer Pedro Giraudo is among the most compelling tango artists today. After two decades performing with the most important interpreters of tango\, Pedro Giraudo debuted his own Tango Orchestra at Lincoln Center’s Midsummer Night Swing in July 2015 and since then has become an active cultural ambassador of this beautiful and passionate music of his native Argentina. \nWestbeth Artist Page: Pedro Giraudo\nWebsite  Pedro Giraudo
URL:https://westbeth.org/event/giraudo-sinfonietta-pedro-giraudo-chamber-orchestra/
LOCATION:Westbeth Community Room
CATEGORIES:past-events
ATTACH;FMTTYPE=image/png:https://westbeth.org/wp-content/uploads/2025/10/Oct-12-SQ-Giraudo-Sinfonietta-@-Westbeth.png
END:VEVENT
END:VCALENDAR