BEGIN:VCALENDAR
VERSION:2.0
PRODID:-//Westbeth - ECPv6.15.20//NONSGML v1.0//EN
CALSCALE:GREGORIAN
METHOD:PUBLISH
X-ORIGINAL-URL:https://westbeth.org
X-WR-CALDESC:Events for Westbeth
REFRESH-INTERVAL;VALUE=DURATION:PT1H
X-Robots-Tag:noindex
X-PUBLISHED-TTL:PT1H
BEGIN:VTIMEZONE
TZID:America/New_York
BEGIN:DAYLIGHT
TZOFFSETFROM:-0500
TZOFFSETTO:-0400
TZNAME:EDT
DTSTART:20240310T070000
END:DAYLIGHT
BEGIN:STANDARD
TZOFFSETFROM:-0400
TZOFFSETTO:-0500
TZNAME:EST
DTSTART:20241103T060000
END:STANDARD
BEGIN:DAYLIGHT
TZOFFSETFROM:-0500
TZOFFSETTO:-0400
TZNAME:EDT
DTSTART:20250309T070000
END:DAYLIGHT
BEGIN:STANDARD
TZOFFSETFROM:-0400
TZOFFSETTO:-0500
TZNAME:EST
DTSTART:20251102T060000
END:STANDARD
BEGIN:DAYLIGHT
TZOFFSETFROM:-0500
TZOFFSETTO:-0400
TZNAME:EDT
DTSTART:20260308T070000
END:DAYLIGHT
BEGIN:STANDARD
TZOFFSETFROM:-0400
TZOFFSETTO:-0500
TZNAME:EST
DTSTART:20261101T060000
END:STANDARD
END:VTIMEZONE
BEGIN:VEVENT
DTSTART;VALUE=DATE:20251005
DTEND;VALUE=DATE:20251015
DTSTAMP:20260423T133043
CREATED:20250928T173105Z
LAST-MODIFIED:20251018T012336Z
UID:10000834-1759622400-1760486399@westbeth.org
SUMMARY:Gayle Kirschenbaum Book Launch  Bullied to Besties
DESCRIPTION:It’s happening! \nNYC launch tickets for BULLIED TO BESTIES: A Daughter’s Journey to Forgiveness are live and Mom and I would love to see you there. \nTuesday October 14\, 2025 at 7PM\n Free \nWestbeth Community Room\n155 Bank St\n(enter through courtyard)\nNew York\, NY 10014 \nPlus other venues: \nReserve Oct 5 — PT Knitwear\nReserve Oct 8 — Bibliotheque \n“Mesmeric… riveting and beautifully wrought.”\n— Publishers Weekly (on BULLIED TO BESTIES) \nEver wished you could rewrite a painful family story—and finally feel free? That’s this book. If you’ve followed us on social\, you’ve seen the joy; what you haven’t seen are the years it took to get there. Mom just turned 102 (!) and we’re celebrating by gathering in NYC. We’d love for you to be in the room. \n \nSunday\, Oct 5 · 3:00–4:30 PM — PT Knitwear (NYC) 180 Orchard Street\, NYC \nModerator: Dr. Pamela Thompson \nAbout our moderator: Dr. Thompson is the therapist Mom and I worked with—the one who helped us crack open decades-old patterns and create real change. It’s a treat: she’s flying in to moderate\, and she’s also an author who wrote Surviving Mama. \nPT Knitwear tickets & bundles: \nGeneral Admission ($5) — applies toward a book or café purchase that night\n📚 Book-Bundle Ticket (Best Option) — includes one copy of BULLIED TO BESTIES (guarantees your copy for the signing; priced at MSRP + tax)\nSigning to follow — books signed must be purchased from PT Knitwear\nReserve PT Knitwear Tickets \nWednesday\, Oct 8 · 6:00–7:00 PM — Bibliotheque (SoHo) 54 Mercer Street\, NYC \nModerator: Amy B. Scher \nAbout our moderator: Amy is the bestselling\, award-winning author of five books on healing\, translated into 20 languages and endorsed by Elizabeth Gilbert and other luminaries. An intimate bookstore–café–wine bar setting with very limited seats (cocktails served). \nSelect your preferred ticket tier (some tiers include a book). \n>Reserve Bibliotheque Tickets \nCan’t attend in person?\nYou can still support launch week and get your copy delivered: \nPre-order the Kindle edition\nPre-order the Paperback \nGayle Kirschenbaum is an Emmy-winning filmmaker\, photographer\, writer\, and coach. Her film LOOK AT US NOW\, MOTHER! premiered on Netflix and has been credited with transforming lives. Her TED talk is “No More Drama with Mama.” Gayle co-authored MILDRED’S MINDSET: WISDOM FROM A WOMAN CENTENARIAN with her mother\, centenarian influencer Mildred Kirschenbaum. Her film A DOG’S LIFE: A DOGAMENTARY premiered on HBO. Gayle and her work have been featured in The New York Times\, The Washington Post\, Shondaland\, The Ethel (AARP)\, and on national television. BULLIED TO BESTIES: A DAUGHTER’S JOURNEY TO FORGIVENESS is her debut memoir. Publisher’s Weekly calls it “a mesmeric memoir… more than a story of trauma–riveting and beautifully wrought.” \nAt 102\, Mildred Kirschenbaum has a zest for life. She is known for her viral life advice\, as written in MILDRED’S MINDSET: WISDOM FROM A WOMAN CENTENARIAN\, which features 20 tips on longevity and living life to the fullest. She is a social media influencer\, sharing her simple yet profound tips for a fulfilling life. Mildred’s positive attitude and love for socializing have endeared her to many\, and her approach to life reflects her belief in enjoying every day. Her daughter\, Gayle Kirschenbaum\, has been instrumental in sharing her mother’s wisdom with the world. Mildred’s remarkable journey and unique perspective on life inspire and uplift readers of all ages. \nGayle and Mildred are influencers on social media. To follow\, go to @glkirschenbaum on Instagram\, TikTok\, and Threads. To read Gayle’s stories\, subscribe to her Substack. To be kept in the know about BULLIED TO BESTIES\, sign up here. For more information\, visit GayleKirschenbaum.com.
URL:https://westbeth.org/event/gayle-kirschenbaum-book-launch-bullied-to-besties/
LOCATION:Westbeth Community Room\, and other venues
CATEGORIES:past-events
ATTACH;FMTTYPE=image/jpeg:https://westbeth.org/wp-content/uploads/2025/09/Gayle-Kirschenbaum-SQ-Bullied.jpg
END:VEVENT
END:VCALENDAR