BEGIN:VCALENDAR
VERSION:2.0
PRODID:-//Westbeth - ECPv6.15.20//NONSGML v1.0//EN
CALSCALE:GREGORIAN
METHOD:PUBLISH
X-ORIGINAL-URL:https://westbeth.org
X-WR-CALDESC:Events for Westbeth
REFRESH-INTERVAL;VALUE=DURATION:PT1H
X-Robots-Tag:noindex
X-PUBLISHED-TTL:PT1H
BEGIN:VTIMEZONE
TZID:America/New_York
BEGIN:DAYLIGHT
TZOFFSETFROM:-0500
TZOFFSETTO:-0400
TZNAME:EDT
DTSTART:20230312T070000
END:DAYLIGHT
BEGIN:STANDARD
TZOFFSETFROM:-0400
TZOFFSETTO:-0500
TZNAME:EST
DTSTART:20231105T060000
END:STANDARD
BEGIN:DAYLIGHT
TZOFFSETFROM:-0500
TZOFFSETTO:-0400
TZNAME:EDT
DTSTART:20240310T070000
END:DAYLIGHT
BEGIN:STANDARD
TZOFFSETFROM:-0400
TZOFFSETTO:-0500
TZNAME:EST
DTSTART:20241103T060000
END:STANDARD
BEGIN:DAYLIGHT
TZOFFSETFROM:-0500
TZOFFSETTO:-0400
TZNAME:EDT
DTSTART:20250309T070000
END:DAYLIGHT
BEGIN:STANDARD
TZOFFSETFROM:-0400
TZOFFSETTO:-0500
TZNAME:EST
DTSTART:20251102T060000
END:STANDARD
END:VTIMEZONE
BEGIN:VEVENT
DTSTART;TZID=America/New_York:20240507T190000
DTEND;TZID=America/New_York:20240507T203000
DTSTAMP:20260423T132905
CREATED:20240102T135954Z
LAST-MODIFIED:20240509T140148Z
UID:10000509-1715108400-1715113800@westbeth.org
SUMMARY:Gayle Kirschenbaum  Mildred Kirschenbaum  Mildred's Mindset Book Event
DESCRIPTION:C;ick to enlarge \nTuesday May 7\, 2024 at 7pm \nWestbeth Community Rm\n55 Bethune St\nNY NY \nMildred Kirschenbaum\, from Brooklyn\, New York\, has captured hearts as a social media influencer with her viral life advice\, drawing from her rich life experiences\, including starting a family post-World War II and founding a travel agency. Her book\, Mildred’s Mindset: Wisdom from a Woman Centenarian\, encapsulates her secrets to longevity and a joy-filled life. \nGayle Kirschenbaum is an Emmy-winning filmmaker\, photographer\, writer\, and forgiveness coach. Her film Look at Us Now\, Mother! premiered on Netflix and has been credited with transforming lives. Also see her TEDx talk “No More Drama with Mama.” To learn more about Gayle’s work visit GayleKirschenbaum.com
URL:https://westbeth.org/event/gayle-kirschenbaum-mildred-kirschenbaum-mildreds-mindset-book-event/
LOCATION:Westbeth Community Room
CATEGORIES:past-events
ATTACH;FMTTYPE=image/jpeg:https://westbeth.org/wp-content/uploads/2024/04/Gayle-poster-SQUARE.jpg
END:VEVENT
END:VCALENDAR