BEGIN:VCALENDAR
VERSION:2.0
PRODID:-//Westbeth - ECPv6.15.20//NONSGML v1.0//EN
CALSCALE:GREGORIAN
METHOD:PUBLISH
X-ORIGINAL-URL:https://westbeth.org
X-WR-CALDESC:Events for Westbeth
REFRESH-INTERVAL;VALUE=DURATION:PT1H
X-Robots-Tag:noindex
X-PUBLISHED-TTL:PT1H
BEGIN:VTIMEZONE
TZID:America/New_York
BEGIN:DAYLIGHT
TZOFFSETFROM:-0500
TZOFFSETTO:-0400
TZNAME:EDT
DTSTART:20240310T070000
END:DAYLIGHT
BEGIN:STANDARD
TZOFFSETFROM:-0400
TZOFFSETTO:-0500
TZNAME:EST
DTSTART:20241103T060000
END:STANDARD
BEGIN:DAYLIGHT
TZOFFSETFROM:-0500
TZOFFSETTO:-0400
TZNAME:EDT
DTSTART:20250309T070000
END:DAYLIGHT
BEGIN:STANDARD
TZOFFSETFROM:-0400
TZOFFSETTO:-0500
TZNAME:EST
DTSTART:20251102T060000
END:STANDARD
BEGIN:DAYLIGHT
TZOFFSETFROM:-0500
TZOFFSETTO:-0400
TZNAME:EDT
DTSTART:20260308T070000
END:DAYLIGHT
BEGIN:STANDARD
TZOFFSETFROM:-0400
TZOFFSETTO:-0500
TZNAME:EST
DTSTART:20261101T060000
END:STANDARD
BEGIN:DAYLIGHT
TZOFFSETFROM:-0500
TZOFFSETTO:-0400
TZNAME:EDT
DTSTART:20270314T070000
END:DAYLIGHT
BEGIN:STANDARD
TZOFFSETFROM:-0400
TZOFFSETTO:-0500
TZNAME:EST
DTSTART:20271107T060000
END:STANDARD
END:VTIMEZONE
BEGIN:VEVENT
DTSTART;TZID=America/New_York:20260201T140000
DTEND;TZID=America/New_York:20260201T170000
DTSTAMP:20260423T164736
CREATED:20260126T013053Z
LAST-MODIFIED:20260202T032133Z
UID:10000950-1769954400-1769965200@westbeth.org
SUMMARY:Celebrating Westbeth Jazz Round Two  Nasheet Waits Guest Commentator
DESCRIPTION:Click image to enlarge \nSUNDAY FEB 1\, 2026\n2pm – 5pm \nWestbeth Community Room\n155 Bank St\n(enter through courtyard)\nNew York\, NY 10014 \nLISTENING SESSION to the historic recordings of the 1980 Westbeth Works Concerts featuring Freddie Waits (Dawud) and Nasheet Waits and many more.\nFREE AND OPEN TO THE PUBLIC \nCROSSING TONES is a non-profit archive for significant collections of Jazz music and related items for teaching and listening initiatives. More Info:  Crossing Tones. \n‘WITHIN THESE WALLS; JAZZ AT WESTBETH\, While you are at Westbeth\, visit the exhibition at Bethune St Lobby. It features photos and bios of the jazz greats who lived here\, including Freddie Waits (Dawud) and Nasheet Waits and many more. \nClick to enlarge \nClick to enlarge
URL:https://westbeth.org/event/celebrating-westbeth-jazz-round-two-nasheet-waits-guest-commentator/
LOCATION:Westbeth Community Room
CATEGORIES:past-events
ATTACH;FMTTYPE=image/png:https://westbeth.org/wp-content/uploads/2026/01/NASHEET-WAITS-SQ-CROSSING-TONES-copy.png
END:VEVENT
BEGIN:VEVENT
DTSTART;TZID=America/New_York:20250601T140000
DTEND;TZID=America/New_York:20250601T170000
DTSTAMP:20260423T164736
CREATED:20250514T221414Z
LAST-MODIFIED:20250609T004615Z
UID:10000776-1748786400-1748797200@westbeth.org
SUMMARY:Crossing Tones Presents: Celebrating Westbeth Jazz 1980  Guest Commentator: Billy Harper
DESCRIPTION:Click image to enlarge\n\nSunday June 1\, 2025 12 – 5pm \nWestbeth Community Room\n155 Bank St\n(enter through courtyard)\nNew York\, NY 10014 \nLISTENING SEESION FREE AND OPEN TO THE PUBLIC \nHistoric recordings of Freddie Waits\, Patti Boiwn\, Chuck Israels\, Billy Harper\, Gil Evans\, Peter Warren\, Stanely Cowell\, and more! \nMore info CrossingTones.org \n‘WITHIN THESE WALLS; JAZZ AT WESTBETH\, While you are at Westbeth\,  visit the exhibition at Bethune St Lobby. It features photos and bios of the jazz greats who lived here\, including all of the above and much more \, as well as the musicians who live here now.
URL:https://westbeth.org/event/jazz-at-westbeth-1980-listening-sessing-with-billy-harper/
LOCATION:Westbeth Community Room
CATEGORIES:past-events
ATTACH;FMTTYPE=image/png:https://westbeth.org/wp-content/uploads/2025/05/CROSSTONE-AQ-S-BILLY-HARPER.png
END:VEVENT
END:VCALENDAR