BEGIN:VCALENDAR
VERSION:2.0
PRODID:-//Westbeth - ECPv6.15.20//NONSGML v1.0//EN
CALSCALE:GREGORIAN
METHOD:PUBLISH
X-ORIGINAL-URL:https://westbeth.org
X-WR-CALDESC:Events for Westbeth
REFRESH-INTERVAL;VALUE=DURATION:PT1H
X-Robots-Tag:noindex
X-PUBLISHED-TTL:PT1H
BEGIN:VTIMEZONE
TZID:America/New_York
BEGIN:DAYLIGHT
TZOFFSETFROM:-0500
TZOFFSETTO:-0400
TZNAME:EDT
DTSTART:20240310T070000
END:DAYLIGHT
BEGIN:STANDARD
TZOFFSETFROM:-0400
TZOFFSETTO:-0500
TZNAME:EST
DTSTART:20241103T060000
END:STANDARD
BEGIN:DAYLIGHT
TZOFFSETFROM:-0500
TZOFFSETTO:-0400
TZNAME:EDT
DTSTART:20250309T070000
END:DAYLIGHT
BEGIN:STANDARD
TZOFFSETFROM:-0400
TZOFFSETTO:-0500
TZNAME:EST
DTSTART:20251102T060000
END:STANDARD
BEGIN:DAYLIGHT
TZOFFSETFROM:-0500
TZOFFSETTO:-0400
TZNAME:EDT
DTSTART:20260308T070000
END:DAYLIGHT
BEGIN:STANDARD
TZOFFSETFROM:-0400
TZOFFSETTO:-0500
TZNAME:EST
DTSTART:20261101T060000
END:STANDARD
END:VTIMEZONE
BEGIN:VEVENT
DTSTART;TZID=America/New_York:20251003T190000
DTEND;TZID=America/New_York:20251003T203000
DTSTAMP:20260423T111613
CREATED:20250921T233342Z
LAST-MODIFIED:20251007T234940Z
UID:10000838-1759518000-1759523400@westbeth.org
SUMMARY:First Fridays Free Live Music : Emergency Group and Framed Ophelia
DESCRIPTION:Friday Oct 3\, 2025 at 7pm\nWestbeth Community Room\n155 Bank St\n(enter through courtyard)\nNew York\, NY 10014 \nJoin Westbeth Musician Andreas Brade for an evening full of Free Improvised Music touches of ambience\, Jazz Rock\, Electronica\, Krautrock and Free Jazz will feature two Groups \nFramed Ophelia: featuring Walter Horn\, keyboards; Tsuyoshi Honjo\, Saxophone; Peter Evans multi instrumentalist & electronics. \nEmergency Group: featuring Robert Boston\, keyboards; Jonathan Byerley\, guitar; Dave Mandl\, Bass; Andreas Brade\, drums \nWith this event we will celebrate the recording Emergency Group at Westbeth.\nPlease come and join us for an evening of music in the moment\, This is an all age event. \n Bandcamp link Emergency Group\n\nBandcamp link to Framed Ophelia
URL:https://westbeth.org/event/first-fridays-free-live-music-emergency-group-and-framed-ophelia/
LOCATION:Westbeth Community Room
CATEGORIES:past-events
ATTACH;FMTTYPE=image/png:https://westbeth.org/wp-content/uploads/2025/09/first-fridays-Emergency-Group-.png
END:VEVENT
END:VCALENDAR