BEGIN:VCALENDAR
VERSION:2.0
PRODID:-//Westbeth - ECPv6.15.20//NONSGML v1.0//EN
CALSCALE:GREGORIAN
METHOD:PUBLISH
X-ORIGINAL-URL:https://westbeth.org
X-WR-CALDESC:Events for Westbeth
REFRESH-INTERVAL;VALUE=DURATION:PT1H
X-Robots-Tag:noindex
X-PUBLISHED-TTL:PT1H
BEGIN:VTIMEZONE
TZID:America/New_York
BEGIN:DAYLIGHT
TZOFFSETFROM:-0500
TZOFFSETTO:-0400
TZNAME:EDT
DTSTART:20230312T070000
END:DAYLIGHT
BEGIN:STANDARD
TZOFFSETFROM:-0400
TZOFFSETTO:-0500
TZNAME:EST
DTSTART:20231105T060000
END:STANDARD
BEGIN:DAYLIGHT
TZOFFSETFROM:-0500
TZOFFSETTO:-0400
TZNAME:EDT
DTSTART:20240310T070000
END:DAYLIGHT
BEGIN:STANDARD
TZOFFSETFROM:-0400
TZOFFSETTO:-0500
TZNAME:EST
DTSTART:20241103T060000
END:STANDARD
BEGIN:DAYLIGHT
TZOFFSETFROM:-0500
TZOFFSETTO:-0400
TZNAME:EDT
DTSTART:20250309T070000
END:DAYLIGHT
BEGIN:STANDARD
TZOFFSETFROM:-0400
TZOFFSETTO:-0500
TZNAME:EST
DTSTART:20251102T060000
END:STANDARD
BEGIN:DAYLIGHT
TZOFFSETFROM:-0500
TZOFFSETTO:-0400
TZNAME:EDT
DTSTART:20260308T070000
END:DAYLIGHT
BEGIN:STANDARD
TZOFFSETFROM:-0400
TZOFFSETTO:-0500
TZNAME:EST
DTSTART:20261101T060000
END:STANDARD
END:VTIMEZONE
BEGIN:VEVENT
DTSTART;TZID=America/New_York:20250114T180000
DTEND;TZID=America/New_York:20250114T210000
DTSTAMP:20260423T132733
CREATED:20250107T135613Z
LAST-MODIFIED:20250115T022829Z
UID:10000705-1736877600-1736888400@westbeth.org
SUMMARY:Fix-It Night  With the Fixers Collective Special Guest David Rafael of David's Shoe and Watch
DESCRIPTION:Tues January 14\, 2025\n6pm – 9pm \nWestbeth Community Room\n155 Bank St\n(enter through courtyard)\nNew York NY\n$5 per item suggested donation \nBring Your Own Parts \n Sign Up for a Fix: Westbethconservation@gmail.com \nFIX-IT NIGHT is back! The first fixing session of 2025.\nWe can’t fix the future but for your furniture\, small appliances\, electronics\, jewelry\, clothing\, ceramics and pottery\, toys and more\, we are here and NOW! $5 per item. Please email WestsbethConservation@gmail.com to book a spot.\nInclude a description of your item\, what’s wrong (if you know) and the time you’d like to come.  Appointments are on the :10s\, :30s and :50s beginning at 6:10pm. \nSPECIAL GUEST David Rafael of Greenwich Village’s David’s Shoe and Watch Repair will be among the repair gurus at our Fix-It Night on January 14th! Bring your flappy soles\, your broken heels and your slow-running timepieces to place in his expert hands! \nAlso! Cord Clearout! Bring those old wires\, cubes\, cords\, fobs and adapters for our Stray Cable Table! It’s time to let that junk go. Bring a cord. Swap it for the one you need. AirPods without partners? Bring ’em\, too. Those unadopted are headed to electronics heaven in the DSNY e-waste bin.
URL:https://westbeth.org/event/fix-it-night-with-the-fixers-collective/
LOCATION:Westbeth Community Room
CATEGORIES:past-events
ATTACH;FMTTYPE=image/jpeg:https://westbeth.org/wp-content/uploads/2025/01/Fix-it-Night-Jan-14-DAVIDSQ-REV-REV-copy.jpg
END:VEVENT
BEGIN:VEVENT
DTSTART;TZID=America/New_York:20241112T180000
DTEND;TZID=America/New_York:20241112T210000
DTSTAMP:20260423T132733
CREATED:20241101T003303Z
LAST-MODIFIED:20241116T014933Z
UID:10000668-1731434400-1731445200@westbeth.org
SUMMARY:Fix-It Night with the Fixers Collective: Don't Trash It\, Repair It
DESCRIPTION:Click to enlarge \nTuesday Nov 12\, 2024 6pm – 9pm\nWestbeth Community Room\n155 Bank Street\nenter through courtyard\nNew York\, NY \nFREE ($5 donation suggested)\nBRING YOUR OWN PARTS \nSIGN UP FOR A FIX (REQUIRED) westbethconservation@gmail.com \nMission Statement:The Westbeth Artists Residents Council’s Conservation Committee promotes sustainability in our West Village community through education\, communication\, and exciting events that support your efforts to reduce\, reuse and recycle.
URL:https://westbeth.org/event/fix-it-night-with-the-fixers-collective-dont-trash-it-repair-it/
LOCATION:Westbeth Community Room
CATEGORIES:past-events
ATTACH;FMTTYPE=image/jpeg:https://westbeth.org/wp-content/uploads/2024/10/Carol-SQ-and-Dennis.jpg
END:VEVENT
END:VCALENDAR