BEGIN:VCALENDAR
VERSION:2.0
PRODID:-//Westbeth - ECPv6.15.20//NONSGML v1.0//EN
CALSCALE:GREGORIAN
METHOD:PUBLISH
X-ORIGINAL-URL:https://westbeth.org
X-WR-CALDESC:Events for Westbeth
REFRESH-INTERVAL;VALUE=DURATION:PT1H
X-Robots-Tag:noindex
X-PUBLISHED-TTL:PT1H
BEGIN:VTIMEZONE
TZID:America/New_York
BEGIN:DAYLIGHT
TZOFFSETFROM:-0500
TZOFFSETTO:-0400
TZNAME:EDT
DTSTART:20220313T070000
END:DAYLIGHT
BEGIN:STANDARD
TZOFFSETFROM:-0400
TZOFFSETTO:-0500
TZNAME:EST
DTSTART:20221106T060000
END:STANDARD
BEGIN:DAYLIGHT
TZOFFSETFROM:-0500
TZOFFSETTO:-0400
TZNAME:EDT
DTSTART:20230312T070000
END:DAYLIGHT
BEGIN:STANDARD
TZOFFSETFROM:-0400
TZOFFSETTO:-0500
TZNAME:EST
DTSTART:20231105T060000
END:STANDARD
BEGIN:DAYLIGHT
TZOFFSETFROM:-0500
TZOFFSETTO:-0400
TZNAME:EDT
DTSTART:20240310T070000
END:DAYLIGHT
BEGIN:STANDARD
TZOFFSETFROM:-0400
TZOFFSETTO:-0500
TZNAME:EST
DTSTART:20241103T060000
END:STANDARD
END:VTIMEZONE
BEGIN:VEVENT
DTSTART;TZID=America/New_York:20230518T080000
DTEND;TZID=America/New_York:20230715T170000
DTSTAMP:20260423T113704
CREATED:20230317T015947Z
LAST-MODIFIED:20230720T232512Z
UID:10000268-1684396800-1689440400@westbeth.org
SUMMARY:Westbeth Gallery  Call for Exhibition Proposals
DESCRIPTION:Background\nThe Westbeth Gallery is a nonprofit fine arts gallery located within Westbeth Artist Housing in\nthe West Village in Manhattan. The gallery is operated by the Westbeth Artists Residents\nCouncil which is a volunteer organization elected by the residents of Westbeth. Exhibitors are\ngiven latitude in the content and arrangement of their work. Exhibitors are expected to work\nindependently to curate\, promote and install their exhibition professionally. \nThe gallery is seeking diverse proposals from institutions\, curators or individual artists for\nexhibitions in 2024. Each exhibition is approximately three weeks in length and must use all four\nrooms of our 2900 square foot gallery. Proposed exhibitions should be composed of artwork\nthat is the product of professional artists and executed in the last five years. \nProposal Requirements\nAll proposals are due by the extended deadline July 15\, 2023. Proposals submitted after July 1st will be ineligible for\nreview.\nWe only accept digital proposals. Email your proposal to westbethgallery@gmail.com \nSUBMIT:\n• 200 word statement of your proposed exhibition including title see attached form below.\n• A Resume in pdf form of the curator and/or featured artist(s) (2 pages max per).\nVisual Support:\n• 6 digital images from an individual artist or a selection of 2 images from a group or institution.\nPlease format your images in the following:\nFile name: labeled with your last name and order number\nEXAMPLE: Smith01.jpg\, Smith02.jpg\, Smith03.jpg\nDimensions: the largest size should be no more than 3000 pixels\, no wider than 10″.\nResolution: 72dpi (do not send Tiff files)\nImage List: provide: title of piece\, materials and dimensions\, date the work was produced.\nThe Review Committee will not look at websites of any kind.\nGallery Information Guidelines for the gallery and floor plans can be found at\nwww.westbeth.org under About/Westbeth Gallery. \nSelection Process\nAll proposals will be reviewed by members of the Visual Arts Selection Sub-Committee. \nProposals that are accepted will be notified by Sept 30th 2023. \nDOWNLOAD INSTRUCTIONS AND EXHIBITION PROPOSAL COVER SHEET  OPEN CALL Call form Proposals 2024 \nFURTHER INFO ON WESTBETH GALLERY HERE
URL:https://westbeth.org/event/westbeth-gallery-call-for-exhibition-proposals/
LOCATION:Online and Info at Westbeth Gallery
CATEGORIES:past-events
ATTACH;FMTTYPE=image/png:https://westbeth.org/wp-content/uploads/2023/03/MainOpenCall2024_extended.png
END:VEVENT
END:VCALENDAR