BEGIN:VCALENDAR
VERSION:2.0
PRODID:-//Westbeth - ECPv6.15.20//NONSGML v1.0//EN
CALSCALE:GREGORIAN
METHOD:PUBLISH
X-ORIGINAL-URL:https://westbeth.org
X-WR-CALDESC:Events for Westbeth
REFRESH-INTERVAL;VALUE=DURATION:PT1H
X-Robots-Tag:noindex
X-PUBLISHED-TTL:PT1H
BEGIN:VTIMEZONE
TZID:America/New_York
BEGIN:DAYLIGHT
TZOFFSETFROM:-0500
TZOFFSETTO:-0400
TZNAME:EDT
DTSTART:20240310T070000
END:DAYLIGHT
BEGIN:STANDARD
TZOFFSETFROM:-0400
TZOFFSETTO:-0500
TZNAME:EST
DTSTART:20241103T060000
END:STANDARD
BEGIN:DAYLIGHT
TZOFFSETFROM:-0500
TZOFFSETTO:-0400
TZNAME:EDT
DTSTART:20250309T070000
END:DAYLIGHT
BEGIN:STANDARD
TZOFFSETFROM:-0400
TZOFFSETTO:-0500
TZNAME:EST
DTSTART:20251102T060000
END:STANDARD
BEGIN:DAYLIGHT
TZOFFSETFROM:-0500
TZOFFSETTO:-0400
TZNAME:EDT
DTSTART:20260308T070000
END:DAYLIGHT
BEGIN:STANDARD
TZOFFSETFROM:-0400
TZOFFSETTO:-0500
TZNAME:EST
DTSTART:20261101T060000
END:STANDARD
END:VTIMEZONE
BEGIN:VEVENT
DTSTART;VALUE=DATE:20251118
DTEND;VALUE=DATE:20251122
DTSTAMP:20260423T094350
CREATED:20251114T021022Z
LAST-MODIFIED:20251126T165244Z
UID:10000911-1763424000-1763769599@westbeth.org
SUMMARY:Westbeth E-Waste Disposal Drive 2025 Bring Us Your Tired\, Huddled  Electronics
DESCRIPTION:OPEN BIN\nTuesday Nov 18\, 2025 9am – Noon\nWestbeth Mail Room\n55 Bethune Street NYC 10014 \nELECTRONICS EXCHANGE\nTuesday Nov 18\, 2025 6pm – 9pm\nDrop off working /repairable electronics\nWestbeth Community Room\n155 Bank St (enter through courtyard) NYC 10014 \nAT YOUR DOOR PICKUP\nWednesday Nov 19\, 2025 9am – 11am\nHeavy bulky items\nemail: westbethconservation@gmail.com \nOPEN BIN PRE BINGO\nThursday Nov 20\, 2025 6 – 7pm\nWestbeth Community Room \nAT YOUR DOOR PICKUP\nFriday Nov 21\, 2025 9am – 10am\nemail: westbethconservation@gmail.com
URL:https://westbeth.org/event/westbeth-e-waste-disposal-drive-2025-bring-us-your-tired-huddled-electronics/
LOCATION:Westbeth Community Room
CATEGORIES:past-events
ATTACH;FMTTYPE=image/jpeg:https://westbeth.org/wp-content/uploads/2025/11/E-Waste-Button-.jpg
END:VEVENT
END:VCALENDAR