BEGIN:VCALENDAR
VERSION:2.0
PRODID:-//Westbeth - ECPv6.15.20//NONSGML v1.0//EN
CALSCALE:GREGORIAN
METHOD:PUBLISH
X-ORIGINAL-URL:https://westbeth.org
X-WR-CALDESC:Events for Westbeth
REFRESH-INTERVAL;VALUE=DURATION:PT1H
X-Robots-Tag:noindex
X-PUBLISHED-TTL:PT1H
BEGIN:VTIMEZONE
TZID:America/New_York
BEGIN:DAYLIGHT
TZOFFSETFROM:-0500
TZOFFSETTO:-0400
TZNAME:EDT
DTSTART:20250309T070000
END:DAYLIGHT
BEGIN:STANDARD
TZOFFSETFROM:-0400
TZOFFSETTO:-0500
TZNAME:EST
DTSTART:20251102T060000
END:STANDARD
BEGIN:DAYLIGHT
TZOFFSETFROM:-0500
TZOFFSETTO:-0400
TZNAME:EDT
DTSTART:20260308T070000
END:DAYLIGHT
BEGIN:STANDARD
TZOFFSETFROM:-0400
TZOFFSETTO:-0500
TZNAME:EST
DTSTART:20261101T060000
END:STANDARD
BEGIN:DAYLIGHT
TZOFFSETFROM:-0500
TZOFFSETTO:-0400
TZNAME:EDT
DTSTART:20270314T070000
END:DAYLIGHT
BEGIN:STANDARD
TZOFFSETFROM:-0400
TZOFFSETTO:-0500
TZNAME:EST
DTSTART:20271107T060000
END:STANDARD
END:VTIMEZONE
BEGIN:VEVENT
DTSTART;TZID=America/New_York:20260206T130000
DTEND;TZID=America/New_York:20260222T180000
DTSTAMP:20260423T022353
CREATED:20251223T043416Z
LAST-MODIFIED:20260223T185033Z
UID:10000934-1770382800-1771783200@westbeth.org
SUMMARY:Breathe New York Artists Circle Exhibit. Video Interviews with Two Artists \, Plus see show online.
DESCRIPTION:MARIANNE BARCELLONA – ABOUT THE WORK\na To activtate subtitles click on the double “cc box” at the bottom of the screen \n \nGWYNETH LEECH – ABOUT THE WORK\nTo activate subtitles click on the double “cc box” at the bottom of the screen \n\n \n  \nCHECK OUT THE SHOW ONLINE AT NEW YORK  ARTISTS CIRCLE HERE. But always better in person too! \nAn Exhibition by the New York Artists Circle\nCurated by Hayley Ferber • Assistant Curator Kristin Reed\nFebruary 6–22\, 2026 \nWestbeth Gallery\n155 Bank Street\n(Enter through courtyard)\nNew York\, NY 10014 \nOpening Reception • Friday\, February 6\, 5–8 PM \nIn a world that feels increasingly overstimulated and demanding\, Breathe offers a space for serenity. Featuring work by members of the New York Artists Circle\, the exhibition explores breath not only as a fundamental human necessity\, but as an invitation to pause\, recenter and find calm. The artists approach this theme from multiple perspectives. Some focus on the physical act of breathing—its rhythm\, vulnerability\, and sustaining force—while others employ breath as a metaphor for stillness\, resilience\, clarity\, and the act of claiming space in an often overwhelming world. Together\, these works invite viewers to step away from the noise\, take a deep breath\, and reconnect with a sense of peace\, presence\, and inner balance. \nBreathe will be presented both in person at Westbeth Gallery and online on the New York Artists Circle website.\nThe in-person exhibition includes an opening reception and a public artist talk. \nFeatured Artists: Anne Finkelstein • Avani Patel • Barbara Lubliner • Barbara Slitkin • Barbara Swanson Sherman •Beth Barry • Cade Pemberton • Carol Paik • Cecilia André • Charles Seplowin • Cheryl Aden • Christina Maile •Colleen Deery • D Ardelean • Danielle Warren • Darcy Alison Spitz • David Alon Friedman • Diana Jensen • Eileen Hoffman • Eleanor Goldstein • Elisa Decker • Ellen Alt • Emily Barnett • Fran Beallor Gabriela Gasparini Bornstein •Gale Rothstein • Gosha Karpowicz • Laurey Bennet-Levy Gwyneth Leech • Helaine Soller • Jacqueline Sferra • RadaJanet Goldner • Janet Morgan • Janice McDonnell • January Yoon Cho • Joanne Steinhardt • Jocelyn Benford •Joyce Raimondo Judith Kruger • Kristin Reed • Linda Ganjian • Linda Stillman • Linda Turner • Lois Bender • Lori Horowitz • Lynne Friedman • Marianne Barcellona • Meenal Raghava • Nicole Cooper • Pearl Rosen Golden • RoniSherman Ramos • Ryan Bauer-Walsh • Sandra Taggart Stephen Cox • Susan Grucci • SuZen • Syma • Tiziana Mazzioto • Wendy L. Moss • Yvonne Lamar-Rogers \nExhibition Details: \nLocation: Westbeth Gallery\, 55 Bethune St (Main entrance to Westbeth) \, New York\, NY 10014\nGallery Hours: Wednesday to Sunday 1–6 pm\nDates: February 6–22\, 2026\nOpening Reception: Friday\, February 6\, 5–8 PM\nArtist Talk and Closing Reception: Sunday February 22\, 3-5pm \nOnline Exhibition:https://nyartistscircle.com \nMedia Contact: Janice McDonnell janice@janicemcdonnell.com
URL:https://westbeth.org/event/breathe-new-york-artists-circle-exhibit/
LOCATION:Westbeth Gallery
CATEGORIES:past-events
ATTACH;FMTTYPE=image/png:https://westbeth.org/wp-content/uploads/2025/12/Breathe_1080_x_1080.png
GEO:40.737051566887;-74.009218415339
END:VEVENT
END:VCALENDAR