BEGIN:VCALENDAR
VERSION:2.0
PRODID:-//Westbeth - ECPv6.15.20//NONSGML v1.0//EN
CALSCALE:GREGORIAN
METHOD:PUBLISH
X-ORIGINAL-URL:https://westbeth.org
X-WR-CALDESC:Events for Westbeth
REFRESH-INTERVAL;VALUE=DURATION:PT1H
X-Robots-Tag:noindex
X-PUBLISHED-TTL:PT1H
BEGIN:VTIMEZONE
TZID:America/New_York
BEGIN:DAYLIGHT
TZOFFSETFROM:-0500
TZOFFSETTO:-0400
TZNAME:EDT
DTSTART:20240310T070000
END:DAYLIGHT
BEGIN:STANDARD
TZOFFSETFROM:-0400
TZOFFSETTO:-0500
TZNAME:EST
DTSTART:20241103T060000
END:STANDARD
BEGIN:DAYLIGHT
TZOFFSETFROM:-0500
TZOFFSETTO:-0400
TZNAME:EDT
DTSTART:20250309T070000
END:DAYLIGHT
BEGIN:STANDARD
TZOFFSETFROM:-0400
TZOFFSETTO:-0500
TZNAME:EST
DTSTART:20251102T060000
END:STANDARD
BEGIN:DAYLIGHT
TZOFFSETFROM:-0500
TZOFFSETTO:-0400
TZNAME:EDT
DTSTART:20260308T070000
END:DAYLIGHT
BEGIN:STANDARD
TZOFFSETFROM:-0400
TZOFFSETTO:-0500
TZNAME:EST
DTSTART:20261101T060000
END:STANDARD
BEGIN:DAYLIGHT
TZOFFSETFROM:-0500
TZOFFSETTO:-0400
TZNAME:EDT
DTSTART:20270314T070000
END:DAYLIGHT
BEGIN:STANDARD
TZOFFSETFROM:-0400
TZOFFSETTO:-0500
TZNAME:EST
DTSTART:20271107T060000
END:STANDARD
END:VTIMEZONE
BEGIN:VEVENT
DTSTART;TZID=America/New_York:20260109T080000
DTEND;TZID=America/New_York:20260120T170000
DTSTAMP:20260423T132925
CREATED:20251215T230410Z
LAST-MODIFIED:20260115T163606Z
UID:10000931-1767945600-1768928400@westbeth.org
SUMMARY:Calling Choreographers Apply Now for WestFest Dance 2026!
DESCRIPTION:
URL:https://westbeth.org/event/calling-choreographers-apply-now-for-westfest-dance-2026/
LOCATION:Online
CATEGORIES:past-events
ATTACH;FMTTYPE=image/png:https://westbeth.org/wp-content/uploads/2025/12/Screenshot-2025-12-15-at-5.49.28-PM.png
END:VEVENT
BEGIN:VEVENT
DTSTART;VALUE=DATE:20250501
DTEND;VALUE=DATE:20250505
DTSTAMP:20260423T132925
CREATED:20250326T000747Z
LAST-MODIFIED:20250506T200937Z
UID:10000743-1746057600-1746403199@westbeth.org
SUMMARY:WESTFEST 2025; The annual dance festival of cutting edge movement artists
DESCRIPTION:WestFest is a cutting edge\, curated festival presenting emerging and established movement artists in the historic Westbeth Artists Residence in the West Vullage\, NYC\nThe annual festival includes two programs: Top floor and All Over \nTickets and Guided Tour Info:    https://www.westfestdance.com/about \n \n \nALL OVER: Featuring Beatriz Castro\, Chloe Sonnet Brown\, Fabio Tavares\, Gesture Theater\, June Seo (Project.A.Artgroup) Madelyn Sher\, Stephanie Saywell\, Yang Sun & Poets \nMay 3 & 4 | 1- 3pm. FREE \nGuided Site Specific Tours every 30 minutes starting at 1pm\nMeet at Westbeth Courtyard  155 Bank Street between West and Washington Sts \n \n \nTOP FLOOR  Program A featuring : Carol Nolte\, Celeste Goldes\, Company of Collaborative Artists (CoCA)\, Dianne Cano\, Dylan Richmond\, Dual Rivet\, Louise Benkelman & Tommy Seibold\, JRamirwz & Artists\nProgram B featuring : Assaf Salhov\, Faustine Lavie Dance Project\, Miho Ryu\, Jamal Jackson Dance Company\, Rylan Joenk\, The Bang Group\, The Dynamit-Experience\, Virginie Mècene. \nProgram A: Thursday May 1 at 7pm and May 3 4pm & 7pm.\nProgram B Friday May 2 at 7pm Sun May 4. 4pm & 7pm.\nMartha Graham Studio Theater 55 Bethune St\, New York\, NY\nSliding Scale tickets starting st $20 \nAll proceeds go towards supporting the work of the non-profit Westbeth Aritsts Residents Council whose mission is to be a resouce and generator of artistic endeavor in the literary\, visual and performing arts. \nMore Information about Westfest at  https://www.westfestdance.com/about
URL:https://westbeth.org/event/westfest-2025p-the-annual-dance-festival-of-cuttin-edge-movement-artists/
LOCATION:All Over Westbeth & Martha Graham  Studio Theater
CATEGORIES:past-events
ATTACH;FMTTYPE=image/png:https://westbeth.org/wp-content/uploads/2025/03/Westfgest-sq.png
END:VEVENT
END:VCALENDAR