BEGIN:VCALENDAR
VERSION:2.0
PRODID:-//Westbeth - ECPv6.15.20//NONSGML v1.0//EN
CALSCALE:GREGORIAN
METHOD:PUBLISH
X-ORIGINAL-URL:https://westbeth.org
X-WR-CALDESC:Events for Westbeth
REFRESH-INTERVAL;VALUE=DURATION:PT1H
X-Robots-Tag:noindex
X-PUBLISHED-TTL:PT1H
BEGIN:VTIMEZONE
TZID:America/New_York
BEGIN:DAYLIGHT
TZOFFSETFROM:-0500
TZOFFSETTO:-0400
TZNAME:EDT
DTSTART:20250309T070000
END:DAYLIGHT
BEGIN:STANDARD
TZOFFSETFROM:-0400
TZOFFSETTO:-0500
TZNAME:EST
DTSTART:20251102T060000
END:STANDARD
BEGIN:DAYLIGHT
TZOFFSETFROM:-0500
TZOFFSETTO:-0400
TZNAME:EDT
DTSTART:20260308T070000
END:DAYLIGHT
BEGIN:STANDARD
TZOFFSETFROM:-0400
TZOFFSETTO:-0500
TZNAME:EST
DTSTART:20261101T060000
END:STANDARD
BEGIN:DAYLIGHT
TZOFFSETFROM:-0500
TZOFFSETTO:-0400
TZNAME:EDT
DTSTART:20270314T070000
END:DAYLIGHT
BEGIN:STANDARD
TZOFFSETFROM:-0400
TZOFFSETTO:-0500
TZNAME:EST
DTSTART:20271107T060000
END:STANDARD
END:VTIMEZONE
BEGIN:VEVENT
DTSTART;TZID=America/New_York:20260115T190000
DTEND;TZID=America/New_York:20260115T200000
DTSTAMP:20260423T170630
CREATED:20260108T132743Z
LAST-MODIFIED:20260116T012813Z
UID:10000940-1768503600-1768507200@westbeth.org
SUMMARY:Break Up With Plastic  Discussion with A.J. Jacobs NYT bestsellling author
DESCRIPTION:WARC welcomes experiential journalist A.J. Jacobs for a climate-conscious talk based on his efforts to avoid interacting with plastic for just one day. Jacobs is the bestselling author of The Year of Living Biblically: One Man’s Humble Quest to Follow the Bible as Literally as Possible (2007) and The Year of Living Constitutionally: One Man’s Humble Quest to Follow the Constitution’s Original Meaning (2024). \nThursday\, January 15th at 7pm\nWestbeth Community Room\nPlease bring a product or tool you have found in your efforts to reduce your plastics exposure and landfill waste!
URL:https://westbeth.org/event/break-up-with-plastic-discussion-with-a-j-jacobs-nyt-bestsellling-author/
LOCATION:Westbeth Community Room
CATEGORIES:past-events
ATTACH;FMTTYPE=image/png:https://westbeth.org/wp-content/uploads/2026/01/BREAK-UP-WITH-PLASTIC-SQ.png
END:VEVENT
END:VCALENDAR