BEGIN:VCALENDAR
VERSION:2.0
PRODID:-//Westbeth - ECPv6.15.20//NONSGML v1.0//EN
CALSCALE:GREGORIAN
METHOD:PUBLISH
X-ORIGINAL-URL:https://westbeth.org
X-WR-CALDESC:Events for Westbeth
REFRESH-INTERVAL;VALUE=DURATION:PT1H
X-Robots-Tag:noindex
X-PUBLISHED-TTL:PT1H
BEGIN:VTIMEZONE
TZID:America/New_York
BEGIN:DAYLIGHT
TZOFFSETFROM:-0500
TZOFFSETTO:-0400
TZNAME:EDT
DTSTART:20210314T070000
END:DAYLIGHT
BEGIN:STANDARD
TZOFFSETFROM:-0400
TZOFFSETTO:-0500
TZNAME:EST
DTSTART:20211107T060000
END:STANDARD
BEGIN:DAYLIGHT
TZOFFSETFROM:-0500
TZOFFSETTO:-0400
TZNAME:EDT
DTSTART:20220313T070000
END:DAYLIGHT
BEGIN:STANDARD
TZOFFSETFROM:-0400
TZOFFSETTO:-0500
TZNAME:EST
DTSTART:20221106T060000
END:STANDARD
BEGIN:DAYLIGHT
TZOFFSETFROM:-0500
TZOFFSETTO:-0400
TZNAME:EDT
DTSTART:20230312T070000
END:DAYLIGHT
BEGIN:STANDARD
TZOFFSETFROM:-0400
TZOFFSETTO:-0500
TZNAME:EST
DTSTART:20231105T060000
END:STANDARD
BEGIN:DAYLIGHT
TZOFFSETFROM:-0500
TZOFFSETTO:-0400
TZNAME:EDT
DTSTART:20240310T070000
END:DAYLIGHT
BEGIN:STANDARD
TZOFFSETFROM:-0400
TZOFFSETTO:-0500
TZNAME:EST
DTSTART:20241103T060000
END:STANDARD
BEGIN:DAYLIGHT
TZOFFSETFROM:-0500
TZOFFSETTO:-0400
TZNAME:EDT
DTSTART:20250309T070000
END:DAYLIGHT
BEGIN:STANDARD
TZOFFSETFROM:-0400
TZOFFSETTO:-0500
TZNAME:EST
DTSTART:20251102T060000
END:STANDARD
END:VTIMEZONE
BEGIN:VEVENT
DTSTART;TZID=America/New_York:20240706T000000
DTEND;TZID=America/New_York:20240706T000000
DTSTAMP:20260423T130754
CREATED:20240105T221246Z
LAST-MODIFIED:20240715T034624Z
UID:10000537-1720224000-1720224000@westbeth.org
SUMMARY:Blood Drive at Westbeth: Get T Shirts and Mets Tix for critically needed blood donations
DESCRIPTION:Click to enlarge \nSaturday July 6\, 2024 11am – 5pm\nWestbeth Community Rm\n155 Bank St\nNew York\, NY \nThe West Village Community Blood Drive will partner with New York Blood Center for a blood drive on Saturday\, July 6th\, 2024\, in the Westbeth Community Room from 11am to 5pm. \nHospitals and patients rely upon a steady flow of volunteer donors to receive life-saving donations. Summertime blood drives take on a critical importance because schools are out for summer and families set off on vacation\, New York Blood Center typically sees a decline in donors\, which can impact patient care. With high schools and colleges on break\, those blood drives don’t take place and many regular Donors become busy with Summer activities and vacations. At the same time\, the need for blood remains constant. Hospitals and patients rely upon a steady flow of volunteer donors to receive life-saving donations. Please help meet the needs of patients during the Summer. NYBC encourages all who can donate to sign up. One blood donation can save up to three lives. \nHere’s the Donor Scheduling Link:  https://donate.nybc.org/donor/schedules/drive_schedule/316075  (you copy & paste this link into communications of your preference) \n \nDonors will have a choice to receive either a ‘We All Bleed The Same’ T-shirt or NY Mets T-shirt at the blood drive and a pair of NY Mets Tickets to all Donors which will be fulfilled via Email about 10 days after the blood drive.
URL:https://westbeth.org/event/westbeth-blood-drive/
LOCATION:Westbeth Community Room
CATEGORIES:past-events
ATTACH;FMTTYPE=image/jpeg:https://westbeth.org/wp-content/uploads/2024/06/Blood-Sq.jpg
END:VEVENT
BEGIN:VEVENT
DTSTART;TZID=America/New_York:20240323T110000
DTEND;TZID=America/New_York:20240323T170000
DTSTAMP:20260423T130754
CREATED:20240311T183628Z
LAST-MODIFIED:20240327T200117Z
UID:10000489-1711191600-1711213200@westbeth.org
SUMMARY:West Village Community Blood Drive
DESCRIPTION:Click image below  which links to scheduling an appointment.
URL:https://westbeth.org/event/west-village-blood-drive-act-westbeth/
LOCATION:Westbeth Community Room
CATEGORIES:past-events
ATTACH;FMTTYPE=image/png:https://westbeth.org/wp-content/uploads/2024/03/BLOOD-DRIVE-MAR-2024.png
END:VEVENT
BEGIN:VEVENT
DTSTART;TZID=America/New_York:20220604T130000
DTEND;TZID=America/New_York:20220604T190000
DTSTAMP:20260423T130754
CREATED:20220515T174648Z
LAST-MODIFIED:20220605T002509Z
UID:10000034-1654347600-1654369200@westbeth.org
SUMMARY:West Village Community Blood Drive
DESCRIPTION:West Village Community Blood Drive\nSat. June 4\, 2022 – 1:00pm to 7:00pm\n155 Bank Street\nWestbeth Community Room \nSchedule Appointment: Click on Link \nhttps://donate.nybc.org/donor/schedules/drive_schedule/303554  \n  Or Use your camera to hover on the QR Code and enter Sponsor number 71021 \nPlease remember to eat\, drink and bring your donor ID card or ID with name and photo
URL:https://westbeth.org/event/west-village-community-blood-drive/
LOCATION:Westbeth Community Room
CATEGORIES:past-events
ATTACH;FMTTYPE=image/png:https://westbeth.org/wp-content/uploads/2022/05/Blood-Drive-June-e1652636198571.png
END:VEVENT
END:VCALENDAR