BEGIN:VCALENDAR
VERSION:2.0
PRODID:-//Westbeth - ECPv6.15.20//NONSGML v1.0//EN
CALSCALE:GREGORIAN
METHOD:PUBLISH
X-ORIGINAL-URL:https://westbeth.org
X-WR-CALDESC:Events for Westbeth
REFRESH-INTERVAL;VALUE=DURATION:PT1H
X-Robots-Tag:noindex
X-PUBLISHED-TTL:PT1H
BEGIN:VTIMEZONE
TZID:America/New_York
BEGIN:DAYLIGHT
TZOFFSETFROM:-0500
TZOFFSETTO:-0400
TZNAME:EDT
DTSTART:20230312T070000
END:DAYLIGHT
BEGIN:STANDARD
TZOFFSETFROM:-0400
TZOFFSETTO:-0500
TZNAME:EST
DTSTART:20231105T060000
END:STANDARD
BEGIN:DAYLIGHT
TZOFFSETFROM:-0500
TZOFFSETTO:-0400
TZNAME:EDT
DTSTART:20240310T070000
END:DAYLIGHT
BEGIN:STANDARD
TZOFFSETFROM:-0400
TZOFFSETTO:-0500
TZNAME:EST
DTSTART:20241103T060000
END:STANDARD
BEGIN:DAYLIGHT
TZOFFSETFROM:-0500
TZOFFSETTO:-0400
TZNAME:EDT
DTSTART:20250309T070000
END:DAYLIGHT
BEGIN:STANDARD
TZOFFSETFROM:-0400
TZOFFSETTO:-0500
TZNAME:EST
DTSTART:20251102T060000
END:STANDARD
END:VTIMEZONE
BEGIN:VEVENT
DTSTART;TZID=America/New_York:20240503T190000
DTEND;TZID=America/New_York:20240503T203000
DTSTAMP:20260423T111524
CREATED:20231203T161721Z
LAST-MODIFIED:20240504T155144Z
UID:10000513-1714762800-1714768200@westbeth.org
SUMMARY:FIRST FRIDAY presents ALY 'S BDAY CABARET featuring BETTY and Friends
DESCRIPTION:Click to enlarge \nJoin the celebration of bass player and vocalist Aly Palmer with Elizabeth Ziff and Amy Ziff and their rocking harmony trio BETTY. Joining the night are sensational singers and Aly Pals Miss Maggie Moore with Tony Salvatore\, Kristi Ambrosetti\, Mishti\, Eve Zanni\, The Line Up’s Susie Moser and more!  \nIt’s a cabaret for all ages\, all musical styles from jazz pop rock and blues\, and anyone who loves a smorgasbord of tasty talent. Stick around afterward\, for when DJ EZ plays old school dance music to shake off anybody’s birthday blues!  \nWebsite: BETTY
URL:https://westbeth.org/event/first-friday-presents-aly-s-bday-cabaret-featuring-betty-and-friends/
LOCATION:Westbeth Community Room
CATEGORIES:past-events
ATTACH;FMTTYPE=image/jpeg:https://westbeth.org/wp-content/uploads/2023/12/ALYFirst-Friday-BDay-Rev_Square2.jpg
END:VEVENT
END:VCALENDAR