BEGIN:VCALENDAR
VERSION:2.0
PRODID:-//Westbeth - ECPv6.15.20//NONSGML v1.0//EN
CALSCALE:GREGORIAN
METHOD:PUBLISH
X-ORIGINAL-URL:https://westbeth.org
X-WR-CALDESC:Events for Westbeth
REFRESH-INTERVAL;VALUE=DURATION:PT1H
X-Robots-Tag:noindex
X-PUBLISHED-TTL:PT1H
BEGIN:VTIMEZONE
TZID:America/New_York
BEGIN:DAYLIGHT
TZOFFSETFROM:-0500
TZOFFSETTO:-0400
TZNAME:EDT
DTSTART:20220313T070000
END:DAYLIGHT
BEGIN:STANDARD
TZOFFSETFROM:-0400
TZOFFSETTO:-0500
TZNAME:EST
DTSTART:20221106T060000
END:STANDARD
BEGIN:DAYLIGHT
TZOFFSETFROM:-0500
TZOFFSETTO:-0400
TZNAME:EDT
DTSTART:20230312T070000
END:DAYLIGHT
BEGIN:STANDARD
TZOFFSETFROM:-0400
TZOFFSETTO:-0500
TZNAME:EST
DTSTART:20231105T060000
END:STANDARD
BEGIN:DAYLIGHT
TZOFFSETFROM:-0500
TZOFFSETTO:-0400
TZNAME:EDT
DTSTART:20240310T070000
END:DAYLIGHT
BEGIN:STANDARD
TZOFFSETFROM:-0400
TZOFFSETTO:-0500
TZNAME:EST
DTSTART:20241103T060000
END:STANDARD
BEGIN:DAYLIGHT
TZOFFSETFROM:-0500
TZOFFSETTO:-0400
TZNAME:EDT
DTSTART:20250309T070000
END:DAYLIGHT
BEGIN:STANDARD
TZOFFSETFROM:-0400
TZOFFSETTO:-0500
TZNAME:EST
DTSTART:20251102T060000
END:STANDARD
END:VTIMEZONE
BEGIN:VEVENT
DTSTART;TZID=America/New_York:20240203T130000
DTEND;TZID=America/New_York:20240224T180000
DTSTAMP:20260423T132805
CREATED:20231128T023130Z
LAST-MODIFIED:20240226T175741Z
UID:10000445-1706965200-1708797600@westbeth.org
SUMMARY:Dana Gordon Signs of LIfe Paintings from 2023
DESCRIPTION:Click to enlarge \nFeb 3- Feb 24\, 2024\nOpening Reception\nSunday Feb 3\, 2024 5pm – 7pm \nThe Westbeth Gallery is pleased to present an exhibition of 25 paintings from 2023 by Dana Gordon. \nDana Gordon is an American abstract painter who began his art career working\nas assistant to Tony Smith and George Sugarman in the late 1960s in New York. He studied painting at Brown University and Hunter College\, and photography with Aaron Siskind in Chicago. He was a professor of art\, mainly in the 1970s\, and his avant-garde films have been featured at MoMA and internationally. \nGordon’s painting has been seen in fifteen solo shows and many group shows in New York\,\nChicago\, Paris\, and Boca Raton\, including at such galleries as Andre Zarre\, Charles Cowles\,\n55 Mercer\, and The Painting Center in Manhattan\, and Sideshow in Brooklyn. \nIn 1974\, after making three-dimensional and shaped canvases and other avant-garde\nexperiments for about nine years\, Gordon decided to “start over”\, to find his own language\nof art. He put a simple white chalk mark on a piece of black paper\, and let things develop\nfreely from there. The marks went not only toward strokes and their arrangements\, lines\,\noutlines\, and abstract or figurish shapes\, but inevitably toward proto-languages\, too. He\nretained the use of pure color so essential to abstraction. \nGordon’s recent paintings (and writings) energize a revitalized appreciation of abstraction\nand its connection with the old and the new. \nDana Gordon was one of the principal founders of The Painting Center in New York in\n1993. In the same year one of his paintings was reproduced as the front cover of the Paris\nReview (issue no. 129). \nGordon’s work is in many collections\, including the Brooklyn Museum of Art\, M.I.T.\,\nAdelphi University\, and the Royal Belgian Film Archive\, and of Edward Albee\, Virgil\nThomson\, Hilton Kramer\, and James Panero. \nHis art received awards from the Pollock-Krasner Fdn.\, Rauschenberg’s Change Fdn.\,\nand university research grants\, and residencies at the Edward Albee Fdn.\, the Triangle Workshop\,\nand the Millay Colony. In 1978 he was the “runner-up” for the NEA’s US/UK Bicentennial Exchange Fellowship. \nCritical acclaim for Gordon’s work has included the L.A.Times\, 1978: “… for purists and\npioneers in pursuit of new perceptions.” John Russell in the NY Times in 1987 “…well\nworth seeking out…a painter of whom it would be good to see more.” Helen Harrison\, NY\nTimes\, 1994: “…beautiful paintings\, filled with the controlled exuberance of a carefully\norchestrated spectacle.”\nGrace Glueck\, NY Times\, 1997: “… a very lively eyefest.” James\nPanero\, in the New Criterion\, 2014: “While many artists paint widely\, Gordon paints\ndeeply…. Gordon knows ‘what only painting can do.’ ” David Cohen\, of Art Critical\, on\nGordon’s 2018 Paris show “Lucky Paris.” \nGordon has written about art for The Wall Street Journal\, The New Criterion\, The New\nYork Sun\, Commentary\, Delicious Line\, The Jerusalem Post\, and Painters’ Table.\nGordon says: “To paint I get into a frame of mind where I can bring everything to bear\,\nfocused on the moment of painting. A given subject is too limiting; painting’s potency is\ncomprehensive and open-ended and develops its own subject\, if allowed to. Abstract\nform underlies all visual art; form’s content expresses intellect and feeling. Painting is as\nalive as ever: after millenia why would our little era not have it\, it’s a sign of life. All art\nis now; in art there are no “other” cultures. My painting does not subvert\, it upholds art\nand reaches for beauty.” \nNext to the Hudson River\, in Manhattan’s West Village\, The Westbeth Gallery is an\nindependently curated gallery run by artists living in Westbeth\, a historic artist residence\nin a building converted in 1970 from the Bell Telephone Laboratories and on the National\nRegister of Historic Places.Westbeth also houses The New School for Drama\, and The Kitchen. \nHome Page image: Sea of Possibility (detail) oil on canvas 64 x 72 inches 2023 \nMore info: danagordon.art\n1danagordon@gmail.com\nInfo: westbethgallery@gmail.com
URL:https://westbeth.org/event/dana-gordon/
LOCATION:Westbeth Gallery
CATEGORIES:past-events
ATTACH;FMTTYPE=image/png:https://westbeth.org/wp-content/uploads/2023/11/DanaGordon_-SQ-11x8.5_RGB.png
GEO:40.737051566887;-74.009218415339
END:VEVENT
BEGIN:VEVENT
DTSTART;VALUE=DATE:20240106
DTEND;VALUE=DATE:20250101
DTSTAMP:20260423T132805
CREATED:20240106T230102Z
LAST-MODIFIED:20240116T165605Z
UID:10000447-1704499200-1735689599@westbeth.org
SUMMARY:Westbeth Gallery 2024 Exhibitions Calendar
DESCRIPTION:
URL:https://westbeth.org/event/westbeth-gallery-2024-exhibitions-calendar/
LOCATION:Westbeth Gallery
CATEGORIES:past-events
ATTACH;FMTTYPE=image/png:https://westbeth.org/wp-content/uploads/2024/01/Westbeth-Gallery-REV-2024-Exhibition-Calendar.png
GEO:40.737051566887;-74.009218415339
END:VEVENT
BEGIN:VEVENT
DTSTART;TZID=America/New_York:20231021T080000
DTEND;TZID=America/New_York:20231022T170000
DTSTAMP:20260423T132805
CREATED:20231008T175605Z
LAST-MODIFIED:20231023T011537Z
UID:10000409-1697875200-1697994000@westbeth.org
SUMMARY:Open House New York at Westbeth:  Guided Tours\,  Artist Open Studios\, and  Art\, Craft and Vintage Market
DESCRIPTION:Guided tours (capacity 20) will be offered on a rolling basis from 1pm to 4pm\, covering the history of both Bell Laboratories and Westbeth Artists Housing\, along with the vital role that Westbeth plays for artists today and will play in the future. Tours will meet at 155 Bank Street beginning at 1PM\nPeter Bernstein\, musician\, leading one of the guided tours last year. \nArtists studios will be open for drop-in visits from 2pm to 6pm. Peek inside the studios of some of New York’s leading artists.\nOpen house interior of Karen Santry apartment. She will most probably be in her studio. \nWestbeth Art\, Craft and Vintage Market features over 20 vendors including Westbeth artists and their unique items. 1pm to 6pm.\nDeborah Rapapport\, Westbeth resident with her creations for the market. \nWestbeth Artists Housing was founded in 1970 to provide affordable housing for artists and their families. Located in the former Bell Laboratories\, Westbeth Artists Housing was designed by a young Richard Meier and was the first adaptive reuse project of its kind. Its mission is to be a resource and generator of artistic endeavor for artists working in the fields of literary\, visual\, and performing arts. Within the complex are spaces devoted to the creation and presentation of art by resident and guest artists\, and by the arts organizations located there. Events\, exhibitions\, and workshops sponsored by Westbeth\, often in partnership with cultural or community organizations\, are offered at the Westbeth Gallery\, the Westbeth Community Room\, and other venues free or at low cost to the public. \nFor more information about other weekend highlights offered by Open House New York: OPEN HOUSE NEW YORK
URL:https://westbeth.org/event/open-house-new-york-at-westbeth-guided-tours-artist-open-studios-and-art-craft-and-vintage-market/
LOCATION:Westbeth Artists Housing
CATEGORIES:past-events
ATTACH;FMTTYPE=image/jpeg:https://westbeth.org/wp-content/uploads/2023/10/OHOS-square_FINAL_JPG-OHOS_MARKET_2023-e1696945070157.jpg
END:VEVENT
END:VCALENDAR