BEGIN:VCALENDAR
VERSION:2.0
PRODID:-//Westbeth - ECPv6.15.20//NONSGML v1.0//EN
CALSCALE:GREGORIAN
METHOD:PUBLISH
X-ORIGINAL-URL:https://westbeth.org
X-WR-CALDESC:Events for Westbeth
REFRESH-INTERVAL;VALUE=DURATION:PT1H
X-Robots-Tag:noindex
X-PUBLISHED-TTL:PT1H
BEGIN:VTIMEZONE
TZID:America/New_York
BEGIN:DAYLIGHT
TZOFFSETFROM:-0500
TZOFFSETTO:-0400
TZNAME:EDT
DTSTART:20230312T070000
END:DAYLIGHT
BEGIN:STANDARD
TZOFFSETFROM:-0400
TZOFFSETTO:-0500
TZNAME:EST
DTSTART:20231105T060000
END:STANDARD
BEGIN:DAYLIGHT
TZOFFSETFROM:-0500
TZOFFSETTO:-0400
TZNAME:EDT
DTSTART:20240310T070000
END:DAYLIGHT
BEGIN:STANDARD
TZOFFSETFROM:-0400
TZOFFSETTO:-0500
TZNAME:EST
DTSTART:20241103T060000
END:STANDARD
BEGIN:DAYLIGHT
TZOFFSETFROM:-0500
TZOFFSETTO:-0400
TZNAME:EDT
DTSTART:20250309T070000
END:DAYLIGHT
BEGIN:STANDARD
TZOFFSETFROM:-0400
TZOFFSETTO:-0500
TZNAME:EST
DTSTART:20251102T060000
END:STANDARD
BEGIN:DAYLIGHT
TZOFFSETFROM:-0500
TZOFFSETTO:-0400
TZNAME:EDT
DTSTART:20260308T070000
END:DAYLIGHT
BEGIN:STANDARD
TZOFFSETFROM:-0400
TZOFFSETTO:-0500
TZNAME:EST
DTSTART:20261101T060000
END:STANDARD
END:VTIMEZONE
BEGIN:VEVENT
DTSTART;TZID=America/New_York:20250617T190000
DTEND;TZID=America/New_York:20250617T200000
DTSTAMP:20260423T132901
CREATED:20250512T225636Z
LAST-MODIFIED:20250614T182840Z
UID:10000775-1750186800-1750190400@westbeth.org
SUMMARY:Arnold Hinton Book Event Photography
DESCRIPTION:This event was cancelled because ordered books will not arrive in time for the launch. \nClick to enlarge  Tues June 17\, 2025 at 7pm\nWestbeth Community Room\n155 Bank Street\n(enter through courtyard)\nNew York\, NY \nArnold Hinton’s photography focuses on social justice and humanity\, drawing parallels between the racism and oppression experienced by Jews in concentration camps to the experience of African Americans. \nArnold recently visited concentration camps in Berlin and Vienna. “In America if you were Black\, you were a slave\, you picked cotton and sugar cane and that was it\,” said Arnold. “But to see how the Germans built these camps/houses with sinks and toilets and wash basins for people that you were going to annihilate– to me\, it made no logical sense.” Despite facing his own share of systemic barriers and societal prejudices\, his work conveys a sense of activism and empathy\, calling for a dialogue that bridges the past to the present.   \nGrowing up\, Arnold found solace and inspiration in drawing\, a medium that allowed him to articulate his emotions. Influenced by Norman Rockwell’s depictions of American life\, particularly “The Problem We All Live With”\, Arnold found his passion in photography after taking a course at Pratt Institute and discovering storytelling through the lens of a camera. “Creativity is a natural talent. Being an artist is like the emperor who has no clothes on\, because when you create something and let it free\, the world will see it as whatever it is\, and they will give critiques\, good or bad\,” he said. Through his photography\, he continues to seek out the positive while offering his own perspective on history and identity.\nMore info
URL:https://westbeth.org/event/arnold-hinton-photography-book-launch/
LOCATION:Westbeth Community Room
CATEGORIES:past-events
ATTACH;FMTTYPE=image/jpeg:https://westbeth.org/wp-content/uploads/2025/05/ARNOLD-HINTON-SQ.jpg
END:VEVENT
BEGIN:VEVENT
DTSTART;TZID=America/New_York:20241025T190000
DTEND;TZID=America/New_York:20241025T200000
DTSTAMP:20260423T132901
CREATED:20241004T184305Z
LAST-MODIFIED:20241028T210016Z
UID:10000662-1729882800-1729886400@westbeth.org
SUMMARY:Get to Know Your Neighbors: Arnold Hinton\, Mei-Yin Ng\, and Siaka Hinton
DESCRIPTION:Click to enlarge  Friday Oct 25\, 2024 at 7pm\nWestbeth Commuity Room\n155 Bank St\nenter through courtyard\nNew York\, NY \nArnold Hinton’s  photography focuses on social justice and humanity\, drawing parallels between the racism and oppression experienced by Jews in concentration camps to the experience of African Americans. He visited concentration camps in Berlin and Vienna. “In America if you were Black\, you were a slave\, you picked cotton and sugar cane and that was it\,” said Arnold. “But to see how the Germans built these camps/houses with sinks and toilets and wash basins for people that you were going to annihilate– to me\, it made no logical sense.” Despite facing his own share of systemic barriers and societal prejudices\, his work conveys a sense of activism and empathy\, calling for a dialogue that bridges the past to the present.  \nMei-Yin Ng Focusing initially on modern movement as inner being\, Ng’s work continues to evolve with the possibilities of contemporary technologies. Her extensive prop training in Chinese dance inspired her to meditate on the use of props\, and later technology\, as an extension of the human form. She founded MEI-BE WHATever in 2002 as a collective field for collaboration and experimentation of technology in just this vein. MEI-BE WHATever has performed at festivals\, museums and theatres  in US\, Asia\, Europe\, North and south America. \nSiaka Hinton “My screenplays\, in sum\, nurture characters\, birthed by phenomena and landscapes\, which I absorb each day. Because of my fervor and devotion to heart and spine of each story\, I feel them vividly\, which is what motivated me to create in school\, and will continue to drive me\, like a trusted collaborative hand\, tending to the life and soul of every creation.”
URL:https://westbeth.org/event/get-to-know-your-neighbors/
LOCATION:Westbeth Community Room
CATEGORIES:past-events
ATTACH;FMTTYPE=image/png:https://westbeth.org/wp-content/uploads/2024/09/GET-TO-KNOW-SQ-NEIGHBORS_OCTv122.png
END:VEVENT
END:VCALENDAR