BEGIN:VCALENDAR
VERSION:2.0
PRODID:-//Westbeth - ECPv6.15.20//NONSGML v1.0//EN
CALSCALE:GREGORIAN
METHOD:PUBLISH
X-ORIGINAL-URL:https://westbeth.org
X-WR-CALDESC:Events for Westbeth
REFRESH-INTERVAL;VALUE=DURATION:PT1H
X-Robots-Tag:noindex
X-PUBLISHED-TTL:PT1H
BEGIN:VTIMEZONE
TZID:America/New_York
BEGIN:DAYLIGHT
TZOFFSETFROM:-0500
TZOFFSETTO:-0400
TZNAME:EDT
DTSTART:20240310T070000
END:DAYLIGHT
BEGIN:STANDARD
TZOFFSETFROM:-0400
TZOFFSETTO:-0500
TZNAME:EST
DTSTART:20241103T060000
END:STANDARD
BEGIN:DAYLIGHT
TZOFFSETFROM:-0500
TZOFFSETTO:-0400
TZNAME:EDT
DTSTART:20250309T070000
END:DAYLIGHT
BEGIN:STANDARD
TZOFFSETFROM:-0400
TZOFFSETTO:-0500
TZNAME:EST
DTSTART:20251102T060000
END:STANDARD
BEGIN:DAYLIGHT
TZOFFSETFROM:-0500
TZOFFSETTO:-0400
TZNAME:EDT
DTSTART:20260308T070000
END:DAYLIGHT
BEGIN:STANDARD
TZOFFSETFROM:-0400
TZOFFSETTO:-0500
TZNAME:EST
DTSTART:20261101T060000
END:STANDARD
END:VTIMEZONE
BEGIN:VEVENT
DTSTART;TZID=America/New_York:20251213T110000
DTEND;TZID=America/New_York:20251213T140000
DTSTAMP:20260423T113818
CREATED:20251206T190816Z
LAST-MODIFIED:20251215T221430Z
UID:10000928-1765623600-1765634400@westbeth.org
SUMMARY:Animal Farm - a reading in the Mail Room
DESCRIPTION:Saturday\, December 13\, from 11:00-2:00\,\nIn the Westbeth Mailroom\, \n6 Westbethians read:\nGeorge Orwell’s “Animal Farm”\n(a happening) \nReaders: Beth Griffith\, Dennis Fitzpatrick\, Nancy Gabor\, Terence Burk\, Kurt Kelly\, Sandra Kingsbury \nFloor. Pasted copies of US Constitution \nPart of “Fall of Freedom”\, a nationwide wave of creative resistance:\narts communities unite in defiance of authoritarian forces sweeping\nthe nation. \nCome catch just a snippet or stay for more…it’s a great story! \n(p.s. …feel free to just pick up your mail)
URL:https://westbeth.org/event/animal-farm-a-reading-in-the-mail-room/
LOCATION:Westbeth Mail Room
CATEGORIES:past-events
ATTACH;FMTTYPE=image/png:https://westbeth.org/wp-content/uploads/2025/12/Beth-Griffiths-and-Others-Animal-Farm-reading.png
END:VEVENT
END:VCALENDAR