BEGIN:VCALENDAR
VERSION:2.0
PRODID:-//Westbeth - ECPv6.15.20//NONSGML v1.0//EN
CALSCALE:GREGORIAN
METHOD:PUBLISH
X-WR-CALNAME:Westbeth
X-ORIGINAL-URL:https://westbeth.org
X-WR-CALDESC:Events for Westbeth
REFRESH-INTERVAL;VALUE=DURATION:PT1H
X-Robots-Tag:noindex
X-PUBLISHED-TTL:PT1H
BEGIN:VTIMEZONE
TZID:America/New_York
BEGIN:DAYLIGHT
TZOFFSETFROM:-0500
TZOFFSETTO:-0400
TZNAME:EDT
DTSTART:20250309T070000
END:DAYLIGHT
BEGIN:STANDARD
TZOFFSETFROM:-0400
TZOFFSETTO:-0500
TZNAME:EST
DTSTART:20251102T060000
END:STANDARD
BEGIN:DAYLIGHT
TZOFFSETFROM:-0500
TZOFFSETTO:-0400
TZNAME:EDT
DTSTART:20260308T070000
END:DAYLIGHT
BEGIN:STANDARD
TZOFFSETFROM:-0400
TZOFFSETTO:-0500
TZNAME:EST
DTSTART:20261101T060000
END:STANDARD
BEGIN:DAYLIGHT
TZOFFSETFROM:-0500
TZOFFSETTO:-0400
TZNAME:EDT
DTSTART:20270314T070000
END:DAYLIGHT
BEGIN:STANDARD
TZOFFSETFROM:-0400
TZOFFSETTO:-0500
TZNAME:EST
DTSTART:20271107T060000
END:STANDARD
END:VTIMEZONE
BEGIN:VEVENT
DTSTART;TZID=America/New_York:20260416T080000
DTEND;TZID=America/New_York:20260505T170000
DTSTAMP:20260423T075202
CREATED:20260416T154955Z
LAST-MODIFIED:20260416T224714Z
UID:10001001-1776326400-1778000400@westbeth.org
SUMMARY:Mizell/Sanwald/Brade Trio  New ReleaseThis Americana Jazz Trio
DESCRIPTION:On April 3\, Westbeth musician\, Andreas Brade\, member of the Mizell/Sanwald/Brade Trio (msb+strings)\,  celebrated their second release. “This Americana Jazz Trio”. Included for their new release of all original music is a string trio.  \nTo listen to\, or purchase to their new  recording “msb+strings” please go to the musician friendly weblink https://paulsanwald.bandcamp.com/album/msb-strings or on all other major music platforms. \nWe hope you like the music\,\nHappy Spring !!!!
URL:https://westbeth.org/event/mizell-sanwald-brade-trio-msb-trio-new-releasethis-american-jazz/
LOCATION:Online at Bandcamp
CATEGORIES:Artists
ATTACH;FMTTYPE=image/jpeg:https://westbeth.org/wp-content/uploads/2026/04/ANDREAS-BRADE-msbstrings_portraits_available-scaled.jpeg
END:VEVENT
END:VCALENDAR