BEGIN:VCALENDAR
VERSION:2.0
PRODID:-//Westbeth - ECPv6.15.20//NONSGML v1.0//EN
CALSCALE:GREGORIAN
METHOD:PUBLISH
X-ORIGINAL-URL:https://westbeth.org
X-WR-CALDESC:Events for Westbeth
REFRESH-INTERVAL;VALUE=DURATION:PT1H
X-Robots-Tag:noindex
X-PUBLISHED-TTL:PT1H
BEGIN:VTIMEZONE
TZID:America/New_York
BEGIN:DAYLIGHT
TZOFFSETFROM:-0500
TZOFFSETTO:-0400
TZNAME:EDT
DTSTART:20240310T070000
END:DAYLIGHT
BEGIN:STANDARD
TZOFFSETFROM:-0400
TZOFFSETTO:-0500
TZNAME:EST
DTSTART:20241103T060000
END:STANDARD
BEGIN:DAYLIGHT
TZOFFSETFROM:-0500
TZOFFSETTO:-0400
TZNAME:EDT
DTSTART:20250309T070000
END:DAYLIGHT
BEGIN:STANDARD
TZOFFSETFROM:-0400
TZOFFSETTO:-0500
TZNAME:EST
DTSTART:20251102T060000
END:STANDARD
BEGIN:DAYLIGHT
TZOFFSETFROM:-0500
TZOFFSETTO:-0400
TZNAME:EDT
DTSTART:20260308T070000
END:DAYLIGHT
BEGIN:STANDARD
TZOFFSETFROM:-0400
TZOFFSETTO:-0500
TZNAME:EST
DTSTART:20261101T060000
END:STANDARD
BEGIN:DAYLIGHT
TZOFFSETFROM:-0500
TZOFFSETTO:-0400
TZNAME:EDT
DTSTART:20270314T070000
END:DAYLIGHT
BEGIN:STANDARD
TZOFFSETFROM:-0400
TZOFFSETTO:-0500
TZNAME:EST
DTSTART:20271107T060000
END:STANDARD
END:VTIMEZONE
BEGIN:VEVENT
DTSTART;TZID=America/New_York:20260403T190000
DTEND;TZID=America/New_York:20260403T203000
DTSTAMP:20260423T094513
CREATED:20260316T211305Z
LAST-MODIFIED:20260406T192905Z
UID:10000984-1775242800-1775248200@westbeth.org
SUMMARY:First Friday Music Double Feature Elder Bro and Bob Malenky
DESCRIPTION:CLICK TO ENLARGE IMAGE \nFriday April 3\, 2026 at 7pm \nFree \nWestbeth Community Room\n155 Bank St\n(enter through courtyard)\nNew York\, NY 10014 \nElder Bro: Presents a spiritual themed evening of roots music and improvisation complimenting the season of greatest myths ever told! Marc Jacoby: guitar and vox\, Michael Moss:assorted horns\, Jeff Eldredge:keys\, accordion\, trumpet\, Andreas Brade:percussion\, John Menegon:bass\, Magic Eric:percussion …and guests\nwww.marcthemusicman.com\n@marcthemusicman Instagram \nBob Malenky: Folk and Roots music\, from American\, English\, Irish\, and Yiddish\nsong traditions. Bob has learned from and played with\, toured and recorded\nwith blues masters Muddy Waters\, Brownie McGee and Sonny Terry. \nFIRST FRIDAYS is a monthly event of free live music featuring Westbeth musicians and their guests\, organized by WestbethMusicWorks\, and Westbeth Performing Arts Committee and sponsored by Westbeth Artists Residents Council.
URL:https://westbeth.org/event/first-friday-music-double-feature-elder-bro-and-john-malenky/
LOCATION:Westbeth Community Room
CATEGORIES:past-events
ATTACH;FMTTYPE=image/jpeg:https://westbeth.org/wp-content/uploads/2026/03/ELDER-BRO-SQ-BOB-MALENKYDouble-Feature.jpg
END:VEVENT
BEGIN:VEVENT
DTSTART;TZID=America/New_York:20251003T190000
DTEND;TZID=America/New_York:20251003T203000
DTSTAMP:20260423T094513
CREATED:20250921T233342Z
LAST-MODIFIED:20251007T234940Z
UID:10000838-1759518000-1759523400@westbeth.org
SUMMARY:First Fridays Free Live Music : Emergency Group and Framed Ophelia
DESCRIPTION:Friday Oct 3\, 2025 at 7pm\nWestbeth Community Room\n155 Bank St\n(enter through courtyard)\nNew York\, NY 10014 \nJoin Westbeth Musician Andreas Brade for an evening full of Free Improvised Music touches of ambience\, Jazz Rock\, Electronica\, Krautrock and Free Jazz will feature two Groups \nFramed Ophelia: featuring Walter Horn\, keyboards; Tsuyoshi Honjo\, Saxophone; Peter Evans multi instrumentalist & electronics. \nEmergency Group: featuring Robert Boston\, keyboards; Jonathan Byerley\, guitar; Dave Mandl\, Bass; Andreas Brade\, drums \nWith this event we will celebrate the recording Emergency Group at Westbeth.\nPlease come and join us for an evening of music in the moment\, This is an all age event. \n Bandcamp link Emergency Group\n\nBandcamp link to Framed Ophelia
URL:https://westbeth.org/event/first-fridays-free-live-music-emergency-group-and-framed-ophelia/
LOCATION:Westbeth Community Room
CATEGORIES:past-events
ATTACH;FMTTYPE=image/png:https://westbeth.org/wp-content/uploads/2025/09/first-fridays-Emergency-Group-.png
END:VEVENT
BEGIN:VEVENT
DTSTART;TZID=America/New_York:20250711T190000
DTEND;TZID=America/New_York:20250711T203000
DTSTAMP:20260423T094513
CREATED:20250620T010756Z
LAST-MODIFIED:20250716T214428Z
UID:10000802-1752260400-1752265800@westbeth.org
SUMMARY:First Friday LIve Music : Eve Zanni Quartet  Angels and Ancestors
DESCRIPTION:Friday July 11\, 2025\n7pm\nFree\n  \n\n\n  \nWestbeth Community Room\n155 Bank St\nenter through courtyard\nNew York\, NY\n  \n\n \nClick to enlarge \nThe Eve Zanni Quartet presents “Angels and Ancestors”...original compositions\, jazz standards\, songs from ancestral stories and traditions” with Isaac Raz\, piano\, Yoshi Waki on bass and Andreas Brade on drums and percussion special guests; followed by Sing Along with The Bliss Singers! \nEve Zanni is an original jazz voice\, warm and expressive with a sensual musicality…traversing the primal depths of great jazz standards and original compositions in a blend of her unique arrangements that embrace classic jazz\, Brasilian\, Afro-Cuban\, Celtic and Middle-eastern rhythms….all sung with passion and romantic soul. Eve also tours\, records\, in the U.S.\, the Caribbean and Europe. .Westbeth Artist Page \nGerman born drummer\, educator and composer Andreas Brade has been a professional drummer for over 30 years. With an open mind he has found himself over the years in many different musical situations\, “the good and the bad” and many lessons learned. Andreas has performed and recorded nationally and internationally with many different Jazz\, African\, Afro Caribbean\, Gospel\, Rock\, R&B\, and Improvisational Artists at venues and festivals such as the Montreal Jazz Fest\, Kennedy Center\, Boston Symphony Hall\, NJPAC\, the Blue Note\, the Apollo Cafe and many more\,\nWestbeth Artist Page \nIsaac Raz After graduating from Berklee College of Music\, Isaac returned to New York where he became active in performing\, arranging\, and production\, working with Jazz and Pop greats\, and composing the score for an Emmy winning television film. In addition to teaching\, Isaac continues to regularly compose and perform\, and has developed expertise in a broad range of instruments and as a vocalist.\nWebsiteWebsite \nYoshi Waki Born in Fukuoka\, Japan\, Yoshi attended Berklee College of Music in Boston to pursue a carreer in music. Starting from the National Tour Company of Fosse\, tours has taken him to many parts of the world over the years. Based in New York City for the past 20 years\, Yoshi have worked with The Artie Shaw Orchestra\, Chihiro Yamanaka\, Clarence “Gatemouth” Brown\, Dan Zanes and Friends\, Deborah Harry\, Freddie Cole\, Harry Whitaker\, Kenia\, Paquito D’Rivera\, Randy Johnston\, Shunzo Ohno\, Travis Sullivan’s Bjorkestra\, William Galison among others.\nAmong the numerous recordings he did\, Catch that Train! (Dan Zanes and Friends) won the 49th Annual Grammy Award for Best Musical Album for Children\, and After Hours (Chihiro Yamanaka) won the 23rd Japan Gold Disc Award for Jazz Album of the Year.\nWebsite
URL:https://westbeth.org/event/first-friday-live-music-eve-zanni-quartet-angels-and-ancestors/
LOCATION:Westbeth Community Room
CATEGORIES:past-events
ATTACH;FMTTYPE=image/jpeg:https://westbeth.org/wp-content/uploads/2025/06/Eve-Zanni-Instagram-Post.jpg
END:VEVENT
END:VCALENDAR