BEGIN:VCALENDAR
VERSION:2.0
PRODID:-//Westbeth - ECPv6.15.20//NONSGML v1.0//EN
CALSCALE:GREGORIAN
METHOD:PUBLISH
X-ORIGINAL-URL:https://westbeth.org
X-WR-CALDESC:Events for Westbeth
REFRESH-INTERVAL;VALUE=DURATION:PT1H
X-Robots-Tag:noindex
X-PUBLISHED-TTL:PT1H
BEGIN:VTIMEZONE
TZID:America/New_York
BEGIN:DAYLIGHT
TZOFFSETFROM:-0500
TZOFFSETTO:-0400
TZNAME:EDT
DTSTART:20230312T070000
END:DAYLIGHT
BEGIN:STANDARD
TZOFFSETFROM:-0400
TZOFFSETTO:-0500
TZNAME:EST
DTSTART:20231105T060000
END:STANDARD
BEGIN:DAYLIGHT
TZOFFSETFROM:-0500
TZOFFSETTO:-0400
TZNAME:EDT
DTSTART:20240310T070000
END:DAYLIGHT
BEGIN:STANDARD
TZOFFSETFROM:-0400
TZOFFSETTO:-0500
TZNAME:EST
DTSTART:20241103T060000
END:STANDARD
BEGIN:DAYLIGHT
TZOFFSETFROM:-0500
TZOFFSETTO:-0400
TZNAME:EDT
DTSTART:20250309T070000
END:DAYLIGHT
BEGIN:STANDARD
TZOFFSETFROM:-0400
TZOFFSETTO:-0500
TZNAME:EST
DTSTART:20251102T060000
END:STANDARD
BEGIN:DAYLIGHT
TZOFFSETFROM:-0500
TZOFFSETTO:-0400
TZNAME:EDT
DTSTART:20260308T070000
END:DAYLIGHT
BEGIN:STANDARD
TZOFFSETFROM:-0400
TZOFFSETTO:-0500
TZNAME:EST
DTSTART:20261101T060000
END:STANDARD
END:VTIMEZONE
BEGIN:VEVENT
DTSTART;TZID=America/New_York:20250930T190000
DTEND;TZID=America/New_York:20250930T200000
DTSTAMP:20260423T113554
CREATED:20250922T012556Z
LAST-MODIFIED:20251002T000337Z
UID:10000840-1759258800-1759262400@westbeth.org
SUMMARY:The Cat and The MoonOne Act Play by W B YeatsDirected by Alison Armstrong
DESCRIPTION:Tuesday Sept 30\, 2025 at 7pm \nWestbeth Community Room\n155 Bank St\n(enter through courtyard)\nNew York\, NY 10014 \nWARC Literary Arts presents:\nThe Cat and the Moon by W.B. Yeats\nDirected by Alison Armstrong \nCast:\nTerence Burk: Blind Man\nDennis Fitzpatrick: Lame Man\nBeth Griffith: First Musician\nSusan Hyman: Second Musician\nAlison Armstrong: Third Musician\nSaint Colman: Himself \nMasks by Casey Compton & Ralph Lee\nFlute music: from Moore’s Irish Melodies \nNotes from Alison Armstrong\nImagine a country road in the West of Ireland. County Mayo perhaps. We observe a pair\nof elderly tramps\, the Blind Man who carries the Lame Man on his back for forty years. They\nhave wandered the country roads of the west of Ireland searching for Saint Colman’s Holy Well\,\nwhere they may be healed or blessed.\nWe hear a tension between the two old men who cannot live without one another and yet\ncannot live happily in their codependence. We realize that they evoke any number of\ncodependent pairings—married couples\, children and parents\, warring brothers such as Jacob\nand Esau\, Samuel Beckett’s Vladimir and Estragon\, or Hamm and Clov. Thus this simple story\nof comic irony appeals to the archetype that most of us experience in our own lives.\nYeats’s stagecraft was influenced not only by the classical Greeks but also in certain cases\nby the Japanese forms of Noh and Kyogen that combine the irony of inevitable absurdity and\nprofound suffering\, despair and hope\, rancor and forgiveness.
URL:https://westbeth.org/event/the-cat-and-the-moonone-act-play-by-w-b-yeatsdirected-by-alison-armstrong/
LOCATION:Westbeth Community Room
CATEGORIES:past-events
ATTACH;FMTTYPE=image/jpeg:https://westbeth.org/wp-content/uploads/2025/09/Alison-Armstrong-SQ-Cat-and-Moon.jpg
END:VEVENT
BEGIN:VEVENT
DTSTART;TZID=America/New_York:20241119T190000
DTEND;TZID=America/New_York:20241119T210000
DTSTAMP:20260423T113554
CREATED:20241103T003916Z
LAST-MODIFIED:20241124T222017Z
UID:10000673-1732042800-1732050000@westbeth.org
SUMMARY:W B Yeats Reading:  "Pot of Broth"  with Terence Burk\, Beth Griffith\, Joel Rooks. Presented by Alison Armstrong
DESCRIPTION:Click to enlarge  Tuesday Nov 19\, 2024 at 7pm \nFREE  \nWestbeth Community Room\n155 Bank St\nenter through courtyard\nNew York\, NY 10014 \nPainting on Home Page by Jack Yeats \nWith Terence Buck\, Beth Griffith\, and Joel Rooks\nMusic by Sean O Riada\nPresented by Alison Armstrong \nTerence Burk TV credits include “Americas Most Wanted” “Third Watch” (Walsh) and “Law And Order” episodes: “C.O.D”.as Murray K.\, “Performance” as Mr. Marx. Besides acting\, also a playwright and novelist. His play “The Flower Palace\,” written while a member of City Rep. Theatre Co.\, was first performed in a reading two nights at Westbeth Theatre with the great Kate Reid and Helen Gallagher. He also toured the city in “The Marriage Proposal” by Chekhov\, for City Rep. and also toured twice with Brian Bedford with his one man Shakespeare show as Stage Manager at several universities in Canada and the U.S.\nBurk is currently working on a new novel as well as a screenplay for his first novel\, “Cast Iron Kate.” Westbeth Artist Page \nBeth Griffith actor\, musician\, singer has performed and toured extensively. She recently appeared in  the 2024 world premier of “Meltdown'” by Toby Armour at Theater for the New City. \nJoel Rooks has worked steadily in theatre\, both on and off Broadway as well as throughout the U.S. and overseas\, in addition to appearing in film and on TV\, he has played a character in  Grand Theft Auto V. Among a variety of roles\, Rooks has portrayed an Orthodox man visiting a brothel\, an Israeli intelligence officer\, and Sigmund Freud. And since the mid-2000s\, he has starred as George Burns in the one-man show “Say Goodnight Gracie: The Life\, Laughter and Love of George Burns and Gracie Allen” by Rupert Holmes. Rooks is a member of the faculty at the William Esper Studio and a member of the Ensemble Studio Theatre. His most recent appearance was on “The Marvelous Mrs Maisel”.Joel Rooks Interview \nAlison Armstrong’s life time involvement in Irish literature includes authoring\, The Joyce of Cooking (Station Hill Press\, 1986) and a volume of textual scholarship\, “The Herne’s Egg” by W.B. Yeats: The Manuscript Materials (Cornell Univ. Press\, 1993). Her essays and reviews have appeared in A Wake Newslitter\, Irish Literary Supplement\, James Joyce Literary Supplement\, American Arts Quarterly\, etc.; short fiction and poetry have been published in BOMB magazine\, Exquisite Corpse\, James Joyce Broadsheet\, Mid-American Review\, PN Review\, etc. A one act play\, “Ismene\,” – in a projected series of staged monologues — was published in Notre Dame Review (Summer 2009). Her paintings and small sculptures have been widely exhibited since 1980 and are held in many private collections.Spotlight Writers’ Room
URL:https://westbeth.org/event/alison-armstrong-presents-wb-yeats-the-pot-of-broth/
LOCATION:Westbeth Community Room
CATEGORIES:past-events
ATTACH;FMTTYPE=image/jpeg:https://westbeth.org/wp-content/uploads/2024/11/Alison-Broth-Yeats.jpg
END:VEVENT
BEGIN:VEVENT
DTSTART;TZID=America/New_York:20241029T193000
DTEND;TZID=America/New_York:20241029T210000
DTSTAMP:20260423T113554
CREATED:20241004T012806Z
LAST-MODIFIED:20241031T000425Z
UID:10000653-1730230200-1730235600@westbeth.org
SUMMARY:Swift & Yeats  A dialogueReaders Joel Rooks and Sean Gormley  Referee Alison Armstrong Presenter: Andrew McGowan
DESCRIPTION:Tues Oct 29\, 2024 at 7:30 – 9pm \nWestbeth Community Room\n155 Bank St\nenter through courtyard\nNew York\, NY
URL:https://westbeth.org/event/swift-yeats-a-dialoguereaders-joel-rooks-and-sean-gormley-referee-alison-armstrong-presenter-andrew-mcgowan/
LOCATION:Westbeth Community Room
CATEGORIES:past-events
ATTACH;FMTTYPE=image/png:https://westbeth.org/wp-content/uploads/2024/09/ALISON-SQ-ARMSTRONG-SWIFT-WBY-Dialogue.png
END:VEVENT
END:VCALENDAR