BEGIN:VCALENDAR
VERSION:2.0
PRODID:-//Westbeth - ECPv6.15.20//NONSGML v1.0//EN
CALSCALE:GREGORIAN
METHOD:PUBLISH
X-WR-CALNAME:Westbeth
X-ORIGINAL-URL:https://westbeth.org
X-WR-CALDESC:Events for Westbeth
REFRESH-INTERVAL;VALUE=DURATION:PT1H
X-Robots-Tag:noindex
X-PUBLISHED-TTL:PT1H
BEGIN:VTIMEZONE
TZID:America/New_York
BEGIN:DAYLIGHT
TZOFFSETFROM:-0500
TZOFFSETTO:-0400
TZNAME:EDT
DTSTART:20230312T070000
END:DAYLIGHT
BEGIN:STANDARD
TZOFFSETFROM:-0400
TZOFFSETTO:-0500
TZNAME:EST
DTSTART:20231105T060000
END:STANDARD
BEGIN:DAYLIGHT
TZOFFSETFROM:-0500
TZOFFSETTO:-0400
TZNAME:EDT
DTSTART:20240310T070000
END:DAYLIGHT
BEGIN:STANDARD
TZOFFSETFROM:-0400
TZOFFSETTO:-0500
TZNAME:EST
DTSTART:20241103T060000
END:STANDARD
BEGIN:DAYLIGHT
TZOFFSETFROM:-0500
TZOFFSETTO:-0400
TZNAME:EDT
DTSTART:20250309T070000
END:DAYLIGHT
BEGIN:STANDARD
TZOFFSETFROM:-0400
TZOFFSETTO:-0500
TZNAME:EST
DTSTART:20251102T060000
END:STANDARD
END:VTIMEZONE
BEGIN:VEVENT
DTSTART;VALUE=DATE:20241025
DTEND;VALUE=DATE:20241111
DTSTAMP:20260423T113528
CREATED:20240810T121212Z
LAST-MODIFIED:20241230T163031Z
UID:10000580-1729814400-1731283199@westbeth.org
SUMMARY:Global Art Project: CrossingBorders We Are All Immigrants
DESCRIPTION:NEW PHOTOS OF EXHIBITON\nClick Image to start Slideshow\n\n\n\n		\n				\n						\n			\n								\n			\n		\n							\n			\n				\n						\n			\n								\n			\n		\n							\n			\n				\n						\n			\n								\n			\n		\n							\n			\n				\n						\n			\n								\n			\n		\n							\n			\n				\n						\n			\n								\n			\n		\n							\n			\n				\n						\n			\n								\n			\n		\n							\n			\n				\n						\n			\n								\n			\n		\n							\n			\n				\n						\n			\n								\n			\n		\n							\n			\n				\n						\n			\n								\n			\n		\n							\n			\n				\n						\n			\n								\n			\n		\n							\n			\n				\n						\n			\n								\n			\n		\n							\n			\n				\n						\n			\n								\n			\n		\n							\n			\n				\n						\n			\n								\n			\n		\n							\n			\n				\n						\n			\n								\n			\n		\n							\n			\n				\n						\n			\n								\n			\n		\n							\n			\n	\n	\n\n	\n		\n			\n\nClick o enlarge \nOctober 25th -November 10th\, 2024\nOpening Reception\nFriday October 25th 6-8pm \nWestbeth Gallery\n55 Bethune Street at Washington\nNew York City \nExhibition Hours\nWednesday – Sunday\n1-6pm and by appointment\n\nCurators: Carl Heyward\, Akiko Suzuki\, Mikel Frank\, Joanne Rogers \n \n Inspirational 89 Art Magazine features a profusely illustrated article on the exhibition. GLOBAL ART BORDERS #inspirational 89 – GAP feature \n \nClick to enlarge \nCrossingBorders: WE ARE ALL IMMIGRANTS\nAn exhibition of works by members of Global Art Project\, an international multimedia collaborative collective with over 90 members operating in 19 different countries.\nExhibition Concept: \nThe Borders are wide\, various\, concrete and philosophical\, offering an illusion of safety and definitive organization of reality buttressed by or colliding with the shifts in perception\, power alignments\, cultural imperatives and agendas at play at any given moment both on the international and the personal\, subjective stage.\nBorders as a theme not defined\, but implied. The obvious way to look at Borders is as it relates to geographic demarcation and via socio-political implications\,however\, the artists in this exhibition take it one step further examining Borders that confound and limit us personally; Borders to be psychologically challenged\, broken through and/or accepted.\nCrossingBorders: WE ARE ALL IMMIGRANTS poses the question\, “Where can we find a safe haven?”\nWith immigration looming large as a hot button item politically\, polarizing as well as unifying\, this exhibition will touch demonstrate the many ways artists create works that deal with this question. From the lack of compassion to international and jurisdictional walls being built\, the exhibiting artists dive deeply into depictions of ethnocentric responses and unreasonable blockages to the ever present desperation of immigrants trying to find a home/country they can feel safe in when they do not feel safe in their own. \nIn photographs\, paintings\, monumental sculptures\, installations and performance CrossingBorders offers insight into concerns ranging from gender transformation\, the Atlantic slave trade\, the DNA of consolodation as well as the immigrant at the border\, on the shore welcomed or washed out.\nThe Westbeth exhibition is curated by artist Carl Heyward and GAP founding member Akiko Suzuki. \nClick to enlarge \n*CrossingBorders travels to Nine Eighteen Nine Studio Gallery in Charlotte\, NC with artist Mikel Frank and VAPA co-founder and director of the gallery Joanne Rogers joining the curatorial team November 16\, 2024 -January 4th\, 2025.*\n“What Borders are you willing to cross?”\nAdditional info/photos/interviews upon request: \nartspeak2020@yahoo.com\nGLOBAL ART PROJECT \nhttps://www.instagram.com/globalartproject/\nhttps://globartproject.wixsite.com/globalartproject-art\nShow Preview\nClick image for slide show
URL:https://westbeth.org/event/global-art-project-presents-crossing-borders-we-are-all-immigrants/
LOCATION:Westbeth Gallery
CATEGORIES:Current,past-events
ATTACH;FMTTYPE=image/jpeg:https://westbeth.org/wp-content/uploads/2024/06/GLOBAL-SQ-ART-PROJET-SIGN-CROSSING-FLYER-LOGO-BORDERS_Mesa-de-trabajo-1-copia-2.jpg
GEO:40.737051566887;-74.009218415339
END:VEVENT
END:VCALENDAR