BEGIN:VCALENDAR
VERSION:2.0
PRODID:-//Westbeth - ECPv6.15.20//NONSGML v1.0//EN
CALSCALE:GREGORIAN
METHOD:PUBLISH
X-ORIGINAL-URL:https://westbeth.org
X-WR-CALDESC:Events for Westbeth
REFRESH-INTERVAL;VALUE=DURATION:PT1H
X-Robots-Tag:noindex
X-PUBLISHED-TTL:PT1H
BEGIN:VTIMEZONE
TZID:America/New_York
BEGIN:DAYLIGHT
TZOFFSETFROM:-0500
TZOFFSETTO:-0400
TZNAME:EDT
DTSTART:20250309T070000
END:DAYLIGHT
BEGIN:STANDARD
TZOFFSETFROM:-0400
TZOFFSETTO:-0500
TZNAME:EST
DTSTART:20251102T060000
END:STANDARD
BEGIN:DAYLIGHT
TZOFFSETFROM:-0500
TZOFFSETTO:-0400
TZNAME:EDT
DTSTART:20260308T070000
END:DAYLIGHT
BEGIN:STANDARD
TZOFFSETFROM:-0400
TZOFFSETTO:-0500
TZNAME:EST
DTSTART:20261101T060000
END:STANDARD
BEGIN:DAYLIGHT
TZOFFSETFROM:-0500
TZOFFSETTO:-0400
TZNAME:EDT
DTSTART:20270314T070000
END:DAYLIGHT
BEGIN:STANDARD
TZOFFSETFROM:-0400
TZOFFSETTO:-0500
TZNAME:EST
DTSTART:20271107T060000
END:STANDARD
END:VTIMEZONE
BEGIN:VEVENT
DTSTART;TZID=America/New_York:20260209T080000
DTEND;TZID=America/New_York:20260630T170000
DTSTAMP:20260423T113815
CREATED:20260210T031422Z
LAST-MODIFIED:20260402T032444Z
UID:10000959-1770624000-1782838800@westbeth.org
SUMMARY:2026 Westbeth Classes and Workshops Sing Time Sessions\, Feldenkrais\, Meditation\,
DESCRIPTION:Click Imsge to enlarge \nSINGTIME SESSIONS\nFree No experience necessary\nFridays 4:30pm – 5:30pm FREE\nWestbeth Community Room\n155 Bank St (enter through courtyard)\nNew York\, NY 10014\nEve Zanni is an original jazz voice\, warm and expressive with a sensual musicality…traversing the primal depths of great jazz standards and original compositions in a blend of her unique arrangements that embrace classic jazz\, Brasilian\, Afro-Cuban\, Celtic and Middle-eastern rhythms….all sung with passion and romantic soul.\nMore about Eve Zanni HERE\nContact Eve Zanni 212 228 1141 westbethmusicworks@gmail.com \n \nClick image to enlarge\n FELDENKRAIS\nThursdays at 4 p.m. in the Westbeth Community Room \n155 Bank St.\nWe ask for a $5 donation and that you wear comfortable clothing. \nThere is a massive amount of construction work going on at Westbeth ; please don’t be daunted by the scaffolding and fences in the courtyard – the community room is still accessible. \nContact: Sandra Kingsbury slkingsbury189@gmail.com\nSponsore by Westbeth Beautification Committe \n \nClick image to enlarge \nMEDITATION\nWelcome / Free \nWestbeth Community Room\n155 Bank St\n(enter through courtyard)\nNew York\, NY 10014 \nTuesdays 4:30 – 5:30pm\nNov 11\, 2025 – May 19\, 2026 \n 
URL:https://westbeth.org/event/westbeth-oac-activities-and-monthly-highlights-lunch-classesfield-trips-and-more/
LOCATION:Westbeth Community Room
CATEGORIES:community-home
ATTACH;FMTTYPE=image/jpeg:https://westbeth.org/wp-content/uploads/2026/02/Westbeth-CLASSES-REV.jpg
END:VEVENT
BEGIN:VEVENT
DTSTART;TZID=America/New_York:20260307T133000
DTEND;TZID=America/New_York:20260502T150000
DTSTAMP:20260423T113815
CREATED:20260210T175044Z
LAST-MODIFIED:20260210T175254Z
UID:10000960-1772890200-1777734000@westbeth.org
SUMMARY:Willow Arts  Arts Access for All Spring 2026 Classes
DESCRIPTION:REGISTER NOW!\nClick images to enlarge
URL:https://westbeth.org/event/westbeth-oac-activities-and-monthly-highlights-lunch-classesfield-trips-and-more/
LOCATION:Pier 57 Community Classrooms\, NYC
CATEGORIES:community-home
ATTACH;FMTTYPE=image/jpeg:https://westbeth.org/wp-content/uploads/2026/02/Willow-Arts-SQ-Spring-Programming-2026-scaled.jpg
END:VEVENT
BEGIN:VEVENT
DTSTART;TZID=America/New_York:20260613T080000
DTEND;TZID=America/New_York:20260613T170000
DTSTAMP:20260423T113815
CREATED:20260301T215241Z
LAST-MODIFIED:20260301T215515Z
UID:10000978-1781337600-1781370000@westbeth.org
SUMMARY:Tell Us Your StoriesReminiscence and Storytelling Workshop for 60 and over FREE
DESCRIPTION:
URL:https://westbeth.org/event/westbeth-oac-activities-and-monthly-highlights-lunch-classesfield-trips-and-more/
LOCATION:Older Adult Center at Westbeth
CATEGORIES:community-home
ATTACH;FMTTYPE=image/jpeg:https://westbeth.org/wp-content/uploads/2026/03/ORAL-STORIES-SQ-Su-Casa-Flyer-Final.jpg
END:VEVENT
END:VCALENDAR