BEGIN:VCALENDAR
VERSION:2.0
PRODID:-//Westbeth - ECPv6.15.20//NONSGML v1.0//EN
CALSCALE:GREGORIAN
METHOD:PUBLISH
X-WR-CALNAME:Westbeth
X-ORIGINAL-URL:https://westbeth.org
X-WR-CALDESC:Events for Westbeth
REFRESH-INTERVAL;VALUE=DURATION:PT1H
X-Robots-Tag:noindex
X-PUBLISHED-TTL:PT1H
BEGIN:VTIMEZONE
TZID:America/New_York
BEGIN:DAYLIGHT
TZOFFSETFROM:-0500
TZOFFSETTO:-0400
TZNAME:EDT
DTSTART:20250309T070000
END:DAYLIGHT
BEGIN:STANDARD
TZOFFSETFROM:-0400
TZOFFSETTO:-0500
TZNAME:EST
DTSTART:20251102T060000
END:STANDARD
BEGIN:DAYLIGHT
TZOFFSETFROM:-0500
TZOFFSETTO:-0400
TZNAME:EDT
DTSTART:20260308T070000
END:DAYLIGHT
BEGIN:STANDARD
TZOFFSETFROM:-0400
TZOFFSETTO:-0500
TZNAME:EST
DTSTART:20261101T060000
END:STANDARD
BEGIN:DAYLIGHT
TZOFFSETFROM:-0500
TZOFFSETTO:-0400
TZNAME:EDT
DTSTART:20270314T070000
END:DAYLIGHT
BEGIN:STANDARD
TZOFFSETFROM:-0400
TZOFFSETTO:-0500
TZNAME:EST
DTSTART:20271107T060000
END:STANDARD
END:VTIMEZONE
BEGIN:VEVENT
DTSTART;TZID=America/New_York:20260421T190000
DTEND;TZID=America/New_York:20260421T200000
DTSTAMP:20260423T110716
CREATED:20260416T153723Z
LAST-MODIFIED:20260416T204856Z
UID:10001000-1776798000-1776801600@westbeth.org
SUMMARY:Introduction to Hieroglyphs for MagiciansTamara Wyndham
DESCRIPTION:Tuesday April 21\, 2026 at 7pm \nWestbeth Community Room 155 Bank Street (enter through courtyard) New York\, NY 10014 \nTamara Wyndham  will give an introduction to the basics of reading Egyptian Hieroglyphs\, and how they were used in magick. \nThe word “Hieroglyph” means “sacred inscription”. Myth informs us that it was a gift to humanity from the God Tahuti (Thoth). This beautiful writing is a complex system of sound-signs and ideograms. We will go over the basic principles of hieroglyphs. You will learn how to write your name\, the names of some of the Gods\, and some basic vocabulary. We will examine how hieroglyphs were used in spells and as amulets. \nWe will also read the hieroglyphs on the Stele of Revealing. And I have an exciting new translation of the part of the stele by scholar B Niall Bjørn Nielsen.
URL:https://westbeth.org/event/introduction-to-hieroglyphs-for-magicianstamara-wyndham/
LOCATION:Westbeth Community Room
CATEGORIES:Com-room
ATTACH;FMTTYPE=image/jpeg:https://westbeth.org/wp-content/uploads/2026/04/Hieroglyphs-SQ-for-Magicians-Color-Flyer.jpg
END:VEVENT
BEGIN:VEVENT
DTSTART;VALUE=DATE:20260418
DTEND;VALUE=DATE:20260420
DTSTAMP:20260423T110716
CREATED:20260403T010321Z
LAST-MODIFIED:20260403T010437Z
UID:10000993-1776470400-1776643199@westbeth.org
SUMMARY:RePurpose ReNew ReWear Returns! New Clothes from Old!
DESCRIPTION:Two Day FREE Workshop\nSaturday April 18 and Sunday April 19\, 2026 \nLast in the series! Join fashion designer Ben Mach for this collaborative workshop where sustainability meets style. \nFollow the link to fill out the registration form: LINK \nClick image to enlarge
URL:https://westbeth.org/event/repurpose-renew-rewear-returns-new-clothes-from-old/
LOCATION:Westbeth Community Room
CATEGORIES:Com-room
ATTACH;FMTTYPE=image/png:https://westbeth.org/wp-content/uploads/2026/04/repurpose-SQ-night-april.png
END:VEVENT
END:VCALENDAR